BEGIN:VCALENDAR
VERSION:2.0
PRODID:-//Ludlow-Taylor Elementary School - ECPv6.15.20//NONSGML v1.0//EN
CALSCALE:GREGORIAN
METHOD:PUBLISH
X-ORIGINAL-URL:https://www.ludlowtaylor.org
X-WR-CALDESC:Events for Ludlow-Taylor Elementary School
REFRESH-INTERVAL;VALUE=DURATION:PT1H
X-Robots-Tag:noindex
X-PUBLISHED-TTL:PT1H
BEGIN:VTIMEZONE
TZID:America/New_York
BEGIN:DAYLIGHT
TZOFFSETFROM:-0500
TZOFFSETTO:-0400
TZNAME:EDT
DTSTART:20240310T070000
END:DAYLIGHT
BEGIN:STANDARD
TZOFFSETFROM:-0400
TZOFFSETTO:-0500
TZNAME:EST
DTSTART:20241103T060000
END:STANDARD
BEGIN:DAYLIGHT
TZOFFSETFROM:-0500
TZOFFSETTO:-0400
TZNAME:EDT
DTSTART:20250309T070000
END:DAYLIGHT
BEGIN:STANDARD
TZOFFSETFROM:-0400
TZOFFSETTO:-0500
TZNAME:EST
DTSTART:20251102T060000
END:STANDARD
BEGIN:DAYLIGHT
TZOFFSETFROM:-0500
TZOFFSETTO:-0400
TZNAME:EDT
DTSTART:20260308T070000
END:DAYLIGHT
BEGIN:STANDARD
TZOFFSETFROM:-0400
TZOFFSETTO:-0500
TZNAME:EST
DTSTART:20261101T060000
END:STANDARD
END:VTIMEZONE
BEGIN:VEVENT
DTSTART;VALUE=DATE:20250302
DTEND;VALUE=DATE:20250304
DTSTAMP:20260422T031605
CREATED:20240927T053837Z
LAST-MODIFIED:20240927T053837Z
UID:4531-1740942000-1741028399@www.ludlowtaylor.org
SUMMARY:Read Across America Day
DESCRIPTION:
URL:https://www.ludlowtaylor.org/event/read-across-america-day/
END:VEVENT
BEGIN:VEVENT
DTSTART;VALUE=DATE:20250303
DTEND;VALUE=DATE:20250305
DTSTAMP:20260422T031605
CREATED:20240927T053937Z
LAST-MODIFIED:20240927T053937Z
UID:4533-1741028400-1741114799@www.ludlowtaylor.org
SUMMARY:Mardi Gras
DESCRIPTION:
URL:https://www.ludlowtaylor.org/event/mardi-gras/
CATEGORIES:Holidays
END:VEVENT
BEGIN:VEVENT
DTSTART;VALUE=DATE:20250304
DTEND;VALUE=DATE:20250306
DTSTAMP:20260422T031605
CREATED:20250211T002019Z
LAST-MODIFIED:20250220T082220Z
UID:5146-1741114800-1741201199@www.ludlowtaylor.org
SUMMARY:NEW DATE: ECE Committee Meeting (virtual) – 7:30 PM
DESCRIPTION:Rescheduled due to Pancakes and Literacy Date change. Open to the community. Join us on Zoom.
URL:https://www.ludlowtaylor.org/event/ece-committee-meeting-virtual-730-pm/
END:VEVENT
BEGIN:VEVENT
DTSTART;VALUE=DATE:20250305
DTEND;VALUE=DATE:20250307
DTSTAMP:20260422T031605
CREATED:20240929T062513Z
LAST-MODIFIED:20240929T062513Z
UID:4645-1741201200-1741287599@www.ludlowtaylor.org
SUMMARY:LSAT Meeting - virtual (6:30PM)
DESCRIPTION:
URL:https://www.ludlowtaylor.org/event/lsat-meeting-virtual-630pm-6/
CATEGORIES:LSAT
END:VEVENT
BEGIN:VEVENT
DTSTART;VALUE=DATE:20250306
DTEND;VALUE=DATE:20250308
DTSTAMP:20260422T031605
CREATED:20240927T063351Z
LAST-MODIFIED:20240927T063351Z
UID:4594-1741287600-1741373999@www.ludlowtaylor.org
SUMMARY:Coffee Talk (8:30AM)
DESCRIPTION:Join us for a Q&A session with Principal Miller. Come with your questions!
URL:https://www.ludlowtaylor.org/event/coffee-talk-830am-6/
END:VEVENT
BEGIN:VEVENT
DTSTART;VALUE=DATE:20250312
DTEND;VALUE=DATE:20250314
DTSTAMP:20260422T031605
CREATED:20240927T054036Z
LAST-MODIFIED:20240927T054036Z
UID:4535-1741809600-1741895999@www.ludlowtaylor.org
SUMMARY:NO SCHOOL
DESCRIPTION:
URL:https://www.ludlowtaylor.org/event/no-school-18/
END:VEVENT
BEGIN:VEVENT
DTSTART;VALUE=DATE:20250313
DTEND;VALUE=DATE:20250315
DTSTAMP:20260422T031605
CREATED:20240927T054139Z
LAST-MODIFIED:20240927T054139Z
UID:4537-1741896000-1741982399@www.ludlowtaylor.org
SUMMARY:NO SCHOOL | Pi Day
DESCRIPTION:
URL:https://www.ludlowtaylor.org/event/no-school-pi-day/
END:VEVENT
BEGIN:VEVENT
DTSTART;VALUE=DATE:20250316
DTEND;VALUE=DATE:20250318
DTSTAMP:20260422T031605
CREATED:20240927T054230Z
LAST-MODIFIED:20240927T054230Z
UID:4539-1742155200-1742241599@www.ludlowtaylor.org
SUMMARY:St. Patrick’s Day
DESCRIPTION:
URL:https://www.ludlowtaylor.org/event/st-patricks-day/
CATEGORIES:Holidays
END:VEVENT
BEGIN:VEVENT
DTSTART;VALUE=DATE:20250319
DTEND;VALUE=DATE:20250321
DTSTAMP:20260422T031605
CREATED:20240929T061819Z
LAST-MODIFIED:20240929T061819Z
UID:4633-1742414400-1742500799@www.ludlowtaylor.org
SUMMARY:PTO Meeting (6PM)
DESCRIPTION:
URL:https://www.ludlowtaylor.org/event/pto-meeting-6pm-3/
CATEGORIES:PTO
END:VEVENT
BEGIN:VEVENT
DTSTART;VALUE=DATE:20250326
DTEND;VALUE=DATE:20250328
DTSTAMP:20260422T031605
CREATED:20240929T063653Z
LAST-MODIFIED:20240929T063653Z
UID:4661-1743019200-1743105599@www.ludlowtaylor.org
SUMMARY:International Night
DESCRIPTION:
URL:https://www.ludlowtaylor.org/event/international-night/
END:VEVENT
BEGIN:VEVENT
DTSTART;VALUE=DATE:20250330
DTEND;VALUE=DATE:20250401
DTSTAMP:20260422T031605
CREATED:20240927T054403Z
LAST-MODIFIED:20240927T054403Z
UID:4541-1743364800-1743451199@www.ludlowtaylor.org
SUMMARY:First Night of Eid al-Fitr
DESCRIPTION:
URL:https://www.ludlowtaylor.org/event/first-night-of-eid-al-fitr/
CATEGORIES:Holidays
END:VEVENT
BEGIN:VEVENT
DTSTART;VALUE=DATE:20250331
DTEND;VALUE=DATE:20250402
DTSTAMP:20260422T031605
CREATED:20240927T054741Z
LAST-MODIFIED:20240927T054741Z
UID:4543-1743451200-1743537599@www.ludlowtaylor.org
SUMMARY:Class Picture Day | April Fool's Day
DESCRIPTION:
URL:https://www.ludlowtaylor.org/event/class-picture-day-april-fools-day/
END:VEVENT
END:VCALENDAR