BEGIN:VCALENDAR
VERSION:2.0
PRODID:-//Ludlow-Taylor Elementary School - ECPv6.15.20//NONSGML v1.0//EN
CALSCALE:GREGORIAN
METHOD:PUBLISH
X-WR-CALNAME:Ludlow-Taylor Elementary School
X-ORIGINAL-URL:https://www.ludlowtaylor.org
X-WR-CALDESC:Events for Ludlow-Taylor Elementary School
REFRESH-INTERVAL;VALUE=DURATION:PT1H
X-Robots-Tag:noindex
X-PUBLISHED-TTL:PT1H
BEGIN:VTIMEZONE
TZID:America/New_York
BEGIN:DAYLIGHT
TZOFFSETFROM:-0500
TZOFFSETTO:-0400
TZNAME:EDT
DTSTART:20230312T070000
END:DAYLIGHT
BEGIN:STANDARD
TZOFFSETFROM:-0400
TZOFFSETTO:-0500
TZNAME:EST
DTSTART:20231105T060000
END:STANDARD
BEGIN:DAYLIGHT
TZOFFSETFROM:-0500
TZOFFSETTO:-0400
TZNAME:EDT
DTSTART:20240310T070000
END:DAYLIGHT
BEGIN:STANDARD
TZOFFSETFROM:-0400
TZOFFSETTO:-0500
TZNAME:EST
DTSTART:20241103T060000
END:STANDARD
BEGIN:DAYLIGHT
TZOFFSETFROM:-0500
TZOFFSETTO:-0400
TZNAME:EDT
DTSTART:20250309T070000
END:DAYLIGHT
BEGIN:STANDARD
TZOFFSETFROM:-0400
TZOFFSETTO:-0500
TZNAME:EST
DTSTART:20251102T060000
END:STANDARD
END:VTIMEZONE
BEGIN:VEVENT
DTSTART;VALUE=DATE:20240401
DTEND;VALUE=DATE:20240403
DTSTAMP:20260425T093035
CREATED:20240403T191946Z
LAST-MODIFIED:20240403T191946Z
UID:3535-1712001600-1712087999@www.ludlowtaylor.org
SUMMARY:Class Photo Day
DESCRIPTION:
URL:https://www.ludlowtaylor.org/event/class-photo-day/
END:VEVENT
BEGIN:VEVENT
DTSTART;VALUE=DATE:20240402
DTEND;VALUE=DATE:20240404
DTSTAMP:20260425T093035
CREATED:20240403T192323Z
LAST-MODIFIED:20240403T192323Z
UID:3542-1712088000-1712174399@www.ludlowtaylor.org
SUMMARY:Paraprofessional Appreciation Day
DESCRIPTION:
URL:https://www.ludlowtaylor.org/event/paraprofessional-appreciation-day/
END:VEVENT
BEGIN:VEVENT
DTSTART;VALUE=DATE:20240403
DTEND;VALUE=DATE:20240405
DTSTAMP:20260425T093035
CREATED:20240403T190236Z
LAST-MODIFIED:20240403T191504Z
UID:3521-1712174400-1712260799@www.ludlowtaylor.org
SUMMARY:Trivia Night @ Queen Vic for Second Grade Families (6:15-7:30PM)
DESCRIPTION:
URL:https://www.ludlowtaylor.org/event/trivia-night-queen-vic-for-second-grade-families-615-730pm/
END:VEVENT
BEGIN:VEVENT
DTSTART;VALUE=DATE:20240404
DTEND;VALUE=DATE:20240406
DTSTAMP:20260425T093035
CREATED:20240201T201024Z
LAST-MODIFIED:20240403T190356Z
UID:2954-1712260800-1712347199@www.ludlowtaylor.org
SUMMARY:NO SCHOOL (Professional Development)
DESCRIPTION:
URL:https://www.ludlowtaylor.org/event/no-school-professional-development/
END:VEVENT
BEGIN:VEVENT
DTSTART;VALUE=DATE:20240405
DTEND;VALUE=DATE:20240407
DTSTAMP:20260425T093035
CREATED:20231103T104011Z
LAST-MODIFIED:20240403T191206Z
UID:2575-1712347200-1712433599@www.ludlowtaylor.org
SUMMARY:Grounds Work Day + Great Ward 6 Clean-Up (10AM-12PM)
DESCRIPTION:
URL:https://www.ludlowtaylor.org/event/grounds-clean-up-day-10am-12pm/
END:VEVENT
BEGIN:VEVENT
DTSTART;VALUE=DATE:20240408
DTEND;VALUE=DATE:20240410
DTSTAMP:20260425T093035
CREATED:20240301T235757Z
LAST-MODIFIED:20240403T191023Z
UID:3258-1712606400-1712692799@www.ludlowtaylor.org
SUMMARY:Auction Committee Meeting (7PM)
DESCRIPTION:Join us at 7PM at Fresca for this month’s meeting! \nWith only a few weeks left until the auction\, we need all the help we can get to plan this event! Questions? Reach out to auction@ludlowtaylor.org
URL:https://www.ludlowtaylor.org/event/auction-committee-meeting-7pm/
END:VEVENT
BEGIN:VEVENT
DTSTART;VALUE=DATE:20240408
DTEND;VALUE=DATE:20240410
DTSTAMP:20260425T093035
CREATED:20240403T191918Z
LAST-MODIFIED:20240403T203506Z
UID:3533-1712606400-1712692799@www.ludlowtaylor.org
SUMMARY:Accepted Families Tour (9AM)
DESCRIPTION:Welcome to Ludlow-Taylor! Please RSVP for our Open House so we can plan the appropriate number of tour guides.
URL:https://www.ludlowtaylor.org/event/accepted-families-tour-9am/
END:VEVENT
BEGIN:VEVENT
DTSTART;VALUE=DATE:20240411
DTEND;VALUE=DATE:20240413
DTSTAMP:20260425T093035
CREATED:20240403T191718Z
LAST-MODIFIED:20240403T191718Z
UID:3528-1712865600-1712951999@www.ludlowtaylor.org
SUMMARY:ECE Family BBQ (11:30AM-1PM)
DESCRIPTION:
URL:https://www.ludlowtaylor.org/event/ece-family-bbq-1130am-1pm/
END:VEVENT
BEGIN:VEVENT
DTSTART;VALUE=DATE:20240414
DTEND;VALUE=DATE:20240420
DTSTAMP:20260425T093035
CREATED:20230929T091246Z
LAST-MODIFIED:20240403T191403Z
UID:2454-1713124800-1713556799@www.ludlowtaylor.org
SUMMARY:NO SCHOOL (Spring Break)
DESCRIPTION:
URL:https://www.ludlowtaylor.org/event/no-school-2/
CATEGORIES:Holidays
END:VEVENT
BEGIN:VEVENT
DTSTART;VALUE=DATE:20240415
DTEND;VALUE=DATE:20240417
DTSTAMP:20260425T093035
CREATED:20240403T192204Z
LAST-MODIFIED:20240403T192254Z
UID:3540-1713211200-1713297599@www.ludlowtaylor.org
SUMMARY:D.C. Emancipation Day
DESCRIPTION:
URL:https://www.ludlowtaylor.org/event/d-c-emancipation-day/
END:VEVENT
BEGIN:VEVENT
DTSTART;VALUE=DATE:20240421
DTEND;VALUE=DATE:20240423
DTSTAMP:20260425T093035
CREATED:20240403T192044Z
LAST-MODIFIED:20240403T192127Z
UID:3537-1713729600-1713815999@www.ludlowtaylor.org
SUMMARY:Earth Day
DESCRIPTION:
URL:https://www.ludlowtaylor.org/event/earth-day/
END:VEVENT
BEGIN:VEVENT
DTSTART;VALUE=DATE:20240426
DTEND;VALUE=DATE:20240428
DTSTAMP:20260425T093035
CREATED:20240403T191808Z
LAST-MODIFIED:20240403T191808Z
UID:3531-1714161600-1714247999@www.ludlowtaylor.org
SUMMARY:Warriors' Night Out: Annual Auction & Gala Event
DESCRIPTION:
URL:https://www.ludlowtaylor.org/event/warriors-night-out-annual-auction-gala-event/
END:VEVENT
END:VCALENDAR