BEGIN:VCALENDAR
VERSION:2.0
PRODID:-//Ludlow-Taylor Elementary School - ECPv6.15.20//NONSGML v1.0//EN
CALSCALE:GREGORIAN
METHOD:PUBLISH
X-WR-CALNAME:Ludlow-Taylor Elementary School
X-ORIGINAL-URL:https://www.ludlowtaylor.org
X-WR-CALDESC:Events for Ludlow-Taylor Elementary School
REFRESH-INTERVAL;VALUE=DURATION:PT1H
X-Robots-Tag:noindex
X-PUBLISHED-TTL:PT1H
BEGIN:VTIMEZONE
TZID:America/New_York
BEGIN:DAYLIGHT
TZOFFSETFROM:-0500
TZOFFSETTO:-0400
TZNAME:EDT
DTSTART:20230312T070000
END:DAYLIGHT
BEGIN:STANDARD
TZOFFSETFROM:-0400
TZOFFSETTO:-0500
TZNAME:EST
DTSTART:20231105T060000
END:STANDARD
BEGIN:DAYLIGHT
TZOFFSETFROM:-0500
TZOFFSETTO:-0400
TZNAME:EDT
DTSTART:20240310T070000
END:DAYLIGHT
BEGIN:STANDARD
TZOFFSETFROM:-0400
TZOFFSETTO:-0500
TZNAME:EST
DTSTART:20241103T060000
END:STANDARD
BEGIN:DAYLIGHT
TZOFFSETFROM:-0500
TZOFFSETTO:-0400
TZNAME:EDT
DTSTART:20250309T070000
END:DAYLIGHT
BEGIN:STANDARD
TZOFFSETFROM:-0400
TZOFFSETTO:-0500
TZNAME:EST
DTSTART:20251102T060000
END:STANDARD
END:VTIMEZONE
BEGIN:VEVENT
DTSTART;VALUE=DATE:20240229
DTEND;VALUE=DATE:20240302
DTSTAMP:20260425T110608
CREATED:20240201T203418Z
LAST-MODIFIED:20240201T203418Z
UID:2972-1709233200-1709319599@www.ludlowtaylor.org
SUMMARY:Black History Month Spirit Week: All Black Everything Day
DESCRIPTION:
URL:https://www.ludlowtaylor.org/event/black-history-month-spirit-week-all-black-everything-day/
END:VEVENT
BEGIN:VEVENT
DTSTART;VALUE=DATE:20240229
DTEND;VALUE=DATE:20240302
DTSTAMP:20260425T110608
CREATED:20240301T022036Z
LAST-MODIFIED:20240301T022036Z
UID:3255-1709233200-1709319599@www.ludlowtaylor.org
SUMMARY:Coffee & Doughnuts w/ Principal Miller (8:30AM)
DESCRIPTION:Join us for a Q&A session with Principal Miller. Come with your questions or submit them in advance online.
URL:https://www.ludlowtaylor.org/event/coffee-doughnuts-w-principal-miller-830am-3/
END:VEVENT
BEGIN:VEVENT
DTSTART;VALUE=DATE:20240307
DTEND;VALUE=DATE:20240309
DTSTAMP:20260425T110608
CREATED:20231213T225625Z
LAST-MODIFIED:20240304T193839Z
UID:2770-1709838000-1709924399@www.ludlowtaylor.org
SUMMARY:Registration for Future Stars Session 3 Opens
DESCRIPTION:Registrations for Session 3 of The Future Stars Enrichment Program opens on Friday\, March 8 at 5:00PM. Review options and plan your schedule with the  Future Stars Session 3 brochure. \n 
URL:https://www.ludlowtaylor.org/event/registration-for-future-stars-session-3-opens/
END:VEVENT
BEGIN:VEVENT
DTSTART;VALUE=DATE:20240313
DTEND;VALUE=DATE:20240315
DTSTAMP:20260425T110608
CREATED:20230929T090413Z
LAST-MODIFIED:20240304T194036Z
UID:2439-1710360000-1710446399@www.ludlowtaylor.org
SUMMARY:NO SCHOOL: Parent-Teacher Conferences
DESCRIPTION:
URL:https://www.ludlowtaylor.org/event/parent-teacher-conferences/
END:VEVENT
BEGIN:VEVENT
DTSTART;VALUE=DATE:20240320
DTEND;VALUE=DATE:20240322
DTSTAMP:20260425T110608
CREATED:20240301T005846Z
LAST-MODIFIED:20240301T011533Z
UID:3242-1710964800-1711051199@www.ludlowtaylor.org
SUMMARY:International Night (6-8PM)
DESCRIPTION:This long-standing school tradition is one of the most fun events at L-T and not a night you want to miss!!!\n  \nDuring International Night\, we have tables throughout the school representing various countries.  These tables are sponsored by parents and teachers.\n\n\n\n\nPlease consider sponsoring a table to share more about your nationality\, culture or heritage in any way you want (e.g.: food\, national attire\, jewelry\, art\,  games\, songs\, dances\, photographs\, videos\, poster/display\, maps\, flags\, money\, activities\, etc). We are hoping to have as many countries as possible represented! SIGN UP FOR A TABLE HERE\n  \n\nThis is also a great opportunity to meet new members of our community as multiple families and teachers can sponsor the same country.  We will put everyone associated with the same country in touch next week so you can coordinate.  And if you are new to L-T or haven’t been to International Night and have any questions about sponsoring a table\, please reach out to Lauren McDermott at lamendo@gmail.com.  We are hoping to have all of our tables finalized by next week! \n\nSIGN UP FOR A TABLE HERE
URL:https://www.ludlowtaylor.org/event/international-night-6-8pm/
END:VEVENT
END:VCALENDAR