BEGIN:VCALENDAR
VERSION:2.0
PRODID:-//Ludlow-Taylor Elementary School - ECPv6.15.20//NONSGML v1.0//EN
CALSCALE:GREGORIAN
METHOD:PUBLISH
X-WR-CALNAME:Ludlow-Taylor Elementary School
X-ORIGINAL-URL:https://www.ludlowtaylor.org
X-WR-CALDESC:Events for Ludlow-Taylor Elementary School
REFRESH-INTERVAL;VALUE=DURATION:PT1H
X-Robots-Tag:noindex
X-PUBLISHED-TTL:PT1H
BEGIN:VTIMEZONE
TZID:America/New_York
BEGIN:DAYLIGHT
TZOFFSETFROM:-0500
TZOFFSETTO:-0400
TZNAME:EDT
DTSTART:20230312T070000
END:DAYLIGHT
BEGIN:STANDARD
TZOFFSETFROM:-0400
TZOFFSETTO:-0500
TZNAME:EST
DTSTART:20231105T060000
END:STANDARD
BEGIN:DAYLIGHT
TZOFFSETFROM:-0500
TZOFFSETTO:-0400
TZNAME:EDT
DTSTART:20240310T070000
END:DAYLIGHT
BEGIN:STANDARD
TZOFFSETFROM:-0400
TZOFFSETTO:-0500
TZNAME:EST
DTSTART:20241103T060000
END:STANDARD
BEGIN:DAYLIGHT
TZOFFSETFROM:-0500
TZOFFSETTO:-0400
TZNAME:EDT
DTSTART:20250309T070000
END:DAYLIGHT
BEGIN:STANDARD
TZOFFSETFROM:-0400
TZOFFSETTO:-0500
TZNAME:EST
DTSTART:20251102T060000
END:STANDARD
END:VTIMEZONE
BEGIN:VEVENT
DTSTART;VALUE=DATE:20240201
DTEND;VALUE=DATE:20240203
DTSTAMP:20260425T123910
CREATED:20240201T200341Z
LAST-MODIFIED:20240201T200341Z
UID:2947-1706814000-1706900399@www.ludlowtaylor.org
SUMMARY:Groundhog Day
DESCRIPTION:
URL:https://www.ludlowtaylor.org/event/groundhog-day/
END:VEVENT
BEGIN:VEVENT
DTSTART;VALUE=DATE:20240205
DTEND;VALUE=DATE:20240207
DTSTAMP:20260425T123910
CREATED:20240201T195216Z
LAST-MODIFIED:20240201T195216Z
UID:2939-1707159600-1707245999@www.ludlowtaylor.org
SUMMARY:Auction Committee Meeting @ 6PM (Fresca)
DESCRIPTION:
URL:https://www.ludlowtaylor.org/event/auction-committee-meeting-6pm-fresca/
END:VEVENT
BEGIN:VEVENT
DTSTART;VALUE=DATE:20240207
DTEND;VALUE=DATE:20240209
DTSTAMP:20260425T123910
CREATED:20240201T195512Z
LAST-MODIFIED:20240201T195512Z
UID:2941-1707332400-1707418799@www.ludlowtaylor.org
SUMMARY:Queen Vic Trivia Night: First Grade Families @ 6:15PM
DESCRIPTION:
URL:https://www.ludlowtaylor.org/event/queen-vic-trivia-night-first-grade-families-615pm/
END:VEVENT
BEGIN:VEVENT
DTSTART;VALUE=DATE:20240209
DTEND;VALUE=DATE:20240211
DTSTAMP:20260425T123910
CREATED:20240201T200002Z
LAST-MODIFIED:20240201T200002Z
UID:2944-1707505200-1707591599@www.ludlowtaylor.org
SUMMARY:Lunar New Year
DESCRIPTION:
URL:https://www.ludlowtaylor.org/event/lunar-new-year/
END:VEVENT
BEGIN:VEVENT
DTSTART;VALUE=DATE:20240212
DTEND;VALUE=DATE:20240214
DTSTAMP:20260425T123910
CREATED:20240201T200447Z
LAST-MODIFIED:20240201T200549Z
UID:2950-1707764400-1707850799@www.ludlowtaylor.org
SUMMARY:LSAT Meeting @ 6PM (Virtual)
DESCRIPTION:
URL:https://www.ludlowtaylor.org/event/lsat-meeting-6pm-virtual-3/
END:VEVENT
BEGIN:VEVENT
DTSTART;VALUE=DATE:20240213
DTEND;VALUE=DATE:20240215
DTSTAMP:20260425T123910
CREATED:20240201T200948Z
LAST-MODIFIED:20240201T200948Z
UID:2952-1707850800-1707937199@www.ludlowtaylor.org
SUMMARY:Valentine's Day
DESCRIPTION:
URL:https://www.ludlowtaylor.org/event/valentines-day/
END:VEVENT
BEGIN:VEVENT
DTSTART;VALUE=DATE:20240213
DTEND;VALUE=DATE:20240215
DTSTAMP:20260425T123910
CREATED:20240212T192727Z
LAST-MODIFIED:20240212T192727Z
UID:3094-1707850800-1707937199@www.ludlowtaylor.org
SUMMARY:Valentine's Day Dance
DESCRIPTION:The L-T Wellness Team is hosting a Valentine’s Day Dance for students during their specials periods. For more information or to volunteer to help with the event\, please contact Ms. Reid.
URL:https://www.ludlowtaylor.org/event/valentines-day-dance/
END:VEVENT
BEGIN:VEVENT
DTSTART;VALUE=DATE:20240218
DTEND;VALUE=DATE:20240220
DTSTAMP:20260425T123910
CREATED:20240201T201158Z
LAST-MODIFIED:20240201T201158Z
UID:2956-1708282800-1708369199@www.ludlowtaylor.org
SUMMARY:NO SCHOOL (Presidents' Day)
DESCRIPTION:
URL:https://www.ludlowtaylor.org/event/no-school-presidents-day/
END:VEVENT
BEGIN:VEVENT
DTSTART;VALUE=DATE:20240221
DTEND;VALUE=DATE:20240223
DTSTAMP:20260425T123910
CREATED:20240201T201648Z
LAST-MODIFIED:20240302T003657Z
UID:2958-1708542000-1708628399@www.ludlowtaylor.org
SUMMARY:Pancakes & Literacy @ 6PM
DESCRIPTION:Thank you to everyone who helped to make this year’s event a huge success! \nSpecial thanks to all of the L-T students who submitted a poem to the Poetry Competition and the teachers who judged them. A full compendium of all poems submitted can be downloaded here. Poems that were selected for recognition by the judges\, as well as the People’s Choice winners\, are noted within. \n 
URL:https://www.ludlowtaylor.org/event/pancakes-literacy-6pm/
END:VEVENT
BEGIN:VEVENT
DTSTART;VALUE=DATE:20240222
DTEND;VALUE=DATE:20240224
DTSTAMP:20260425T123910
CREATED:20240201T202609Z
LAST-MODIFIED:20240201T202609Z
UID:2961-1708628400-1708714799@www.ludlowtaylor.org
SUMMARY:Coffee & Doughnuts w/ Principal Miller @ 8:30AM
DESCRIPTION:
URL:https://www.ludlowtaylor.org/event/coffee-doughnuts-w-principal-miller-830am-2/
END:VEVENT
BEGIN:VEVENT
DTSTART;VALUE=DATE:20240225
DTEND;VALUE=DATE:20240227
DTSTAMP:20260425T123910
CREATED:20240201T202852Z
LAST-MODIFIED:20240201T202852Z
UID:2963-1708887600-1708973999@www.ludlowtaylor.org
SUMMARY:Black History Month Spirit Week: Pan-African Flag Color Day
DESCRIPTION:
URL:https://www.ludlowtaylor.org/event/black-history-month-spirit-week-pan-african-flag-color-day/
END:VEVENT
BEGIN:VEVENT
DTSTART;VALUE=DATE:20240226
DTEND;VALUE=DATE:20240228
DTSTAMP:20260425T123910
CREATED:20240201T202959Z
LAST-MODIFIED:20240201T202959Z
UID:2966-1708974000-1709060399@www.ludlowtaylor.org
SUMMARY:Black History Month Spirit Week: 90s Hip- Hop Dress Day
DESCRIPTION:
URL:https://www.ludlowtaylor.org/event/black-history-month-spirit-week-90s-hip-hop-dress-day/
END:VEVENT
BEGIN:VEVENT
DTSTART;VALUE=DATE:20240227
DTEND;VALUE=DATE:20240229
DTSTAMP:20260425T123910
CREATED:20240201T203047Z
LAST-MODIFIED:20240201T203047Z
UID:2968-1709060400-1709146799@www.ludlowtaylor.org
SUMMARY:Black History Month Spirit Week: Favorite Artist Dress Day
DESCRIPTION:
URL:https://www.ludlowtaylor.org/event/black-history-month-spirit-week-favorite-artist-dress-day/
END:VEVENT
BEGIN:VEVENT
DTSTART;VALUE=DATE:20240228
DTEND;VALUE=DATE:20240301
DTSTAMP:20260425T123910
CREATED:20240201T203154Z
LAST-MODIFIED:20240201T203154Z
UID:2970-1709146800-1709233199@www.ludlowtaylor.org
SUMMARY:Black History Month Spirit Week: Dress for Success Day
DESCRIPTION:
URL:https://www.ludlowtaylor.org/event/black-history-month-spirit-week-dress-for-success-day/
END:VEVENT
BEGIN:VEVENT
DTSTART;VALUE=DATE:20240229
DTEND;VALUE=DATE:20240302
DTSTAMP:20260425T123910
CREATED:20240201T203418Z
LAST-MODIFIED:20240201T203418Z
UID:2972-1709233200-1709319599@www.ludlowtaylor.org
SUMMARY:Black History Month Spirit Week: All Black Everything Day
DESCRIPTION:
URL:https://www.ludlowtaylor.org/event/black-history-month-spirit-week-all-black-everything-day/
END:VEVENT
BEGIN:VEVENT
DTSTART;VALUE=DATE:20240229
DTEND;VALUE=DATE:20240302
DTSTAMP:20260425T123910
CREATED:20240301T022036Z
LAST-MODIFIED:20240301T022036Z
UID:3255-1709233200-1709319599@www.ludlowtaylor.org
SUMMARY:Coffee & Doughnuts w/ Principal Miller (8:30AM)
DESCRIPTION:Join us for a Q&A session with Principal Miller. Come with your questions or submit them in advance online.
URL:https://www.ludlowtaylor.org/event/coffee-doughnuts-w-principal-miller-830am-3/
END:VEVENT
END:VCALENDAR