BEGIN:VCALENDAR
VERSION:2.0
PRODID:-//Ludlow-Taylor Elementary School - ECPv6.15.20//NONSGML v1.0//EN
CALSCALE:GREGORIAN
METHOD:PUBLISH
X-WR-CALNAME:Ludlow-Taylor Elementary School
X-ORIGINAL-URL:https://www.ludlowtaylor.org
X-WR-CALDESC:Events for Ludlow-Taylor Elementary School
REFRESH-INTERVAL;VALUE=DURATION:PT1H
X-Robots-Tag:noindex
X-PUBLISHED-TTL:PT1H
BEGIN:VTIMEZONE
TZID:America/New_York
BEGIN:DAYLIGHT
TZOFFSETFROM:-0500
TZOFFSETTO:-0400
TZNAME:EDT
DTSTART:20220313T070000
END:DAYLIGHT
BEGIN:STANDARD
TZOFFSETFROM:-0400
TZOFFSETTO:-0500
TZNAME:EST
DTSTART:20221106T060000
END:STANDARD
BEGIN:DAYLIGHT
TZOFFSETFROM:-0500
TZOFFSETTO:-0400
TZNAME:EDT
DTSTART:20230312T070000
END:DAYLIGHT
BEGIN:STANDARD
TZOFFSETFROM:-0400
TZOFFSETTO:-0500
TZNAME:EST
DTSTART:20231105T060000
END:STANDARD
BEGIN:DAYLIGHT
TZOFFSETFROM:-0500
TZOFFSETTO:-0400
TZNAME:EDT
DTSTART:20240310T070000
END:DAYLIGHT
BEGIN:STANDARD
TZOFFSETFROM:-0400
TZOFFSETTO:-0500
TZNAME:EST
DTSTART:20241103T060000
END:STANDARD
END:VTIMEZONE
BEGIN:VEVENT
DTSTART;VALUE=DATE:20231031
DTEND;VALUE=DATE:20231102
DTSTAMP:20260425T165909
CREATED:20231103T103526Z
LAST-MODIFIED:20231103T103526Z
UID:2569-1698782400-1698868799@www.ludlowtaylor.org
SUMMARY:Día de los Muertos
DESCRIPTION:
URL:https://www.ludlowtaylor.org/event/dia-de-los-muertos/
END:VEVENT
BEGIN:VEVENT
DTSTART;VALUE=DATE:20231101
DTEND;VALUE=DATE:20231103
DTSTAMP:20260425T165909
CREATED:20231103T103722Z
LAST-MODIFIED:20231103T103722Z
UID:2571-1698868800-1698955199@www.ludlowtaylor.org
SUMMARY:ECE Committee Kickoff Meeting @ 7PM (Fresca)
DESCRIPTION:
URL:https://www.ludlowtaylor.org/event/ece-committee-kickoff-meeting-7pm-fresca/
END:VEVENT
BEGIN:VEVENT
DTSTART;VALUE=DATE:20231102
DTEND;VALUE=DATE:20231104
DTSTAMP:20260425T165909
CREATED:20231103T103825Z
LAST-MODIFIED:20231103T103825Z
UID:2573-1698955200-1699041599@www.ludlowtaylor.org
SUMMARY:NO SCHOOL
DESCRIPTION:
URL:https://www.ludlowtaylor.org/event/no-school-3/
CATEGORIES:Holidays
END:VEVENT
BEGIN:VEVENT
DTSTART;VALUE=DATE:20231106
DTEND;VALUE=DATE:20231108
DTSTAMP:20260425T165909
CREATED:20231103T104105Z
LAST-MODIFIED:20231103T104105Z
UID:2578-1699297200-1699383599@www.ludlowtaylor.org
SUMMARY:Election Day
DESCRIPTION:
URL:https://www.ludlowtaylor.org/event/election-day/
END:VEVENT
BEGIN:VEVENT
DTSTART;VALUE=DATE:20231108
DTEND;VALUE=DATE:20231110
DTSTAMP:20260425T165909
CREATED:20231103T104611Z
LAST-MODIFIED:20231103T104611Z
UID:2580-1699470000-1699556399@www.ludlowtaylor.org
SUMMARY:Coffee & Doughnuts w/ the Principal @ 8:30AM
DESCRIPTION:
URL:https://www.ludlowtaylor.org/event/coffee-doughnuts-w-the-principal-830am-2/
END:VEVENT
BEGIN:VEVENT
DTSTART;VALUE=DATE:20231108
DTEND;VALUE=DATE:20231110
DTSTAMP:20260425T165909
CREATED:20231103T104722Z
LAST-MODIFIED:20231110T042631Z
UID:2583-1699470000-1699556399@www.ludlowtaylor.org
SUMMARY:LSAT Meeting @ 6PM (Virtual)
DESCRIPTION:Zoom Details  \nAgenda: \n\nStaffing update (teachers\, aides)\, and discussion of crossing guard coverage\nNutrition Committee – LSAT/community feedback on topics to cover \nReview of math testing data\nTechnology/iPads in classrooms (time permitting – otherwise will cover in December meeting)\n\n  \n 
URL:https://www.ludlowtaylor.org/event/lsat-meeting-6pm-virtual/
END:VEVENT
BEGIN:VEVENT
DTSTART;VALUE=DATE:20231109
DTEND;VALUE=DATE:20231111
DTSTAMP:20260425T165909
CREATED:20231103T104755Z
LAST-MODIFIED:20231103T104755Z
UID:2586-1699556400-1699642799@www.ludlowtaylor.org
SUMMARY:NO SCHOOL
DESCRIPTION:
URL:https://www.ludlowtaylor.org/event/no-school-4/
END:VEVENT
BEGIN:VEVENT
DTSTART;VALUE=DATE:20231110
DTEND;VALUE=DATE:20231112
DTSTAMP:20260425T165909
CREATED:20231103T104825Z
LAST-MODIFIED:20231103T104825Z
UID:2588-1699642800-1699729199@www.ludlowtaylor.org
SUMMARY:Veterans’ Day
DESCRIPTION:
URL:https://www.ludlowtaylor.org/event/veterans-day/
END:VEVENT
BEGIN:VEVENT
DTSTART;VALUE=DATE:20231113
DTEND;VALUE=DATE:20231115
DTSTAMP:20260425T165909
CREATED:20231103T104852Z
LAST-MODIFIED:20231103T104852Z
UID:2590-1699902000-1699988399@www.ludlowtaylor.org
SUMMARY:Auction Committee Meeting @7PM (Fresca)
DESCRIPTION:
URL:https://www.ludlowtaylor.org/event/auction-committee-meeting-7pm-fresca-2/
END:VEVENT
BEGIN:VEVENT
DTSTART;VALUE=DATE:20231114
DTEND;VALUE=DATE:20231116
DTSTAMP:20260425T165909
CREATED:20231103T104936Z
LAST-MODIFIED:20231103T104936Z
UID:2592-1699988400-1700074799@www.ludlowtaylor.org
SUMMARY:Education Support Professionals Day
DESCRIPTION:
URL:https://www.ludlowtaylor.org/event/education-support-professionals-day/
END:VEVENT
BEGIN:VEVENT
DTSTART;VALUE=DATE:20231115
DTEND;VALUE=DATE:20231117
DTSTAMP:20260425T165909
CREATED:20231103T110500Z
LAST-MODIFIED:20231103T110500Z
UID:2594-1700074800-1700161199@www.ludlowtaylor.org
SUMMARY:Thanksgiving Dessert Potluck @6-8PM
DESCRIPTION:
URL:https://www.ludlowtaylor.org/event/thanksgiving-dessert-potluck-6-8pm/
END:VEVENT
BEGIN:VEVENT
DTSTART;VALUE=DATE:20231115
DTEND;VALUE=DATE:20231117
DTSTAMP:20260425T165909
CREATED:20231103T110521Z
LAST-MODIFIED:20231103T110521Z
UID:2597-1700074800-1700161199@www.ludlowtaylor.org
SUMMARY:Donations for Thanksgiving Baskets Due
DESCRIPTION:
URL:https://www.ludlowtaylor.org/event/donations-for-thanksgiving-baskets-due/
END:VEVENT
BEGIN:VEVENT
DTSTART;VALUE=DATE:20231119
DTEND;VALUE=DATE:20231121
DTSTAMP:20260425T165909
CREATED:20231103T110548Z
LAST-MODIFIED:20231103T110548Z
UID:2599-1700420400-1700506799@www.ludlowtaylor.org
SUMMARY:Aftercare Friendsgiving
DESCRIPTION:
URL:https://www.ludlowtaylor.org/event/aftercare-friendsgiving/
END:VEVENT
BEGIN:VEVENT
DTSTART;VALUE=DATE:20231119
DTEND;VALUE=DATE:20231121
DTSTAMP:20260425T165909
CREATED:20231103T110611Z
LAST-MODIFIED:20231103T110611Z
UID:2601-1700420400-1700506799@www.ludlowtaylor.org
SUMMARY:No Clubs/ Enrichments
DESCRIPTION:
URL:https://www.ludlowtaylor.org/event/no-clubs-enrichments/
END:VEVENT
BEGIN:VEVENT
DTSTART;VALUE=DATE:20231122
DTEND;VALUE=DATE:20231124
DTSTAMP:20260425T165909
CREATED:20231103T110713Z
LAST-MODIFIED:20231103T110713Z
UID:2607-1700679600-1700765999@www.ludlowtaylor.org
SUMMARY:NO SCHOOL (Thanksgiving)
DESCRIPTION:
URL:https://www.ludlowtaylor.org/event/no-school-thanksgiving/
END:VEVENT
BEGIN:VEVENT
DTSTART;VALUE=DATE:20231127
DTEND;VALUE=DATE:20231129
DTSTAMP:20260425T165909
CREATED:20231103T110800Z
LAST-MODIFIED:20231103T110800Z
UID:2611-1701111600-1701197999@www.ludlowtaylor.org
SUMMARY:PTO Meeting & Warrior Fund Kickoff
DESCRIPTION:
URL:https://www.ludlowtaylor.org/event/pto-meeting-warrior-fund-kickoff/
END:VEVENT
BEGIN:VEVENT
DTSTART;VALUE=DATE:20231128
DTEND;VALUE=DATE:20231130
DTSTAMP:20260425T165909
CREATED:20231103T110847Z
LAST-MODIFIED:20231103T110847Z
UID:2614-1701198000-1701284399@www.ludlowtaylor.org
SUMMARY:Trivia Night for Kindergarten Families @6:15-8:15PM (The Queen Vic)
DESCRIPTION:
URL:https://www.ludlowtaylor.org/event/trivia-night-for-kindergarten-families-615-815pm-the-queen-vic/
END:VEVENT
END:VCALENDAR