BEGIN:VCALENDAR
VERSION:2.0
PRODID:-//Ludlow-Taylor Elementary School - ECPv6.15.20//NONSGML v1.0//EN
CALSCALE:GREGORIAN
METHOD:PUBLISH
X-ORIGINAL-URL:https://www.ludlowtaylor.org
X-WR-CALDESC:Events for Ludlow-Taylor Elementary School
REFRESH-INTERVAL;VALUE=DURATION:PT1H
X-Robots-Tag:noindex
X-PUBLISHED-TTL:PT1H
BEGIN:VTIMEZONE
TZID:America/New_York
BEGIN:DAYLIGHT
TZOFFSETFROM:-0500
TZOFFSETTO:-0400
TZNAME:EDT
DTSTART:20240310T070000
END:DAYLIGHT
BEGIN:STANDARD
TZOFFSETFROM:-0400
TZOFFSETTO:-0500
TZNAME:EST
DTSTART:20241103T060000
END:STANDARD
BEGIN:DAYLIGHT
TZOFFSETFROM:-0500
TZOFFSETTO:-0400
TZNAME:EDT
DTSTART:20250309T070000
END:DAYLIGHT
BEGIN:STANDARD
TZOFFSETFROM:-0400
TZOFFSETTO:-0500
TZNAME:EST
DTSTART:20251102T060000
END:STANDARD
BEGIN:DAYLIGHT
TZOFFSETFROM:-0500
TZOFFSETTO:-0400
TZNAME:EDT
DTSTART:20260308T070000
END:DAYLIGHT
BEGIN:STANDARD
TZOFFSETFROM:-0400
TZOFFSETTO:-0500
TZNAME:EST
DTSTART:20261101T060000
END:STANDARD
END:VTIMEZONE
BEGIN:VEVENT
DTSTART;VALUE=DATE:20251109
DTEND;VALUE=DATE:20251110
DTSTAMP:20260421T093424
CREATED:20251106T174910Z
LAST-MODIFIED:20251106T174910Z
UID:6409-1762646400-1762732799@www.ludlowtaylor.org
SUMMARY:3rd Grade Playdate (3PM\, LT Playground)
DESCRIPTION:
URL:https://www.ludlowtaylor.org/event/3rd-grade-playdate-3pm-lt-playground/
END:VEVENT
BEGIN:VEVENT
DTSTART;VALUE=DATE:20251110
DTEND;VALUE=DATE:20251111
DTSTAMP:20260421T093424
CREATED:20251007T160653Z
LAST-MODIFIED:20251007T160653Z
UID:6256-1762732800-1762819199@www.ludlowtaylor.org
SUMMARY:School wide Birthday Celebration
DESCRIPTION:Reach out to your room parent(s) for details.
URL:https://www.ludlowtaylor.org/event/school-wide-birthday-celebration-2/
END:VEVENT
BEGIN:VEVENT
DTSTART;VALUE=DATE:20251110
DTEND;VALUE=DATE:20251111
DTSTAMP:20260421T093424
CREATED:20251020T182334Z
LAST-MODIFIED:20251028T132723Z
UID:6330-1762732800-1762819199@www.ludlowtaylor.org
SUMMARY:Parent's Night Out (6:00 - 9:00PM\, Tiffany's Bar & Bistro)
DESCRIPTION:Check back soon for more details.
URL:https://www.ludlowtaylor.org/event/parents-night-out-630-830pm-tiffanys-bar-bistro/
END:VEVENT
BEGIN:VEVENT
DTSTART;VALUE=DATE:20251111
DTEND;VALUE=DATE:20251112
DTSTAMP:20260421T093424
CREATED:20250720T005726Z
LAST-MODIFIED:20250827T201421Z
UID:5588-1762819200-1762905599@www.ludlowtaylor.org
SUMMARY:No School (Veterans Day)
DESCRIPTION:
URL:https://www.ludlowtaylor.org/event/no-school-veterans-day/
CATEGORIES:Holidays
END:VEVENT
BEGIN:VEVENT
DTSTART;VALUE=DATE:20251112
DTEND;VALUE=DATE:20251113
DTSTAMP:20260421T093424
CREATED:20251023T164958Z
LAST-MODIFIED:20251023T164958Z
UID:6356-1762905600-1762991999@www.ludlowtaylor.org
SUMMARY:Auction Committee Meeting (7PM\, Fresca)
DESCRIPTION:
URL:https://www.ludlowtaylor.org/event/auction-committee-meeting-7pm-fresca-3/
END:VEVENT
BEGIN:VEVENT
DTSTART;VALUE=DATE:20251113
DTEND;VALUE=DATE:20251114
DTSTAMP:20260421T093424
CREATED:20250912T180422Z
LAST-MODIFIED:20251014T174529Z
UID:6163-1762992000-1763078399@www.ludlowtaylor.org
SUMMARY:1st Grade Trivia Night (6-7:30PM)
DESCRIPTION:Here’s your opportunity to engage with 1st Grade teachers and families. Join in on the fun at Queen Vic (1206 H ST. NE).
URL:https://www.ludlowtaylor.org/event/1st-grade-trivia-night-6-730pm/
END:VEVENT
BEGIN:VEVENT
DTSTART;VALUE=DATE:20251114
DTEND;VALUE=DATE:20251115
DTSTAMP:20260421T093424
CREATED:20251028T130904Z
LAST-MODIFIED:20251028T130904Z
UID:6375-1763078400-1763164799@www.ludlowtaylor.org
SUMMARY:Last Day for Thanksgiving Basket Food Donations
DESCRIPTION:https://docs.google.com/spreadsheets/d/1MN-bGJRdjvf8AQdD1jTB_r6Xco04BAqVR24qkQgMFC8/edit?usp=sharing
URL:https://www.ludlowtaylor.org/event/last-day-for-thanksgiving-basket-food-donations/
END:VEVENT
BEGIN:VEVENT
DTSTART;VALUE=DATE:20251114
DTEND;VALUE=DATE:20251115
DTSTAMP:20260421T093424
CREATED:20251106T174515Z
LAST-MODIFIED:20251106T174515Z
UID:6407-1763078400-1763164799@www.ludlowtaylor.org
SUMMARY:2nd Grade Bowling Field Trip
DESCRIPTION:Reach out to teachers and/or room parents for details.
URL:https://www.ludlowtaylor.org/event/2nd-grade-bowling-field-trip/
END:VEVENT
BEGIN:VEVENT
DTSTART;VALUE=DATE:20251117
DTEND;VALUE=DATE:20251118
DTSTAMP:20260421T093424
CREATED:20251027T125620Z
LAST-MODIFIED:20251027T130350Z
UID:6363-1763337600-1763423999@www.ludlowtaylor.org
SUMMARY:Girl's Basketball Game (4:30 PM at Boone ES)
DESCRIPTION:vs. Boone ES
URL:https://www.ludlowtaylor.org/event/girls-basketball-game-430-pm-at-boone-es/
CATEGORIES:Sports
END:VEVENT
BEGIN:VEVENT
DTSTART;VALUE=DATE:20251117
DTEND;VALUE=DATE:20251118
DTSTAMP:20260421T093424
CREATED:20251028T131028Z
LAST-MODIFIED:20251028T131028Z
UID:6377-1763337600-1763423999@www.ludlowtaylor.org
SUMMARY:Last Day for Thanksgiving Basket Monetary Donations
DESCRIPTION:https://www.paypal.com/ncp/payment/GTQZH2DNEQ4H4
URL:https://www.ludlowtaylor.org/event/last-day-for-thanksgiving-basket-monetary-donations/
END:VEVENT
BEGIN:VEVENT
DTSTART;VALUE=DATE:20251118
DTEND;VALUE=DATE:20251119
DTSTAMP:20260421T093424
CREATED:20251020T161732Z
LAST-MODIFIED:20251020T161732Z
UID:6314-1763424000-1763510399@www.ludlowtaylor.org
SUMMARY:LSAT Meeting (6:30 PM\, Virtual)
DESCRIPTION:Check back closer to the date for call-in details.
URL:https://www.ludlowtaylor.org/event/lsat-meeting-630-pm-virtual-2/
END:VEVENT
BEGIN:VEVENT
DTSTART;VALUE=DATE:20251118
DTEND;VALUE=DATE:20251119
DTSTAMP:20260421T093424
CREATED:20251106T211946Z
LAST-MODIFIED:20251106T211946Z
UID:6414-1763424000-1763510399@www.ludlowtaylor.org
SUMMARY:LT Learning Lab (8:45 - 9:30 AM)
DESCRIPTION:Come and join members of the administration to discuss a specific topic. Check back soon for the selected topic.
URL:https://www.ludlowtaylor.org/event/lt-learning-lab-845-930-am/
END:VEVENT
BEGIN:VEVENT
DTSTART;VALUE=DATE:20251119
DTEND;VALUE=DATE:20251120
DTSTAMP:20260421T093424
CREATED:20251020T183100Z
LAST-MODIFIED:20251020T183100Z
UID:6332-1763510400-1763596799@www.ludlowtaylor.org
SUMMARY:No TFS Clubs (Staff Meeting)
DESCRIPTION:
URL:https://www.ludlowtaylor.org/event/no-tfs-clubs-staff-meeting/
END:VEVENT
BEGIN:VEVENT
DTSTART;VALUE=DATE:20251119
DTEND;VALUE=DATE:20251120
DTSTAMP:20260421T093424
CREATED:20251027T125805Z
LAST-MODIFIED:20251027T130446Z
UID:6365-1763510400-1763596799@www.ludlowtaylor.org
SUMMARY:Girl's Basketball Game (4:30 PM at Garfield ES)
DESCRIPTION:vs. Garfield ES
URL:https://www.ludlowtaylor.org/event/girls-basketball-game-430-pm-at-garfield-es/
CATEGORIES:Sports
END:VEVENT
BEGIN:VEVENT
DTSTART;VALUE=DATE:20251120
DTEND;VALUE=DATE:20251121
DTSTAMP:20260421T093424
CREATED:20251014T174441Z
LAST-MODIFIED:20251014T174441Z
UID:6291-1763596800-1763683199@www.ludlowtaylor.org
SUMMARY:Thanksgiving Dessert Potluck
DESCRIPTION:Check back for more details.
URL:https://www.ludlowtaylor.org/event/thanksgiving-dessert-potluck/
END:VEVENT
BEGIN:VEVENT
DTSTART;VALUE=DATE:20251124
DTEND;VALUE=DATE:20251125
DTSTAMP:20260421T093424
CREATED:20251106T174331Z
LAST-MODIFIED:20251106T174331Z
UID:6405-1763942400-1764028799@www.ludlowtaylor.org
SUMMARY:No TFS Clubs (Before and After care still available)
DESCRIPTION:
URL:https://www.ludlowtaylor.org/event/no-tfs-clubs-before-and-after-care-still-available/
END:VEVENT
BEGIN:VEVENT
DTSTART;VALUE=DATE:20251125
DTEND;VALUE=DATE:20251126
DTSTAMP:20260421T093424
CREATED:20251020T183202Z
LAST-MODIFIED:20251020T183202Z
UID:6334-1764028800-1764115199@www.ludlowtaylor.org
SUMMARY:No TFS Clubs or Before & After Care (TFS Staff Meeting & TFS Staff Day Off)
DESCRIPTION:
URL:https://www.ludlowtaylor.org/event/no-tfs-clubs-or-before-after-care-tfs-staff-meeting-tfs-staff-day-off/
END:VEVENT
BEGIN:VEVENT
DTSTART;VALUE=DATE:20251126
DTEND;VALUE=DATE:20251129
DTSTAMP:20260421T093424
CREATED:20250720T005827Z
LAST-MODIFIED:20250827T201442Z
UID:5590-1764115200-1764374399@www.ludlowtaylor.org
SUMMARY:No School (Thanksgiving Break)
DESCRIPTION:
URL:https://www.ludlowtaylor.org/event/no-school-thanksgiving-break/
CATEGORIES:Holidays
END:VEVENT
BEGIN:VEVENT
DTSTART;VALUE=DATE:20251127
DTEND;VALUE=DATE:20251128
DTSTAMP:20260421T093424
CREATED:20250720T013349Z
LAST-MODIFIED:20250827T201503Z
UID:5626-1764201600-1764287999@www.ludlowtaylor.org
SUMMARY:Thanksgiving
DESCRIPTION:
URL:https://www.ludlowtaylor.org/event/thanksgiving/
CATEGORIES:Holidays
END:VEVENT
BEGIN:VEVENT
DTSTART;VALUE=DATE:20251201
DTEND;VALUE=DATE:20251202
DTSTAMP:20260421T093424
CREATED:20251027T125959Z
LAST-MODIFIED:20251027T130005Z
UID:6367-1764547200-1764633599@www.ludlowtaylor.org
SUMMARY:Girl's Basketball Game (4:30 PM at Capitol Hill Montessori ES)
DESCRIPTION:vs. Miner ES
URL:https://www.ludlowtaylor.org/event/girls-basketball-game-430-pm-at-capitol-hill-montessori-es/
CATEGORIES:Sports
END:VEVENT
BEGIN:VEVENT
DTSTART;VALUE=DATE:20251202
DTEND;VALUE=DATE:20251203
DTSTAMP:20260421T093424
CREATED:20251112T192501Z
LAST-MODIFIED:20251112T192501Z
UID:6458-1764633600-1764719999@www.ludlowtaylor.org
SUMMARY:Warrior Fund Kicks Off!
DESCRIPTION:We’re kicking off our annual LT fundraising campaign on Giving Tuesday (Dec. 2)—and this year\, we’re focusing on participation over dollars. We know many families are navigating financial strain\, and that’s why every gift matters\, no matter the amount. Your contribution is a powerful show of commitment to our school community. \nWhat’s in store this year? \n\n Grade-Level Competition: Back by popular demand! The grade with the highest participation wins a special prize.\n Matching Donor Alert: We’ve secured a generous matching donor — details coming soon!\n Incentives Galore: Yes\, the beloved LT Yetis are back\, plus new surprises to spice up giving at every level.\n Fun Ways to Get Involved: From classroom shout-outs to community challenges\, we’ll keep the energy high all campaign long.\n\nHave questions or want to help spread the word? Reach out anytime to ptovp2@ludlowtaylor.org. Let’s make this year’s Warrior Fund our most spirited yet!
URL:https://www.ludlowtaylor.org/event/warrior-fund-kicks-off/
END:VEVENT
BEGIN:VEVENT
DTSTART;VALUE=DATE:20251202
DTEND;VALUE=DATE:20251203
DTSTAMP:20260421T093424
CREATED:20251124T172215Z
LAST-MODIFIED:20251124T172215Z
UID:6497-1764633600-1764719999@www.ludlowtaylor.org
SUMMARY:Make-up Picture Day
DESCRIPTION:
URL:https://www.ludlowtaylor.org/event/make-up-picture-day-2/
END:VEVENT
BEGIN:VEVENT
DTSTART;VALUE=DATE:20251202
DTEND;VALUE=DATE:20251203
DTSTAMP:20260421T093424
CREATED:20251124T172659Z
LAST-MODIFIED:20251124T172659Z
UID:6499-1764633600-1764719999@www.ludlowtaylor.org
SUMMARY:Auction Committee Meeting (7 PM\, Fresca)
DESCRIPTION:
URL:https://www.ludlowtaylor.org/event/auction-committee-meeting-7-pm-fresca/
END:VEVENT
BEGIN:VEVENT
DTSTART;VALUE=DATE:20251203
DTEND;VALUE=DATE:20251204
DTSTAMP:20260421T093424
CREATED:20251027T130151Z
LAST-MODIFIED:20251027T130151Z
UID:6369-1764720000-1764806399@www.ludlowtaylor.org
SUMMARY:Girl's Basketball Game (5:30 PM at Wheatley EC)
DESCRIPTION:vs. Capitol Hill Montessori ES
URL:https://www.ludlowtaylor.org/event/girls-basketball-game-530-pm-at-wheatley-ec/
CATEGORIES:Sports
END:VEVENT
BEGIN:VEVENT
DTSTART;VALUE=DATE:20251204
DTEND;VALUE=DATE:20251205
DTSTAMP:20260421T093424
CREATED:20251124T173616Z
LAST-MODIFIED:20251124T173616Z
UID:6501-1764806400-1764892799@www.ludlowtaylor.org
SUMMARY:Spirit Week: Holidays Around the World
DESCRIPTION:Wear colors to represent Hannukah\, Christmas\, Kwanzaa or any other holiday your family celebrates. \n12 days of Cheer.pdf
URL:https://www.ludlowtaylor.org/event/spirit-week-holidays-around-the-world/
END:VEVENT
BEGIN:VEVENT
DTSTART;VALUE=DATE:20251205
DTEND;VALUE=DATE:20251206
DTSTAMP:20260421T093424
CREATED:20251124T174643Z
LAST-MODIFIED:20251124T174643Z
UID:6504-1764892800-1764979199@www.ludlowtaylor.org
SUMMARY:Spirit Week: Wacky Day
DESCRIPTION:Wear your wackiest outfit! \n12 days of Cheer.pdf
URL:https://www.ludlowtaylor.org/event/spirit-week-wacky-day/
END:VEVENT
BEGIN:VEVENT
DTSTART;VALUE=DATE:20251205
DTEND;VALUE=DATE:20251206
DTSTAMP:20260421T093424
CREATED:20251027T130251Z
LAST-MODIFIED:20251027T130251Z
UID:6371-1764892800-1764979199@www.ludlowtaylor.org
SUMMARY:Girl's Basketball Game (5:30 PM at Browne EC)
DESCRIPTION:vs. Maury ES
URL:https://www.ludlowtaylor.org/event/girls-basketball-game-530-pm-at-browne-ec/
CATEGORIES:Sports
END:VEVENT
BEGIN:VEVENT
DTSTART;VALUE=DATE:20251205
DTEND;VALUE=DATE:20251206
DTSTAMP:20260421T093424
CREATED:20251112T192002Z
LAST-MODIFIED:20251112T192002Z
UID:6455-1764892800-1764979199@www.ludlowtaylor.org
SUMMARY:ECE Field Trip - Adventure Theatre
DESCRIPTION:
URL:https://www.ludlowtaylor.org/event/ece-field-trip-adventure-theatre/
END:VEVENT
BEGIN:VEVENT
DTSTART;VALUE=DATE:20251205
DTEND;VALUE=DATE:20251206
DTSTAMP:20260421T093424
CREATED:20251124T175018Z
LAST-MODIFIED:20251124T175018Z
UID:6507-1764892800-1764979199@www.ludlowtaylor.org
SUMMARY:Session 1 of Future Stars Clubs & MWF/RWF Ends
DESCRIPTION:
URL:https://www.ludlowtaylor.org/event/session-1-of-future-stars-clubs-mwf-rwf-ends/
END:VEVENT
BEGIN:VEVENT
DTSTART;VALUE=DATE:20251205
DTEND;VALUE=DATE:20251206
DTSTAMP:20260421T093424
CREATED:20251124T180436Z
LAST-MODIFIED:20251124T180436Z
UID:6509-1764892800-1764979199@www.ludlowtaylor.org
SUMMARY:Session 2 of Future Stars Clubs & MWF/RWF Registration Begins (5 PM)
DESCRIPTION:Session 2 Schedule and Guide \n  \nNEW for 2026! – Performance Session\nAre you looking for The Dancing Stars and Theatreworkz programming? Both Dancing Stars and Theatreworkz will now run continuously through Session 2 and Session 3 (January 5th-June 5th\, 2026)\, and because performance-based programs require ongoing rehearsal and skill development\, students must be registered for both sessions. While these programs follow the same weekly schedule and the same start and end dates as all other clubs\, they operate as one unified performance season. \nWhy They Operate as a Combined Session\nDance choreography and theater production both require time\, consistency\, and continuity. By keeping students enrolled through both sessions\, we ensure: \nStronger skill progression \nConsistent rehearsal time \nCohesive cast and choreography \nHigh-quality spring performances for families \nWhat Parents Can Expect\nThe program runs across the full timeline of Session 2 + Session 3\, but follows the same dates and weekly schedule as all other Future Stars clubs. \nThere will still be the make-up dates in March just in case there I️s inclement weather. \nFamilies will receive additional information about costumes\, scripts\, performance dates\, and rehearsal expectations as we move through the season. \nRegistration Notes\nEnrollment in both Session 2 and Session 3 is required. \nYou will not need to register again for Session 3 \nThere will be a pre-registration link sent to currently enrolled participants I️n Theatreworkz and The Dancing Stars. \nPayment Options: \nOne full payment for the entire Session \nTwo half-session payments (similar to paying I️n full for Session 2 and Session 3) \nMonthly Payments \n  \nNEW CLUB ALERT🚨\nWe are excited to introduce several new and engaging clubs to our schedule this session: \nAnimal Lovers Club — Led by the wonderful Ms. Morrison\, students will explore a variety of animals\, learn about animal care and protection\, and even take a special trip to the Atlas Dog House. \nCubing Club — Did you know our very own Mr. Malloy is a Rubik’s Cube master? In Cubing Club\, students will learn solving strategies\, practice different cube types\, and compete in fun\, friendly challenges. \nArchitecture Club — Led by Lauryn Hall\, who will graduate this spring from the University of Maryland’s Master of Architecture program\, students will learn how architects think as they design their own floor plans\, study real-world buildings\, and create model structures. \nTheatreworkz: Behind the Curtain — A creative extension of our Theatreworkz program (not part of the performance session)\, where students will design and build the sets and props for our upcoming spring musical\, Aladdin Jr.
URL:https://www.ludlowtaylor.org/event/session-2-of-future-stars-clubs-mwf-rwf-registration-begins-5-pm/
END:VEVENT
END:VCALENDAR