BEGIN:VCALENDAR
VERSION:2.0
PRODID:-//Ludlow-Taylor Elementary School - ECPv6.15.20//NONSGML v1.0//EN
CALSCALE:GREGORIAN
METHOD:PUBLISH
X-WR-CALNAME:Ludlow-Taylor Elementary School
X-ORIGINAL-URL:https://www.ludlowtaylor.org
X-WR-CALDESC:Events for Ludlow-Taylor Elementary School
REFRESH-INTERVAL;VALUE=DURATION:PT1H
X-Robots-Tag:noindex
X-PUBLISHED-TTL:PT1H
BEGIN:VTIMEZONE
TZID:America/New_York
BEGIN:DAYLIGHT
TZOFFSETFROM:-0500
TZOFFSETTO:-0400
TZNAME:EDT
DTSTART:20240310T070000
END:DAYLIGHT
BEGIN:STANDARD
TZOFFSETFROM:-0400
TZOFFSETTO:-0500
TZNAME:EST
DTSTART:20241103T060000
END:STANDARD
BEGIN:DAYLIGHT
TZOFFSETFROM:-0500
TZOFFSETTO:-0400
TZNAME:EDT
DTSTART:20250309T070000
END:DAYLIGHT
BEGIN:STANDARD
TZOFFSETFROM:-0400
TZOFFSETTO:-0500
TZNAME:EST
DTSTART:20251102T060000
END:STANDARD
BEGIN:DAYLIGHT
TZOFFSETFROM:-0500
TZOFFSETTO:-0400
TZNAME:EDT
DTSTART:20260308T070000
END:DAYLIGHT
BEGIN:STANDARD
TZOFFSETFROM:-0400
TZOFFSETTO:-0500
TZNAME:EST
DTSTART:20261101T060000
END:STANDARD
END:VTIMEZONE
BEGIN:VEVENT
DTSTART;VALUE=DATE:20250919
DTEND;VALUE=DATE:20250920
DTSTAMP:20260421T183058
CREATED:20250731T233533Z
LAST-MODIFIED:20250902T174832Z
UID:5763-1758240000-1758326399@www.ludlowtaylor.org
SUMMARY:Movie Night!
DESCRIPTION:What You Need to Know:  Family Movie Night is Friday\, Sept 19 at 6PM — pre-order your pizza (by Sept 15) and t-shirts (by Sept 3) to join the fun!  \n———————————————————— \nWe are kicking off the school year with one of our favorite traditions — Family Movie Night on Friday\, September 19\, 2025\, at 6:00 PM! Doors open at 6:00 PM\, and as the sun sets\, we’ll settle in for a magical adventure with The Smurfs! \nThis is more than just a movie night — it’s a chance to come together\, build community\, and share some laughter (and snacks!) with our amazing L-T families.  \n  \nHere’s what’s waiting for you: \n Pupatella Neapolitan Pizza – Pre-order by September 15! Each pizza feeds one adult (cheese or pepperoni). \n Concessions Galore – Fresh popcorn\, sweet + salty snacks\, and refreshing drinks. \n Special Edition L-T T-Shirts – Perfect for our tie-dye station at the event! Pre-order by September 3 to guarantee your size. Families can also bring their own clean white cotton shirts. Supplies will be ready in our school colors: vibrant green & gold! (Tip: sizes run small\, so size up!) \n\n\n Bonus: A limited number of shirts will be available on movie night — but the best way to make sure you don’t miss out is to order early and join in the tie-dye fun with the Spirit Committee! \n ORDER YOUR PIZZAS & T-SHIRTS \n  \nQuestions? \n T-shirts: spiritfingers@ludlowtaylor.org \n Movie Night & Pizza: events@ludlowtaylor.org \nWe can’t wait to see you on the lawn for a night filled with fun\, friends\, and school spirit. Bring a blanket\, bring your family\, and let’s make this first community event of the year one to remember! \n See you at the movies!
URL:https://www.ludlowtaylor.org/event/movie-night-2/
END:VEVENT
BEGIN:VEVENT
DTSTART;VALUE=DATE:20250919
DTEND;VALUE=DATE:20250920
DTSTAMP:20260421T183058
CREATED:20250910T170606Z
LAST-MODIFIED:20250910T170606Z
UID:6138-1758240000-1758326399@www.ludlowtaylor.org
SUMMARY:ECE: Zoo Field Trip (Buses leave @ 9:00AM)
DESCRIPTION:Please connect with your child’s room parent for additional information.
URL:https://www.ludlowtaylor.org/event/ece-zoo-field-trip-buses-leave-900am/
END:VEVENT
BEGIN:VEVENT
DTSTART;VALUE=DATE:20250920
DTEND;VALUE=DATE:20250921
DTSTAMP:20260421T183058
CREATED:20250908T181521Z
LAST-MODIFIED:20250918T141622Z
UID:6108-1758326400-1758412799@www.ludlowtaylor.org
SUMMARY:The Dancing Stars @ H St. Festival (1PM\, 7th St. stage)
DESCRIPTION:Come out and cheer on The Dancing Stars at The H St. Festival. They will be at the 7th St. stage at 1PM!
URL:https://www.ludlowtaylor.org/event/the-dancing-stars-h-st-festival/
END:VEVENT
BEGIN:VEVENT
DTSTART;VALUE=DATE:20250923
DTEND;VALUE=DATE:20250924
DTSTAMP:20260421T183058
CREATED:20250720T012521Z
LAST-MODIFIED:20250827T200804Z
UID:5620-1758585600-1758671999@www.ludlowtaylor.org
SUMMARY:Rosh Hashanah
DESCRIPTION:
URL:https://www.ludlowtaylor.org/event/rosh-hashanah/
CATEGORIES:Holidays
END:VEVENT
BEGIN:VEVENT
DTSTART;VALUE=DATE:20250924
DTEND;VALUE=DATE:20250925
DTSTAMP:20260421T183058
CREATED:20250806T223359Z
LAST-MODIFIED:20250827T200908Z
UID:5837-1758672000-1758758399@www.ludlowtaylor.org
SUMMARY:ECE Committee Kick-Off (6:30PM)
DESCRIPTION:Please reach out to ece@ludlowtaylor.org for more information.
URL:https://www.ludlowtaylor.org/event/ece-committee-kick-off/
END:VEVENT
BEGIN:VEVENT
DTSTART;VALUE=DATE:20250924
DTEND;VALUE=DATE:20250925
DTSTAMP:20260421T183058
CREATED:20250806T223518Z
LAST-MODIFIED:20250827T200955Z
UID:5839-1758672000-1758758399@www.ludlowtaylor.org
SUMMARY:No TFS Clubs (before and aftercare still available)
DESCRIPTION:Staff Meeting
URL:https://www.ludlowtaylor.org/event/no-tfs-clubs-before-and-aftercare-still-available/
END:VEVENT
BEGIN:VEVENT
DTSTART;VALUE=DATE:20250925
DTEND;VALUE=DATE:20250926
DTSTAMP:20260421T183058
CREATED:20250910T185711Z
LAST-MODIFIED:20250910T185711Z
UID:6152-1758758400-1758844799@www.ludlowtaylor.org
SUMMARY:PK3 Trivia Night (6-7:30PM)
DESCRIPTION:Here’s your opportunity to engage with PK3 teachers and families. Join in on the fun at Queen Vic (1206 H ST. NE) \nRSVP here: https://docs.google.com/spreadsheets/d/1SytAMBSNejx47G3J7clSEGY66oTjjV-eeumizmRPlMA/edit?usp=sharing
URL:https://www.ludlowtaylor.org/event/pk3-trivia-night-6-730pm/
END:VEVENT
BEGIN:VEVENT
DTSTART;VALUE=DATE:20251002
DTEND;VALUE=DATE:20251003
DTSTAMP:20260421T183058
CREATED:20250720T012614Z
LAST-MODIFIED:20250827T201037Z
UID:5622-1759363200-1759449599@www.ludlowtaylor.org
SUMMARY:Yom Kippur
DESCRIPTION:
URL:https://www.ludlowtaylor.org/event/yom-kippur/
CATEGORIES:Holidays
END:VEVENT
BEGIN:VEVENT
DTSTART;VALUE=DATE:20251002
DTEND;VALUE=DATE:20251003
DTSTAMP:20260421T183058
CREATED:20250902T201323Z
LAST-MODIFIED:20250929T135644Z
UID:6047-1759363200-1759449599@www.ludlowtaylor.org
SUMMARY:Custodial Workers Appreciation Day
DESCRIPTION:
URL:https://www.ludlowtaylor.org/event/custodial-workers-appreciation-day/
CATEGORIES:Holidays
END:VEVENT
BEGIN:VEVENT
DTSTART;VALUE=DATE:20251003
DTEND;VALUE=DATE:20251004
DTSTAMP:20260421T183058
CREATED:20250910T170743Z
LAST-MODIFIED:20250910T170743Z
UID:6140-1759449600-1759535999@www.ludlowtaylor.org
SUMMARY:ECE: Cox Farms Field Trip (Buses leave at 9:00AM)
DESCRIPTION:Please connect with your child’s room parent for additional information.
URL:https://www.ludlowtaylor.org/event/ece-cox-farms-field-trip-buses-leave-at-900am/
END:VEVENT
BEGIN:VEVENT
DTSTART;VALUE=DATE:20251004
DTEND;VALUE=DATE:20251005
DTSTAMP:20260421T183058
CREATED:20250910T190220Z
LAST-MODIFIED:20250910T190220Z
UID:6154-1759536000-1759622399@www.ludlowtaylor.org
SUMMARY:Grounds Workday (4PM)
DESCRIPTION:
URL:https://www.ludlowtaylor.org/event/grounds-workday-4pm/
END:VEVENT
BEGIN:VEVENT
DTSTART;VALUE=DATE:20251007
DTEND;VALUE=DATE:20251008
DTSTAMP:20260421T183058
CREATED:20250929T212723Z
LAST-MODIFIED:20250929T212723Z
UID:6245-1759795200-1759881599@www.ludlowtaylor.org
SUMMARY:Fire Drill
DESCRIPTION:
URL:https://www.ludlowtaylor.org/event/fire-drill/
END:VEVENT
BEGIN:VEVENT
DTSTART;VALUE=DATE:20251008
DTEND;VALUE=DATE:20251009
DTSTAMP:20260421T183058
CREATED:20250912T174930Z
LAST-MODIFIED:20250922T165959Z
UID:6157-1759881600-1759967999@www.ludlowtaylor.org
SUMMARY:Walk & Roll to School Day
DESCRIPTION:Join in on the fun from 7:30 – 8:30 at Lincoln Park before making our way to school. The Dancing Stars are slated to perform around 7:50!
URL:https://www.ludlowtaylor.org/event/walk-roll-to-school-day-2/
END:VEVENT
BEGIN:VEVENT
DTSTART;VALUE=DATE:20251008
DTEND;VALUE=DATE:20251009
DTSTAMP:20260421T183058
CREATED:20250912T175238Z
LAST-MODIFIED:20250912T175554Z
UID:6159-1759881600-1759967999@www.ludlowtaylor.org
SUMMARY:Schoolwide Birthday Celebration
DESCRIPTION:Get details from your Room Parent(s).
URL:https://www.ludlowtaylor.org/event/schoolwide-birthday-celebration-2/
END:VEVENT
BEGIN:VEVENT
DTSTART;VALUE=DATE:20251009
DTEND;VALUE=DATE:20251010
DTSTAMP:20260421T183058
CREATED:20250720T005024Z
LAST-MODIFIED:20250827T201131Z
UID:5580-1759968000-1760054399@www.ludlowtaylor.org
SUMMARY:No School (Parent-Teacher Conferences)
DESCRIPTION:
URL:https://www.ludlowtaylor.org/event/no-school-parent-teacher-conferences/
CATEGORIES:Students
END:VEVENT
BEGIN:VEVENT
DTSTART;VALUE=DATE:20251010
DTEND;VALUE=DATE:20251011
DTSTAMP:20260421T183058
CREATED:20250720T005248Z
LAST-MODIFIED:20250827T201201Z
UID:5582-1760054400-1760140799@www.ludlowtaylor.org
SUMMARY:No School (Staff Professional Development Day)
DESCRIPTION:
URL:https://www.ludlowtaylor.org/event/no-school-staff-professional-development-day/
CATEGORIES:Students
END:VEVENT
BEGIN:VEVENT
DTSTART;VALUE=DATE:20251013
DTEND;VALUE=DATE:20251014
DTSTAMP:20260421T183058
CREATED:20250720T005435Z
LAST-MODIFIED:20250827T201223Z
UID:5584-1760313600-1760399999@www.ludlowtaylor.org
SUMMARY:No School (Indigenous Peoples' Day)
DESCRIPTION:
URL:https://www.ludlowtaylor.org/event/no-school-indigenous-peoples-day-2/
CATEGORIES:Students
END:VEVENT
BEGIN:VEVENT
DTSTART;VALUE=DATE:20251014
DTEND;VALUE=DATE:20251015
DTSTAMP:20260421T183058
CREATED:20251014T173533Z
LAST-MODIFIED:20251014T173533Z
UID:6285-1760400000-1760486399@www.ludlowtaylor.org
SUMMARY:Events Committee Meeting (7PM\, Virtual)
DESCRIPTION:Please see the PTO Newsletter or the Events WhatsApp group for call in details.
URL:https://www.ludlowtaylor.org/event/events-committee-meeting-7pm-virtual/
END:VEVENT
BEGIN:VEVENT
DTSTART;VALUE=DATE:20251017
DTEND;VALUE=DATE:20251018
DTSTAMP:20260421T183058
CREATED:20250721T222649Z
LAST-MODIFIED:20250827T201247Z
UID:5669-1760659200-1760745599@www.ludlowtaylor.org
SUMMARY:LT Golf Outing
DESCRIPTION:https://www.ludlowtaylorgolfouting.com/ \n 
URL:https://www.ludlowtaylor.org/event/lt-golf-tournament/
CATEGORIES:PTO
END:VEVENT
BEGIN:VEVENT
DTSTART;VALUE=DATE:20251017
DTEND;VALUE=DATE:20251018
DTSTAMP:20260421T183058
CREATED:20250918T150557Z
LAST-MODIFIED:20250918T150557Z
UID:6188-1760659200-1760745599@www.ludlowtaylor.org
SUMMARY:K\, 1st\, & Trujillo Cox Farms Field Trip (9 AM departure)
DESCRIPTION:Please reach out to your room parent(s) for additional details.
URL:https://www.ludlowtaylor.org/event/k-1st-trujillo-cox-farms-field-trip-9-am-departure/
END:VEVENT
BEGIN:VEVENT
DTSTART;VALUE=DATE:20251018
DTEND;VALUE=DATE:20251019
DTSTAMP:20260421T183058
CREATED:20251014T174220Z
LAST-MODIFIED:20251014T174220Z
UID:6289-1760745600-1760831999@www.ludlowtaylor.org
SUMMARY:Spirit Game (12:30 PM)
DESCRIPTION:What:  Washington Spirit vs Orlando Pride \nWhen: Saturday\, October 18 at 12:30PM\nWhere: Audi Field\nHow: Buy your tickets & select your seats from our block. Tickets are $22/person.\n\n\nThe form will collect your contact info and ask how many tickets you’d like.\nHit submit and you’ll then be prompted to pay for your tickets.\nFrom there\, you’ll be directed to a spreadsheet so you can pick your seats\n\nTICKETS WILL BE ELECTRONICALLY TRANSFERRED ON GAME DAY!
URL:https://www.ludlowtaylor.org/event/spirit-game-1230-pm/
END:VEVENT
BEGIN:VEVENT
DTSTART;VALUE=DATE:20251020
DTEND;VALUE=DATE:20251021
DTSTAMP:20260421T183058
CREATED:20250720T012722Z
LAST-MODIFIED:20250827T201306Z
UID:5624-1760918400-1761004799@www.ludlowtaylor.org
SUMMARY:Diwali
DESCRIPTION:
URL:https://www.ludlowtaylor.org/event/diwali-2/
CATEGORIES:Holidays
END:VEVENT
BEGIN:VEVENT
DTSTART;VALUE=DATE:20251020
DTEND;VALUE=DATE:20251021
DTSTAMP:20260421T183058
CREATED:20250929T212830Z
LAST-MODIFIED:20250929T212830Z
UID:6247-1760918400-1761004799@www.ludlowtaylor.org
SUMMARY:The Great Shakeout (Earthquake Drill)
DESCRIPTION:
URL:https://www.ludlowtaylor.org/event/the-great-shakeout-earthquake-drill/
END:VEVENT
BEGIN:VEVENT
DTSTART;VALUE=DATE:20251020
DTEND;VALUE=DATE:20251021
DTSTAMP:20260421T183058
CREATED:20251015T132136Z
LAST-MODIFIED:20251015T132136Z
UID:6294-1760918400-1761004799@www.ludlowtaylor.org
SUMMARY:LSAT Meeting (6:30 PM\, Virtual)
DESCRIPTION:The October meeting of the LSAT will take place on Monday October 20th at 6:30 pm on zoom. Everyone from the L-T community is welcome and encouraged to attend!\n\nThe proposed agenda for the meeting is:\n\n(1) Follow-up from September’s LSAT Meeting: SPED Service Provision w/ Ms. Ward\n– Presentation of data re: last year’s SWD hours shortage/current status\n– This year’s lack of SLP: How best to approach? \n(2) DC CAPE & BOY Data Analysis\n– Presentation of L-T’s DC CAPE scores (3rd-5th EOY ’24-’25)\n– Discussion re: any lessons that can be drawn from last year’s interventions in light of data\n– Presentation of L-T’s iReady/DIBELS scores (K-5th BOY ’25-’26)\n– How do these line up against CSP goals?\n– Did we pick the right goals? \n(3) Community Suggested Topics — TBD\n\nIf anyone has any community suggested topics that they would like to add to our last agenda item and/or discuss at a future meeting\, please email lsat@ludlowtaylor.org by EOD Thursday\, 10/16. A final agenda will follow by the end of the week (10/17).
URL:https://www.ludlowtaylor.org/event/lsat-meeting-630-pm-virtual/
END:VEVENT
BEGIN:VEVENT
DTSTART;VALUE=DATE:20251021
DTEND;VALUE=DATE:20251022
DTSTAMP:20260421T183058
CREATED:20250926T162352Z
LAST-MODIFIED:20250926T162352Z
UID:6243-1761004800-1761091199@www.ludlowtaylor.org
SUMMARY:Auction Committee Meeting @ Fresca (7PM)
DESCRIPTION:
URL:https://www.ludlowtaylor.org/event/auction-committee-meeting-fresca-7pm/
END:VEVENT
BEGIN:VEVENT
DTSTART;VALUE=DATE:20251022
DTEND;VALUE=DATE:20251023
DTSTAMP:20260421T183058
CREATED:20250922T170114Z
LAST-MODIFIED:20250922T170114Z
UID:6209-1761091200-1761177599@www.ludlowtaylor.org
SUMMARY:Picture Day!
DESCRIPTION:
URL:https://www.ludlowtaylor.org/event/picture-day/
END:VEVENT
BEGIN:VEVENT
DTSTART;VALUE=DATE:20251022
DTEND;VALUE=DATE:20251023
DTSTAMP:20260421T183058
CREATED:20250922T170228Z
LAST-MODIFIED:20250922T170228Z
UID:6211-1761091200-1761177599@www.ludlowtaylor.org
SUMMARY:Cross Country Championship Meet!
DESCRIPTION:
URL:https://www.ludlowtaylor.org/event/cross-country-championship-meet/
END:VEVENT
BEGIN:VEVENT
DTSTART;VALUE=DATE:20251023
DTEND;VALUE=DATE:20251024
DTSTAMP:20260421T183058
CREATED:20250912T180034Z
LAST-MODIFIED:20250912T180034Z
UID:6161-1761177600-1761263999@www.ludlowtaylor.org
SUMMARY:PK4 Trivia Night (6-7:30PM)
DESCRIPTION:Here’s your opportunity to engage with PK4 teachers and families. Join in on the fun at Queen Vic (1206 H ST. NE).
URL:https://www.ludlowtaylor.org/event/pk4-trivia-night-6-730pm/
END:VEVENT
BEGIN:VEVENT
DTSTART;VALUE=DATE:20251024
DTEND;VALUE=DATE:20251025
DTSTAMP:20260421T183058
CREATED:20250918T151009Z
LAST-MODIFIED:20250918T151009Z
UID:6190-1761264000-1761350399@www.ludlowtaylor.org
SUMMARY:2nd & 5th Grade Cox Farms Field Trip (9 AM departure)
DESCRIPTION:Please reach out to your room parent(s) for more information.
URL:https://www.ludlowtaylor.org/event/2nd-5th-grade-cox-farms-field-trip-9-am-departure/
END:VEVENT
BEGIN:VEVENT
DTSTART;VALUE=DATE:20251024
DTEND;VALUE=DATE:20251025
DTSTAMP:20260421T183058
CREATED:20250918T183453Z
LAST-MODIFIED:20250918T183453Z
UID:6194-1761264000-1761350399@www.ludlowtaylor.org
SUMMARY:3rd Grade Field Trip to the Capitol
DESCRIPTION:Please contact your room parent(s) for detail.
URL:https://www.ludlowtaylor.org/event/3rd-grade-field-trip-to-the-capitol/
END:VEVENT
END:VCALENDAR