BEGIN:VCALENDAR
VERSION:2.0
PRODID:-//Ludlow-Taylor Elementary School - ECPv6.15.20//NONSGML v1.0//EN
CALSCALE:GREGORIAN
METHOD:PUBLISH
X-ORIGINAL-URL:https://www.ludlowtaylor.org
X-WR-CALDESC:Events for Ludlow-Taylor Elementary School
REFRESH-INTERVAL;VALUE=DURATION:PT1H
X-Robots-Tag:noindex
X-PUBLISHED-TTL:PT1H
BEGIN:VTIMEZONE
TZID:America/New_York
BEGIN:DAYLIGHT
TZOFFSETFROM:-0500
TZOFFSETTO:-0400
TZNAME:EDT
DTSTART:20250309T070000
END:DAYLIGHT
BEGIN:STANDARD
TZOFFSETFROM:-0400
TZOFFSETTO:-0500
TZNAME:EST
DTSTART:20251102T060000
END:STANDARD
BEGIN:DAYLIGHT
TZOFFSETFROM:-0500
TZOFFSETTO:-0400
TZNAME:EDT
DTSTART:20260308T070000
END:DAYLIGHT
BEGIN:STANDARD
TZOFFSETFROM:-0400
TZOFFSETTO:-0500
TZNAME:EST
DTSTART:20261101T060000
END:STANDARD
BEGIN:DAYLIGHT
TZOFFSETFROM:-0500
TZOFFSETTO:-0400
TZNAME:EDT
DTSTART:20270314T070000
END:DAYLIGHT
BEGIN:STANDARD
TZOFFSETFROM:-0400
TZOFFSETTO:-0500
TZNAME:EST
DTSTART:20271107T060000
END:STANDARD
END:VTIMEZONE
BEGIN:VEVENT
DTSTART;VALUE=DATE:20260210
DTEND;VALUE=DATE:20260211
DTSTAMP:20260423T014212
CREATED:20260128T172408Z
LAST-MODIFIED:20260202T155201Z
UID:6764-1770681600-1770767999@www.ludlowtaylor.org
SUMMARY:Valentine's Day Dance (during specials)
DESCRIPTION:Wear pink and/or read
URL:https://www.ludlowtaylor.org/event/valentines-day-dance-during-specials/
END:VEVENT
BEGIN:VEVENT
DTSTART;VALUE=DATE:20260212
DTEND;VALUE=DATE:20260219
DTSTAMP:20260423T014212
CREATED:20260128T172812Z
LAST-MODIFIED:20260128T172812Z
UID:6766-1770854400-1771459199@www.ludlowtaylor.org
SUMMARY:Used Book Drop-Off
DESCRIPTION:Looking for a fun way to declutter? Donate gently used children’s and adult books and help another family discover a new favorite read! \n\nDrop-off dates: February 12-18\nLocations:\n\nLabeled boxes at the 7th Street school entrances during drop-off on Feb. 12–13\nParent Resource Center (glass room across from the Front Office) anytime Feb. 12-18\nAll donated books will be available for swap during the event. Volunteers are also needed to help run the swap—SIGN UP if you can lend a hand!
URL:https://www.ludlowtaylor.org/event/used-book-drop-off/
END:VEVENT
BEGIN:VEVENT
DTSTART;VALUE=DATE:20260213
DTEND;VALUE=DATE:20260214
DTSTAMP:20260423T014212
CREATED:20250720T010609Z
LAST-MODIFIED:20250827T201744Z
UID:5598-1770940800-1771027199@www.ludlowtaylor.org
SUMMARY:No School (Teacher Professional Development)
DESCRIPTION:
URL:https://www.ludlowtaylor.org/event/no-school-teacher-professional-development-2/
CATEGORIES:Students
END:VEVENT
BEGIN:VEVENT
DTSTART;VALUE=DATE:20260214
DTEND;VALUE=DATE:20260215
DTSTAMP:20260423T014212
CREATED:20250720T052102Z
LAST-MODIFIED:20250827T201809Z
UID:5644-1771027200-1771113599@www.ludlowtaylor.org
SUMMARY:Valentine's Day
DESCRIPTION:
URL:https://www.ludlowtaylor.org/event/valentines-day-2/
CATEGORIES:Holidays
END:VEVENT
BEGIN:VEVENT
DTSTART;VALUE=DATE:20260216
DTEND;VALUE=DATE:20260217
DTSTAMP:20260423T014212
CREATED:20250720T010752Z
LAST-MODIFIED:20250827T201839Z
UID:5600-1771200000-1771286399@www.ludlowtaylor.org
SUMMARY:No School (Presidents' Day)
DESCRIPTION:
URL:https://www.ludlowtaylor.org/event/no-school-presidents-day-2/
CATEGORIES:Holidays
END:VEVENT
BEGIN:VEVENT
DTSTART;VALUE=DATE:20260217
DTEND;VALUE=DATE:20260218
DTSTAMP:20260423T014212
CREATED:20250720T014555Z
LAST-MODIFIED:20250827T201856Z
UID:5634-1771286400-1771372799@www.ludlowtaylor.org
SUMMARY:Lunar New Year
DESCRIPTION:
URL:https://www.ludlowtaylor.org/event/lunar-new-year-3/
CATEGORIES:Holidays
END:VEVENT
BEGIN:VEVENT
DTSTART;VALUE=DATE:20260217
DTEND;VALUE=DATE:20260221
DTSTAMP:20260423T014212
CREATED:20260105T164837Z
LAST-MODIFIED:20260128T172926Z
UID:6704-1771286400-1771631999@www.ludlowtaylor.org
SUMMARY:Scholastic Book Fair
DESCRIPTION:
URL:https://www.ludlowtaylor.org/event/scholastic-book-fair/
END:VEVENT
BEGIN:VEVENT
DTSTART;VALUE=DATE:20260218
DTEND;VALUE=DATE:20260219
DTSTAMP:20260423T014212
CREATED:20250720T051437Z
LAST-MODIFIED:20250827T201916Z
UID:5638-1771372800-1771459199@www.ludlowtaylor.org
SUMMARY:Start of Ramadan
DESCRIPTION:
URL:https://www.ludlowtaylor.org/event/start-of-ramadan/
CATEGORIES:Holidays
END:VEVENT
BEGIN:VEVENT
DTSTART;VALUE=DATE:20260219
DTEND;VALUE=DATE:20260220
DTSTAMP:20260423T014212
CREATED:20260105T164804Z
LAST-MODIFIED:20260105T164804Z
UID:6702-1771459200-1771545599@www.ludlowtaylor.org
SUMMARY:Pancakes & Literacy
DESCRIPTION:More details coming soon!
URL:https://www.ludlowtaylor.org/event/pancakes-literacy-2/
END:VEVENT
BEGIN:VEVENT
DTSTART;VALUE=DATE:20260221
DTEND;VALUE=DATE:20260222
DTSTAMP:20260423T014212
CREATED:20260128T173004Z
LAST-MODIFIED:20260128T173004Z
UID:6768-1771632000-1771718399@www.ludlowtaylor.org
SUMMARY:Grounds Clean up Day (1 - 3 PM)
DESCRIPTION:
URL:https://www.ludlowtaylor.org/event/grounds-clean-up-day-1-3-pm/
END:VEVENT
BEGIN:VEVENT
DTSTART;VALUE=DATE:20260223
DTEND;VALUE=DATE:20260224
DTSTAMP:20260423T014212
CREATED:20251020T162458Z
LAST-MODIFIED:20251020T162458Z
UID:6320-1771804800-1771891199@www.ludlowtaylor.org
SUMMARY:LSAT Meeting (6:30 PM\, Virtual)
DESCRIPTION:Check back closer to the date for call in and agenda information.
URL:https://www.ludlowtaylor.org/event/lsat-meeting-630-pm-virtual-5/
END:VEVENT
BEGIN:VEVENT
DTSTART;VALUE=DATE:20260223
DTEND;VALUE=DATE:20260224
DTSTAMP:20260423T014212
CREATED:20260128T173259Z
LAST-MODIFIED:20260128T173259Z
UID:6770-1771804800-1771891199@www.ludlowtaylor.org
SUMMARY:Black History Spirit Week: Melanin Monday
DESCRIPTION:Wear black or brown to celebrate Black identity and pride.
URL:https://www.ludlowtaylor.org/event/black-history-spirit-week-melanin-monday/
END:VEVENT
BEGIN:VEVENT
DTSTART;VALUE=DATE:20260224
DTEND;VALUE=DATE:20260225
DTSTAMP:20260423T014212
CREATED:20260128T173659Z
LAST-MODIFIED:20260128T173716Z
UID:6773-1771891200-1771977599@www.ludlowtaylor.org
SUMMARY:Black History Spirit Week: Trailblazer Tuesday
DESCRIPTION:Come dressed representing an HBCU by wearing a college tee or\ntheir colors.
URL:https://www.ludlowtaylor.org/event/black-history-spirit-week-trailblazer-tuesday/
END:VEVENT
BEGIN:VEVENT
DTSTART;VALUE=DATE:20260225
DTEND;VALUE=DATE:20260226
DTSTAMP:20260423T014212
CREATED:20260128T173952Z
LAST-MODIFIED:20260128T173952Z
UID:6775-1771977600-1772063999@www.ludlowtaylor.org
SUMMARY:Black History Spirit Week: Wellness and Rhythm Wednesday
DESCRIPTION:Wear cultural prints (like Kente\, Ankara\, dashikis)\, or shirts with\nempowering messages. \n \n 
URL:https://www.ludlowtaylor.org/event/black-history-spirit-week-wellness-and-rhythm-wednesday/
END:VEVENT
BEGIN:VEVENT
DTSTART;VALUE=DATE:20260226
DTEND;VALUE=DATE:20260227
DTSTAMP:20260423T014212
CREATED:20260128T174233Z
LAST-MODIFIED:20260128T174250Z
UID:6777-1772064000-1772150399@www.ludlowtaylor.org
SUMMARY:Black History Spirit Week: Throwback Thursday
DESCRIPTION:Pick a decade and dress to represent fashion or figures from that\ntime.
URL:https://www.ludlowtaylor.org/event/black-history-spirit-week-throwback-thursday/
END:VEVENT
BEGIN:VEVENT
DTSTART;VALUE=DATE:20260227
DTEND;VALUE=DATE:20260228
DTSTAMP:20260423T014212
CREATED:20260128T174413Z
LAST-MODIFIED:20260128T174413Z
UID:6779-1772150400-1772236799@www.ludlowtaylor.org
SUMMARY:Black History Spirit Week: Freedom Friday
DESCRIPTION:Wear all black in honor of the trailblazers in Black history past\, present\, and future. \n \n 
URL:https://www.ludlowtaylor.org/event/black-history-spirit-week-freedom-friday/
END:VEVENT
BEGIN:VEVENT
DTSTART;VALUE=DATE:20260227
DTEND;VALUE=DATE:20260228
DTSTAMP:20260423T014212
CREATED:20260216T220831Z
LAST-MODIFIED:20260216T220831Z
UID:6819-1772150400-1772236799@www.ludlowtaylor.org
SUMMARY:5th Grade Liberty Ski Field Trip
DESCRIPTION:
URL:https://www.ludlowtaylor.org/event/5th-grade-liberty-ski-field-trip/
END:VEVENT
BEGIN:VEVENT
DTSTART;VALUE=DATE:20260305
DTEND;VALUE=DATE:20260306
DTSTAMP:20260423T014212
CREATED:20260224T183451Z
LAST-MODIFIED:20260224T183451Z
UID:6850-1772668800-1772755199@www.ludlowtaylor.org
SUMMARY:4th Grade Trivia Night (6 - 7:30 PM\, The Queen Vic)
DESCRIPTION:
URL:https://www.ludlowtaylor.org/event/4th-grade-trivia-night-6-730-pm-the-queen-vic/
END:VEVENT
BEGIN:VEVENT
DTSTART;VALUE=DATE:20260306
DTEND;VALUE=DATE:20260307
DTSTAMP:20260423T014212
CREATED:20260112T160956Z
LAST-MODIFIED:20260112T181743Z
UID:6728-1772755200-1772841599@www.ludlowtaylor.org
SUMMARY:LT Learning Lab: Paying for College Without Sacrificing Your Retirement: The smart way parents should be planning now (12:30 - 1:30 PM)
DESCRIPTION: https://us06web.zoom.us/j/84856442879?pwd=ysEqPkKbo8FyMalDnNWFtUpIXgiWkC.1\nMeeting ID: 848 5644 2879\nPasscode: 664742
URL:https://www.ludlowtaylor.org/event/lt-learning-lab-paying-for-college-without-sacrificing-your-retirement-the-smart-way-parents-should-be-planning-now-1230-pm/
END:VEVENT
BEGIN:VEVENT
DTSTART;VALUE=DATE:20260306
DTEND;VALUE=DATE:20260307
DTSTAMP:20260423T014212
CREATED:20260211T154025Z
LAST-MODIFIED:20260211T154025Z
UID:6813-1772755200-1772841599@www.ludlowtaylor.org
SUMMARY:Parent's Night Out (6 - 8:30 PM\, Cynthia Bar & Bistro)
DESCRIPTION:Registration form:\n https://form.jotform.com/260325640255148
URL:https://www.ludlowtaylor.org/event/parents-night-out-6-830-pm-cynthia-bar-bistro/
END:VEVENT
BEGIN:VEVENT
DTSTART;VALUE=DATE:20260306
DTEND;VALUE=DATE:20260307
DTSTAMP:20260423T014212
CREATED:20260224T161955Z
LAST-MODIFIED:20260224T161955Z
UID:6834-1772755200-1772841599@www.ludlowtaylor.org
SUMMARY:Mad Science: “Things That Go Boom”
DESCRIPTION:9:00–9:45 (PK3\, PK4\, K\, 1st)\n9:45–10:00 Transition\n10:00–10:45 (2nd–5th)
URL:https://www.ludlowtaylor.org/event/mad-science-things-that-go-boom/
END:VEVENT
BEGIN:VEVENT
DTSTART;VALUE=DATE:20260306
DTEND;VALUE=DATE:20260307
DTSTAMP:20260423T014212
CREATED:20260227T204436Z
LAST-MODIFIED:20260227T204436Z
UID:6859-1772755200-1772841599@www.ludlowtaylor.org
SUMMARY:TFS Session 3 Club Registration Opens (5PM)
DESCRIPTION:Please follow the steps below to guide you through the registration process: \n1. Purchase a ONE-TIME membership HERE to have access to all TFS activities at Ludlow-Taylor (if you purchased one in Session 1 or 2 when registering for after-care\, you will NOT need to purchase again. We recommend you complete this before March 6th.) \n  \n2. Fill out the information for your students and your profile is then complete! \n  \n At 5pm on March 6th\, all of the enrichment clubs for you to register will go live. To find and pay for clubs follow the steps below: \n  \n1. Go to our website \n2. Click the tab ‘Location’ \n3. Click Ludlow -Taylor \n4. Click Sessions-there you will see the price and names of all that is live and ready for you to register.
URL:https://www.ludlowtaylor.org/event/tfs-session-3-club-registration-opens-5pm/
END:VEVENT
BEGIN:VEVENT
DTSTART;VALUE=DATE:20260308
DTEND;VALUE=DATE:20260309
DTSTAMP:20260423T014212
CREATED:20250720T051822Z
LAST-MODIFIED:20250827T201938Z
UID:5642-1772928000-1773014399@www.ludlowtaylor.org
SUMMARY:International Women's Day
DESCRIPTION:
URL:https://www.ludlowtaylor.org/event/international-womens-day/
CATEGORIES:Holidays
END:VEVENT
BEGIN:VEVENT
DTSTART;VALUE=DATE:20260308
DTEND;VALUE=DATE:20260309
DTSTAMP:20260423T014212
CREATED:20260204T144630Z
LAST-MODIFIED:20260204T144630Z
UID:6806-1772928000-1773014399@www.ludlowtaylor.org
SUMMARY:LT Parent Book Club: The Anxious Generation (7 PM\, Solid State Books)
DESCRIPTION:Thank you to all who have already reached out and/or joined the L-T Tech & Childhood Discussion Whatsapp group. In case you are interested\, but not already on the list\, I just wanted to share the date and details for the discussion. We will be meeting at Solid State Books (600F H St NE\, Washington\, DC 20002) on Sunday\, March 8 at 7pm. Solid State has also ordered copies of The Anxious Generation for us\, so if you are interested in reading it\, please consider stopping by and purchasing from them. \nInterested in learning more? Below are some resources on the book.\n\nNYT “Our Kids Are the Least Flourishing Generation We Know Of”\nhttps://www.nytimes.com/2025/04/01/opinion/ezra-klein-podcast-jonathan-haidt.html \nDr. Becky Good Inside with Jonathan Haidt\nhttps://www.goodinside.com/podcast/7065/the-anxious-generation-with-jonathan-haidt/ \nThe Four Norms Summary\nhttps://www.anxiousgeneration.com/pdfs/four-norms.pdf \nFree Parent’s Guide\nhttps://www.anxiousgeneration.com/take-action
URL:https://www.ludlowtaylor.org/event/lt-parent-book-club-the-anxious-generation-7-pm-solid-state-books/
END:VEVENT
BEGIN:VEVENT
DTSTART;VALUE=DATE:20260310
DTEND;VALUE=DATE:20260311
DTSTAMP:20260423T014212
CREATED:20251007T160953Z
LAST-MODIFIED:20251007T160953Z
UID:6264-1773100800-1773187199@www.ludlowtaylor.org
SUMMARY:School wide Birthday Celebration
DESCRIPTION:Reach out to your room parent(s) for more details.
URL:https://www.ludlowtaylor.org/event/school-wide-birthday-celebration-6/
END:VEVENT
BEGIN:VEVENT
DTSTART;VALUE=DATE:20260310
DTEND;VALUE=DATE:20260311
DTSTAMP:20260423T014212
CREATED:20260224T180736Z
LAST-MODIFIED:20260224T180736Z
UID:6846-1773100800-1773187199@www.ludlowtaylor.org
SUMMARY:Auction Committee Meeting (7PM\, Fresca)
DESCRIPTION:
URL:https://www.ludlowtaylor.org/event/auction-committee-meeting-7pm-fresca-5/
END:VEVENT
BEGIN:VEVENT
DTSTART;VALUE=DATE:20260311
DTEND;VALUE=DATE:20260312
DTSTAMP:20260423T014212
CREATED:20260108T180643Z
LAST-MODIFIED:20260108T180643Z
UID:6709-1773187200-1773273599@www.ludlowtaylor.org
SUMMARY:Prospective Families Tour (10 AM)
DESCRIPTION:For more information and to sign up\, go here: Prospective Families – Ludlow-Taylor Elementary School
URL:https://www.ludlowtaylor.org/event/prospective-families-tour-10-am/
END:VEVENT
BEGIN:VEVENT
DTSTART;VALUE=DATE:20260311
DTEND;VALUE=DATE:20260312
DTSTAMP:20260423T014212
CREATED:20260227T203041Z
LAST-MODIFIED:20260227T203041Z
UID:6853-1773187200-1773273599@www.ludlowtaylor.org
SUMMARY:ECE Committee Meeting (6:30 PM\, Location TBD)
DESCRIPTION:
URL:https://www.ludlowtaylor.org/event/ece-committee-meeting-630-pm-location-tbd/
END:VEVENT
BEGIN:VEVENT
DTSTART;VALUE=DATE:20260312
DTEND;VALUE=DATE:20260313
DTSTAMP:20260423T014212
CREATED:20260227T203627Z
LAST-MODIFIED:20260227T203627Z
UID:6855-1773273600-1773359999@www.ludlowtaylor.org
SUMMARY:4th & 5th Grade Field Trip to Women's 2026 CAA Basketball Tournament
DESCRIPTION:
URL:https://www.ludlowtaylor.org/event/4th-5th-grade-field-trip-to-womens-2026-caa-basketball-tournament/
END:VEVENT
BEGIN:VEVENT
DTSTART;VALUE=DATE:20260312
DTEND;VALUE=DATE:20260313
DTSTAMP:20260423T014212
CREATED:20260304T190710Z
LAST-MODIFIED:20260304T190710Z
UID:6874-1773273600-1773359999@www.ludlowtaylor.org
SUMMARY:No TFS Clubs\, No MWF/RWF (still before/after care)
DESCRIPTION:
URL:https://www.ludlowtaylor.org/event/no-tfs-clubs-no-mwf-rwf-still-before-after-care/
END:VEVENT
END:VCALENDAR