BEGIN:VCALENDAR
VERSION:2.0
PRODID:-//Ludlow-Taylor Elementary School - ECPv6.15.20//NONSGML v1.0//EN
CALSCALE:GREGORIAN
METHOD:PUBLISH
X-ORIGINAL-URL:https://www.ludlowtaylor.org
X-WR-CALDESC:Events for Ludlow-Taylor Elementary School
REFRESH-INTERVAL;VALUE=DURATION:PT1H
X-Robots-Tag:noindex
X-PUBLISHED-TTL:PT1H
BEGIN:VTIMEZONE
TZID:America/New_York
BEGIN:DAYLIGHT
TZOFFSETFROM:-0500
TZOFFSETTO:-0400
TZNAME:EDT
DTSTART:20240310T070000
END:DAYLIGHT
BEGIN:STANDARD
TZOFFSETFROM:-0400
TZOFFSETTO:-0500
TZNAME:EST
DTSTART:20241103T060000
END:STANDARD
BEGIN:DAYLIGHT
TZOFFSETFROM:-0500
TZOFFSETTO:-0400
TZNAME:EDT
DTSTART:20250309T070000
END:DAYLIGHT
BEGIN:STANDARD
TZOFFSETFROM:-0400
TZOFFSETTO:-0500
TZNAME:EST
DTSTART:20251102T060000
END:STANDARD
BEGIN:DAYLIGHT
TZOFFSETFROM:-0500
TZOFFSETTO:-0400
TZNAME:EDT
DTSTART:20260308T070000
END:DAYLIGHT
BEGIN:STANDARD
TZOFFSETFROM:-0400
TZOFFSETTO:-0500
TZNAME:EST
DTSTART:20261101T060000
END:STANDARD
BEGIN:DAYLIGHT
TZOFFSETFROM:-0500
TZOFFSETTO:-0400
TZNAME:EDT
DTSTART:20270314T070000
END:DAYLIGHT
BEGIN:STANDARD
TZOFFSETFROM:-0400
TZOFFSETTO:-0500
TZNAME:EST
DTSTART:20271107T060000
END:STANDARD
END:VTIMEZONE
BEGIN:VEVENT
DTSTART;VALUE=DATE:20251202
DTEND;VALUE=DATE:20251203
DTSTAMP:20260422T181214
CREATED:20251124T172659Z
LAST-MODIFIED:20251124T172659Z
UID:6499-1764633600-1764719999@www.ludlowtaylor.org
SUMMARY:Auction Committee Meeting (7 PM\, Fresca)
DESCRIPTION:
URL:https://www.ludlowtaylor.org/event/auction-committee-meeting-7-pm-fresca/
END:VEVENT
BEGIN:VEVENT
DTSTART;VALUE=DATE:20251203
DTEND;VALUE=DATE:20251204
DTSTAMP:20260422T181214
CREATED:20251027T130151Z
LAST-MODIFIED:20251027T130151Z
UID:6369-1764720000-1764806399@www.ludlowtaylor.org
SUMMARY:Girl's Basketball Game (5:30 PM at Wheatley EC)
DESCRIPTION:vs. Capitol Hill Montessori ES
URL:https://www.ludlowtaylor.org/event/girls-basketball-game-530-pm-at-wheatley-ec/
CATEGORIES:Sports
END:VEVENT
BEGIN:VEVENT
DTSTART;VALUE=DATE:20251204
DTEND;VALUE=DATE:20251205
DTSTAMP:20260422T181214
CREATED:20251124T173616Z
LAST-MODIFIED:20251124T173616Z
UID:6501-1764806400-1764892799@www.ludlowtaylor.org
SUMMARY:Spirit Week: Holidays Around the World
DESCRIPTION:Wear colors to represent Hannukah\, Christmas\, Kwanzaa or any other holiday your family celebrates. \n12 days of Cheer.pdf
URL:https://www.ludlowtaylor.org/event/spirit-week-holidays-around-the-world/
END:VEVENT
BEGIN:VEVENT
DTSTART;VALUE=DATE:20251205
DTEND;VALUE=DATE:20251206
DTSTAMP:20260422T181214
CREATED:20251124T174643Z
LAST-MODIFIED:20251124T174643Z
UID:6504-1764892800-1764979199@www.ludlowtaylor.org
SUMMARY:Spirit Week: Wacky Day
DESCRIPTION:Wear your wackiest outfit! \n12 days of Cheer.pdf
URL:https://www.ludlowtaylor.org/event/spirit-week-wacky-day/
END:VEVENT
BEGIN:VEVENT
DTSTART;VALUE=DATE:20251205
DTEND;VALUE=DATE:20251206
DTSTAMP:20260422T181214
CREATED:20251027T130251Z
LAST-MODIFIED:20251027T130251Z
UID:6371-1764892800-1764979199@www.ludlowtaylor.org
SUMMARY:Girl's Basketball Game (5:30 PM at Browne EC)
DESCRIPTION:vs. Maury ES
URL:https://www.ludlowtaylor.org/event/girls-basketball-game-530-pm-at-browne-ec/
CATEGORIES:Sports
END:VEVENT
BEGIN:VEVENT
DTSTART;VALUE=DATE:20251205
DTEND;VALUE=DATE:20251206
DTSTAMP:20260422T181214
CREATED:20251112T192002Z
LAST-MODIFIED:20251112T192002Z
UID:6455-1764892800-1764979199@www.ludlowtaylor.org
SUMMARY:ECE Field Trip - Adventure Theatre
DESCRIPTION:
URL:https://www.ludlowtaylor.org/event/ece-field-trip-adventure-theatre/
END:VEVENT
BEGIN:VEVENT
DTSTART;VALUE=DATE:20251205
DTEND;VALUE=DATE:20251206
DTSTAMP:20260422T181214
CREATED:20251124T175018Z
LAST-MODIFIED:20251124T175018Z
UID:6507-1764892800-1764979199@www.ludlowtaylor.org
SUMMARY:Session 1 of Future Stars Clubs & MWF/RWF Ends
DESCRIPTION:
URL:https://www.ludlowtaylor.org/event/session-1-of-future-stars-clubs-mwf-rwf-ends/
END:VEVENT
BEGIN:VEVENT
DTSTART;VALUE=DATE:20251205
DTEND;VALUE=DATE:20251206
DTSTAMP:20260422T181214
CREATED:20251124T180436Z
LAST-MODIFIED:20251124T180436Z
UID:6509-1764892800-1764979199@www.ludlowtaylor.org
SUMMARY:Session 2 of Future Stars Clubs & MWF/RWF Registration Begins (5 PM)
DESCRIPTION:Session 2 Schedule and Guide \n  \nNEW for 2026! – Performance Session\nAre you looking for The Dancing Stars and Theatreworkz programming? Both Dancing Stars and Theatreworkz will now run continuously through Session 2 and Session 3 (January 5th-June 5th\, 2026)\, and because performance-based programs require ongoing rehearsal and skill development\, students must be registered for both sessions. While these programs follow the same weekly schedule and the same start and end dates as all other clubs\, they operate as one unified performance season. \nWhy They Operate as a Combined Session\nDance choreography and theater production both require time\, consistency\, and continuity. By keeping students enrolled through both sessions\, we ensure: \nStronger skill progression \nConsistent rehearsal time \nCohesive cast and choreography \nHigh-quality spring performances for families \nWhat Parents Can Expect\nThe program runs across the full timeline of Session 2 + Session 3\, but follows the same dates and weekly schedule as all other Future Stars clubs. \nThere will still be the make-up dates in March just in case there I️s inclement weather. \nFamilies will receive additional information about costumes\, scripts\, performance dates\, and rehearsal expectations as we move through the season. \nRegistration Notes\nEnrollment in both Session 2 and Session 3 is required. \nYou will not need to register again for Session 3 \nThere will be a pre-registration link sent to currently enrolled participants I️n Theatreworkz and The Dancing Stars. \nPayment Options: \nOne full payment for the entire Session \nTwo half-session payments (similar to paying I️n full for Session 2 and Session 3) \nMonthly Payments \n  \nNEW CLUB ALERT🚨\nWe are excited to introduce several new and engaging clubs to our schedule this session: \nAnimal Lovers Club — Led by the wonderful Ms. Morrison\, students will explore a variety of animals\, learn about animal care and protection\, and even take a special trip to the Atlas Dog House. \nCubing Club — Did you know our very own Mr. Malloy is a Rubik’s Cube master? In Cubing Club\, students will learn solving strategies\, practice different cube types\, and compete in fun\, friendly challenges. \nArchitecture Club — Led by Lauryn Hall\, who will graduate this spring from the University of Maryland’s Master of Architecture program\, students will learn how architects think as they design their own floor plans\, study real-world buildings\, and create model structures. \nTheatreworkz: Behind the Curtain — A creative extension of our Theatreworkz program (not part of the performance session)\, where students will design and build the sets and props for our upcoming spring musical\, Aladdin Jr.
URL:https://www.ludlowtaylor.org/event/session-2-of-future-stars-clubs-mwf-rwf-registration-begins-5-pm/
END:VEVENT
BEGIN:VEVENT
DTSTART;VALUE=DATE:20251206
DTEND;VALUE=DATE:20251207
DTSTAMP:20260422T181214
CREATED:20251106T211043Z
LAST-MODIFIED:20251106T211043Z
UID:6412-1764979200-1765065599@www.ludlowtaylor.org
SUMMARY:Grounds Cleanup (2 - 4 PM)
DESCRIPTION:
URL:https://www.ludlowtaylor.org/event/grounds-cleanup-2-4-pm/
END:VEVENT
BEGIN:VEVENT
DTSTART;VALUE=DATE:20251208
DTEND;VALUE=DATE:20251209
DTSTAMP:20260422T181214
CREATED:20251124T180649Z
LAST-MODIFIED:20251124T180649Z
UID:6511-1765152000-1765238399@www.ludlowtaylor.org
SUMMARY:Spirit Week: Book Character Day
DESCRIPTION:Dress up as your favorite book character. \n12 days of Cheer.pdf
URL:https://www.ludlowtaylor.org/event/spirit-week-book-character-day/
END:VEVENT
BEGIN:VEVENT
DTSTART;VALUE=DATE:20251209
DTEND;VALUE=DATE:20251210
DTSTAMP:20260422T181214
CREATED:20251112T191407Z
LAST-MODIFIED:20251112T191407Z
UID:6450-1765238400-1765324799@www.ludlowtaylor.org
SUMMARY:Art Night (6:15 - 8:00 PM)
DESCRIPTION:Join us on Tuesday\, December 9th\, from 6:15–8PM\, for an evening celebrating creativity! Our wonderful new art teacher\, Ms. Morgan\, will showcase stunning art projects from all grade levels. Families can also enjoy special performances and club showcases throughout the night. \nShowcase Flyer
URL:https://www.ludlowtaylor.org/event/art-night-615-800-pm/
END:VEVENT
BEGIN:VEVENT
DTSTART;VALUE=DATE:20251209
DTEND;VALUE=DATE:20251210
DTSTAMP:20260422T181214
CREATED:20251124T180852Z
LAST-MODIFIED:20251124T180852Z
UID:6513-1765238400-1765324799@www.ludlowtaylor.org
SUMMARY:Spirit Week: Winter Vacay
DESCRIPTION:Dress for a winter getaway to a warmer destination. \n12 days of Cheer.pdf
URL:https://www.ludlowtaylor.org/event/spirit-week-winter-vacay/
END:VEVENT
BEGIN:VEVENT
DTSTART;VALUE=DATE:20251210
DTEND;VALUE=DATE:20251211
DTSTAMP:20260422T181214
CREATED:20251007T160733Z
LAST-MODIFIED:20251007T160733Z
UID:6258-1765324800-1765411199@www.ludlowtaylor.org
SUMMARY:School wide Birthday Celebration
DESCRIPTION:Reach out to your room parent(s) for more information.
URL:https://www.ludlowtaylor.org/event/school-wide-birthday-celebration-3/
END:VEVENT
BEGIN:VEVENT
DTSTART;VALUE=DATE:20251210
DTEND;VALUE=DATE:20251211
DTSTAMP:20260422T181214
CREATED:20251124T180954Z
LAST-MODIFIED:20251124T180954Z
UID:6515-1765324800-1765411199@www.ludlowtaylor.org
SUMMARY:Spirit Week: Holiday Socks
DESCRIPTION:Wear your favorite holiday socks. \n12 days of Cheer.pdf
URL:https://www.ludlowtaylor.org/event/spirit-week-holiday-socks/
END:VEVENT
BEGIN:VEVENT
DTSTART;VALUE=DATE:20251211
DTEND;VALUE=DATE:20251212
DTSTAMP:20260422T181214
CREATED:20251112T191620Z
LAST-MODIFIED:20251112T191620Z
UID:6453-1765411200-1765497599@www.ludlowtaylor.org
SUMMARY:December in our Town (6:15 - 8:00 PM)
DESCRIPTION:On Thursday\, December 11th\, from 6:15–8PM\, come enjoy December in Our Town\, a joyful recital led by Ms. Alexander\, featuring heartwarming vocal performances by our PS3–2nd students. \nShowcase Flyer
URL:https://www.ludlowtaylor.org/event/december-in-our-town-615-800-pm/
END:VEVENT
BEGIN:VEVENT
DTSTART;VALUE=DATE:20251211
DTEND;VALUE=DATE:20251212
DTSTAMP:20260422T181214
CREATED:20251201T200106Z
LAST-MODIFIED:20251201T200106Z
UID:6584-1765411200-1765497599@www.ludlowtaylor.org
SUMMARY:Spirit Week: Winter Wonderland
DESCRIPTION:Dress up as a snowman. \n12 days of Cheer.pdf
URL:https://www.ludlowtaylor.org/event/spirit-week-winter-wonderland/
END:VEVENT
BEGIN:VEVENT
DTSTART;VALUE=DATE:20251212
DTEND;VALUE=DATE:20251213
DTSTAMP:20260422T181214
CREATED:20251201T200205Z
LAST-MODIFIED:20251201T200205Z
UID:6586-1765497600-1765583999@www.ludlowtaylor.org
SUMMARY:Spirit Week: Holiday Pizazz
DESCRIPTION:Wear your favorite holiday dress outfit. \n12 days of Cheer.pdf
URL:https://www.ludlowtaylor.org/event/spirit-week-holiday-pizazz/
END:VEVENT
BEGIN:VEVENT
DTSTART;VALUE=DATE:20251214
DTEND;VALUE=DATE:20251223
DTSTAMP:20260422T181214
CREATED:20250720T013701Z
LAST-MODIFIED:20250827T201521Z
UID:5630-1765670400-1766447999@www.ludlowtaylor.org
SUMMARY:Hanukkah
DESCRIPTION:
URL:https://www.ludlowtaylor.org/event/hanukkah/
CATEGORIES:Holidays
END:VEVENT
BEGIN:VEVENT
DTSTART;VALUE=DATE:20251215
DTEND;VALUE=DATE:20251216
DTSTAMP:20260422T181214
CREATED:20251124T181225Z
LAST-MODIFIED:20251124T181225Z
UID:6517-1765756800-1765843199@www.ludlowtaylor.org
SUMMARY:Spirit Week: Jingle Jangle Day
DESCRIPTION:Wear your favorite holiday headgear. \n12 days of Cheer.pdf
URL:https://www.ludlowtaylor.org/event/spirit-week-jingle-jangle-day/
END:VEVENT
BEGIN:VEVENT
DTSTART;VALUE=DATE:20251216
DTEND;VALUE=DATE:20251217
DTSTAMP:20260422T181214
CREATED:20251124T181510Z
LAST-MODIFIED:20251124T181510Z
UID:6519-1765843200-1765929599@www.ludlowtaylor.org
SUMMARY:Spirit Week: Twin Day
DESCRIPTION:Find a friend and dress up as twins. \n12 days of Cheer.pdf
URL:https://www.ludlowtaylor.org/event/spirit-week-twin-day/
END:VEVENT
BEGIN:VEVENT
DTSTART;VALUE=DATE:20251217
DTEND;VALUE=DATE:20251218
DTSTAMP:20260422T181214
CREATED:20250912T180752Z
LAST-MODIFIED:20251124T181117Z
UID:6165-1765929600-1766015999@www.ludlowtaylor.org
SUMMARY:2nd Grade Trivia Night (6-7:30PM)
DESCRIPTION:Here’s your opportunity to engage with 2nd Grade teachers and families. Join in on the fun at Queen Vic (1206 H ST. NE)
URL:https://www.ludlowtaylor.org/event/2nd-grade-trivia-night-6-730pm/
END:VEVENT
BEGIN:VEVENT
DTSTART;VALUE=DATE:20251217
DTEND;VALUE=DATE:20251218
DTSTAMP:20260422T181214
CREATED:20251124T181931Z
LAST-MODIFIED:20251124T181931Z
UID:6525-1765929600-1766015999@www.ludlowtaylor.org
SUMMARY:Spirit Week: Home for the Holidays
DESCRIPTION:Wear your favorite winter flannel. \n12 days of Cheer.pdf
URL:https://www.ludlowtaylor.org/event/spirit-week-home-for-the-holidays/
END:VEVENT
BEGIN:VEVENT
DTSTART;VALUE=DATE:20251218
DTEND;VALUE=DATE:20251219
DTSTAMP:20260422T181214
CREATED:20251114T175628Z
LAST-MODIFIED:20251114T175628Z
UID:6463-1766016000-1766102399@www.ludlowtaylor.org
SUMMARY:Show Choir Performance (12 PM\, Union Stage)
DESCRIPTION:Ms. Alexander’s LT Show Choir will perform at the Stage at Union Station (main atrium) at 12 pm on Thursday\, December 18. Come celebrate our third\, fourth and fifth grade singers in this 15-minute holiday show.
URL:https://www.ludlowtaylor.org/event/show-choir-performance-12-pm-union-stage/
END:VEVENT
BEGIN:VEVENT
DTSTART;VALUE=DATE:20251218
DTEND;VALUE=DATE:20251219
DTSTAMP:20260422T181214
CREATED:20251124T181634Z
LAST-MODIFIED:20251124T181634Z
UID:6521-1766016000-1766102399@www.ludlowtaylor.org
SUMMARY:Spirit Week: Winter Slumber
DESCRIPTION:Wear your pajamas to school day. \n12 days of Cheer.pdf
URL:https://www.ludlowtaylor.org/event/spirit-week-winter-slumber/
END:VEVENT
BEGIN:VEVENT
DTSTART;VALUE=DATE:20251219
DTEND;VALUE=DATE:20251220
DTSTAMP:20260422T181214
CREATED:20251021T020955Z
LAST-MODIFIED:20251216T144315Z
UID:6342-1766102400-1766188799@www.ludlowtaylor.org
SUMMARY:Prospective Families Open House (10am)
DESCRIPTION:
URL:https://www.ludlowtaylor.org/event/prospective-families-open-house-10am/
END:VEVENT
BEGIN:VEVENT
DTSTART;VALUE=DATE:20251219
DTEND;VALUE=DATE:20251220
DTSTAMP:20260422T181214
CREATED:20251124T181752Z
LAST-MODIFIED:20251124T181752Z
UID:6523-1766102400-1766188799@www.ludlowtaylor.org
SUMMARY:Spirit Week: (National) Ugly Sweater Day
DESCRIPTION:Wear a holiday ugly or ugly sweater. \n12 days of Cheer.pdf
URL:https://www.ludlowtaylor.org/event/spirit-week-national-ugly-sweater-day/
END:VEVENT
BEGIN:VEVENT
DTSTART;VALUE=DATE:20251222
DTEND;VALUE=DATE:20260103
DTSTAMP:20260422T181214
CREATED:20250720T005958Z
LAST-MODIFIED:20250827T201541Z
UID:5592-1766361600-1767398399@www.ludlowtaylor.org
SUMMARY:No School (Winter Break)
DESCRIPTION:
URL:https://www.ludlowtaylor.org/event/no-school-winter-break/
CATEGORIES:Holidays
END:VEVENT
BEGIN:VEVENT
DTSTART;VALUE=DATE:20251225
DTEND;VALUE=DATE:20251226
DTSTAMP:20260422T181214
CREATED:20250720T013454Z
LAST-MODIFIED:20250827T201558Z
UID:5628-1766620800-1766707199@www.ludlowtaylor.org
SUMMARY:Christmas
DESCRIPTION:
URL:https://www.ludlowtaylor.org/event/christmas/
CATEGORIES:Holidays
END:VEVENT
BEGIN:VEVENT
DTSTART;VALUE=DATE:20251226
DTEND;VALUE=DATE:20260102
DTSTAMP:20260422T181214
CREATED:20250720T013835Z
LAST-MODIFIED:20250827T201615Z
UID:5632-1766707200-1767311999@www.ludlowtaylor.org
SUMMARY:Kwanzaa
DESCRIPTION:
URL:https://www.ludlowtaylor.org/event/kwanzaa/
CATEGORIES:Holidays
END:VEVENT
BEGIN:VEVENT
DTSTART;VALUE=DATE:20260101
DTEND;VALUE=DATE:20260102
DTSTAMP:20260422T181214
CREATED:20250720T053149Z
LAST-MODIFIED:20250827T201635Z
UID:5654-1767225600-1767311999@www.ludlowtaylor.org
SUMMARY:New Year's Day
DESCRIPTION:
URL:https://www.ludlowtaylor.org/event/new-years-day/
CATEGORIES:Holidays
END:VEVENT
END:VCALENDAR