BEGIN:VCALENDAR
VERSION:2.0
PRODID:-//Ludlow-Taylor Elementary School - ECPv6.15.20//NONSGML v1.0//EN
CALSCALE:GREGORIAN
METHOD:PUBLISH
X-ORIGINAL-URL:https://www.ludlowtaylor.org
X-WR-CALDESC:Events for Ludlow-Taylor Elementary School
REFRESH-INTERVAL;VALUE=DURATION:PT1H
X-Robots-Tag:noindex
X-PUBLISHED-TTL:PT1H
BEGIN:VTIMEZONE
TZID:America/New_York
BEGIN:DAYLIGHT
TZOFFSETFROM:-0500
TZOFFSETTO:-0400
TZNAME:EDT
DTSTART:20230312T070000
END:DAYLIGHT
BEGIN:STANDARD
TZOFFSETFROM:-0400
TZOFFSETTO:-0500
TZNAME:EST
DTSTART:20231105T060000
END:STANDARD
BEGIN:DAYLIGHT
TZOFFSETFROM:-0500
TZOFFSETTO:-0400
TZNAME:EDT
DTSTART:20240310T070000
END:DAYLIGHT
BEGIN:STANDARD
TZOFFSETFROM:-0400
TZOFFSETTO:-0500
TZNAME:EST
DTSTART:20241103T060000
END:STANDARD
BEGIN:DAYLIGHT
TZOFFSETFROM:-0500
TZOFFSETTO:-0400
TZNAME:EDT
DTSTART:20250309T070000
END:DAYLIGHT
BEGIN:STANDARD
TZOFFSETFROM:-0400
TZOFFSETTO:-0500
TZNAME:EST
DTSTART:20251102T060000
END:STANDARD
END:VTIMEZONE
BEGIN:VEVENT
DTSTART;VALUE=DATE:20241008
DTEND;VALUE=DATE:20241010
DTSTAMP:20260422T181211
CREATED:20240927T064209Z
LAST-MODIFIED:20240927T065420Z
UID:4608-1728417600-1728503999@www.ludlowtaylor.org
SUMMARY:Walk & Roll to School Day (7:30-8:30AM)
DESCRIPTION:@ Lincoln Park with the Future Stars dancers performing at 7:40am!
URL:https://www.ludlowtaylor.org/event/walk-roll-to-school-day/
END:VEVENT
BEGIN:VEVENT
DTSTART;VALUE=DATE:20241008
DTEND;VALUE=DATE:20241010
DTSTAMP:20260422T181211
CREATED:20241001T175627Z
LAST-MODIFIED:20241001T175627Z
UID:4680-1728417600-1728503999@www.ludlowtaylor.org
SUMMARY:ECE Committee Kick-Off (7:30PM)
DESCRIPTION:Any interested caregivers of ECE (PK3 and PK4) students are invited to join us for an ECE Committee kick-off meeting Wednesday\, October 9 at 7:30pm at Irregardless (502 H St NE).  The ECE Committee supports ECE teachers by providing support for field trips\, in-school activities\, and a week-long celebration for Week of the Young Child (April 5-11). Attending the kick-off is completely optional\, and you do not need to attend to be on the committee – just an opportunity for anyone interested to meet face-to-face before we settle into a regular schedule of virtual meetings for the rest of the school year.
URL:https://www.ludlowtaylor.org/event/ece-committee-kick-off-730pm/
END:VEVENT
BEGIN:VEVENT
DTSTART;VALUE=DATE:20241009
DTEND;VALUE=DATE:20241011
DTSTAMP:20260422T181211
CREATED:20240927T051155Z
LAST-MODIFIED:20240927T051155Z
UID:4498-1728504000-1728590399@www.ludlowtaylor.org
SUMMARY:NO SCHOOL
DESCRIPTION:Parent-Teacher Conferences
URL:https://www.ludlowtaylor.org/event/no-school-7/
END:VEVENT
BEGIN:VEVENT
DTSTART;VALUE=DATE:20241010
DTEND;VALUE=DATE:20241012
DTSTAMP:20260422T181211
CREATED:20240927T051305Z
LAST-MODIFIED:20240927T051305Z
UID:4500-1728590400-1728676799@www.ludlowtaylor.org
SUMMARY:NO SCHOOL
DESCRIPTION:Teacher Professional Development Day
URL:https://www.ludlowtaylor.org/event/no-school-8/
END:VEVENT
BEGIN:VEVENT
DTSTART;VALUE=DATE:20241010
DTEND;VALUE=DATE:20241012
DTSTAMP:20260422T181211
CREATED:20241003T180730Z
LAST-MODIFIED:20241003T180730Z
UID:4686-1728590400-1728676799@www.ludlowtaylor.org
SUMMARY:Yom Kippur Begins
DESCRIPTION:
URL:https://www.ludlowtaylor.org/event/yom-kippur-begins/
END:VEVENT
BEGIN:VEVENT
DTSTART;VALUE=DATE:20241011
DTEND;VALUE=DATE:20241013
DTSTAMP:20260422T181211
CREATED:20241003T180800Z
LAST-MODIFIED:20241003T180800Z
UID:4688-1728676800-1728763199@www.ludlowtaylor.org
SUMMARY:Yom Kippur Ends
DESCRIPTION:
URL:https://www.ludlowtaylor.org/event/yom-kippur-ends/
END:VEVENT
BEGIN:VEVENT
DTSTART;VALUE=DATE:20241013
DTEND;VALUE=DATE:20241015
DTSTAMP:20260422T181211
CREATED:20240927T051445Z
LAST-MODIFIED:20240927T052054Z
UID:4502-1728849600-1728935999@www.ludlowtaylor.org
SUMMARY:NO SCHOOL
DESCRIPTION:Indigenous Peoples’ Day
URL:https://www.ludlowtaylor.org/event/no-school-9/
CATEGORIES:Holidays
END:VEVENT
BEGIN:VEVENT
DTSTART;VALUE=DATE:20241016
DTEND;VALUE=DATE:20241018
DTSTAMP:20260422T181211
CREATED:20240927T064318Z
LAST-MODIFIED:20240927T064318Z
UID:4610-1729108800-1729195199@www.ludlowtaylor.org
SUMMARY:LSAT Meeting - virtual (6:30PM)
DESCRIPTION:
URL:https://www.ludlowtaylor.org/event/lsat-meeting-virtual-630pm/
CATEGORIES:LSAT
END:VEVENT
BEGIN:VEVENT
DTSTART;VALUE=DATE:20241017
DTEND;VALUE=DATE:20241019
DTSTAMP:20260422T181211
CREATED:20240926T234704Z
LAST-MODIFIED:20240926T234704Z
UID:4494-1729195200-1729281599@www.ludlowtaylor.org
SUMMARY:Cox Farms Field Trip (2nd and 4th grade)
DESCRIPTION:2nd and 4th graders will head to Cox Farms for the annual Fall Festival. Students will enjoy music\, slides\, hayrides and more. Buses will depart from the school promptly at 9am and students will return in time for afternoon dismissal/transition to aftercare or clubs. Students are asked to wear an LT t-shirt and bring bagged lunches.
URL:https://www.ludlowtaylor.org/event/cox-farms-field-trip-2nd-and-4th-grade/
CATEGORIES:Students
END:VEVENT
BEGIN:VEVENT
DTSTART;VALUE=DATE:20241019
DTEND;VALUE=DATE:20241021
DTSTAMP:20260422T181211
CREATED:20240927T064405Z
LAST-MODIFIED:20240927T064405Z
UID:4612-1729368000-1729454399@www.ludlowtaylor.org
SUMMARY:Washington Spirit Game
DESCRIPTION:
URL:https://www.ludlowtaylor.org/event/washington-spirit-game-2/
END:VEVENT
BEGIN:VEVENT
DTSTART;VALUE=DATE:20241021
DTEND;VALUE=DATE:20241023
DTSTAMP:20260422T181211
CREATED:20240927T064521Z
LAST-MODIFIED:20240927T064521Z
UID:4614-1729540800-1729627199@www.ludlowtaylor.org
SUMMARY:Parents' Night Out
DESCRIPTION:
URL:https://www.ludlowtaylor.org/event/parents-night-out/
END:VEVENT
BEGIN:VEVENT
DTSTART;VALUE=DATE:20241022
DTEND;VALUE=DATE:20241024
DTSTAMP:20260422T181211
CREATED:20240927T064622Z
LAST-MODIFIED:20240927T064622Z
UID:4616-1729627200-1729713599@www.ludlowtaylor.org
SUMMARY:School Picture Day
DESCRIPTION:
URL:https://www.ludlowtaylor.org/event/school-picture-day/
END:VEVENT
BEGIN:VEVENT
DTSTART;VALUE=DATE:20241024
DTEND;VALUE=DATE:20241026
DTSTAMP:20260422T181211
CREATED:20240826T215723Z
LAST-MODIFIED:20240926T234431Z
UID:4216-1729800000-1729886399@www.ludlowtaylor.org
SUMMARY:ECE Field Trip: It's Fall Y'All! (9am-2pm)
DESCRIPTION:PK3 and PK4 will head to Cox Farms for the annual Fall Festival. Students will enjoy music\, slides\, hayrides and more. Buses will depart from the school promptly at 9am and students will return in time for afternoon dismissal/transition to aftercare or clubs. Students are asked to wear an LT t-shirt and bring bagged lunches.
URL:https://www.ludlowtaylor.org/event/ece-field-trip-its-fall-yall-9am-2pm/
END:VEVENT
BEGIN:VEVENT
DTSTART;VALUE=DATE:20241027
DTEND;VALUE=DATE:20241102
DTSTAMP:20260422T181211
CREATED:20240927T065051Z
LAST-MODIFIED:20240927T065051Z
UID:4618-1730059200-1730491199@www.ludlowtaylor.org
SUMMARY:Spirit Week
DESCRIPTION:Monday: Breast Cancer Awareness Day (wear pink)\nTuesday: Frankenstein Day (mismatch)\nWednesday: Anti-Bullying Awareness Day (wear orange and purple)\nThursday: Halloween (wear your costume)\nFriday: Celebrate Fall Day (wear flannel/fall colors)
URL:https://www.ludlowtaylor.org/event/spirit-week/
END:VEVENT
BEGIN:VEVENT
DTSTART;VALUE=DATE:20241030
DTEND;VALUE=DATE:20241101
DTSTAMP:20260422T181211
CREATED:20240927T065152Z
LAST-MODIFIED:20241008T222711Z
UID:4620-1730318400-1730404799@www.ludlowtaylor.org
SUMMARY:Halloween Parade (9:15AM)
DESCRIPTION:All families are invite to watch students parade around the school in costume! Come join the festivities\, cheer them on and take lots of adorable pics of your kiddos and their teachers all dressed up for the occasion.
URL:https://www.ludlowtaylor.org/event/halloween-parade/
END:VEVENT
BEGIN:VEVENT
DTSTART;VALUE=DATE:20241031
DTEND;VALUE=DATE:20241102
DTSTAMP:20260422T181211
CREATED:20240926T234809Z
LAST-MODIFIED:20240926T234809Z
UID:4496-1730404800-1730491199@www.ludlowtaylor.org
SUMMARY:Cox Farms Field Trip (1st and 5th grade)
DESCRIPTION:1st and 5th graders will head to Cox Farms for the annual Fall Festival. Students will enjoy music\, slides\, hayrides and more. Buses will depart from the school promptly at 9am and students will return in time for afternoon dismissal/transition to aftercare or clubs. Students are asked to wear an LT t-shirt and bring bagged lunches.
URL:https://www.ludlowtaylor.org/event/cox-farms-field-trip-1st-and-5th-grade/
CATEGORIES:Students
END:VEVENT
BEGIN:VEVENT
DTSTART;VALUE=DATE:20241031
DTEND;VALUE=DATE:20241102
DTSTAMP:20260422T181211
CREATED:20240927T062743Z
LAST-MODIFIED:20240927T062743Z
UID:4586-1730404800-1730491199@www.ludlowtaylor.org
SUMMARY:Coffee Talk (8:30AM)
DESCRIPTION:Join us for a Q&A session with Principal Miller. Come with your questions!
URL:https://www.ludlowtaylor.org/event/coffee-talk-830am-2/
END:VEVENT
BEGIN:VEVENT
DTSTART;VALUE=DATE:20241031
DTEND;VALUE=DATE:20241102
DTSTAMP:20260422T181211
CREATED:20240927T065548Z
LAST-MODIFIED:20240927T065548Z
UID:4624-1730404800-1730491199@www.ludlowtaylor.org
SUMMARY:Diwali
DESCRIPTION:
URL:https://www.ludlowtaylor.org/event/diwali/
CATEGORIES:Holidays
END:VEVENT
BEGIN:VEVENT
DTSTART;VALUE=DATE:20241103
DTEND;VALUE=DATE:20241105
DTSTAMP:20260422T181211
CREATED:20240927T051619Z
LAST-MODIFIED:20240927T051619Z
UID:4504-1730660400-1730746799@www.ludlowtaylor.org
SUMMARY:NO SCHOOL
DESCRIPTION:Teacher Records Day
URL:https://www.ludlowtaylor.org/event/no-school-10/
END:VEVENT
BEGIN:VEVENT
DTSTART;VALUE=DATE:20241104
DTEND;VALUE=DATE:20241106
DTSTAMP:20260422T181211
CREATED:20240927T051707Z
LAST-MODIFIED:20240927T051707Z
UID:4506-1730746800-1730833199@www.ludlowtaylor.org
SUMMARY:NO SCHOOL
DESCRIPTION:Election Day
URL:https://www.ludlowtaylor.org/event/no-school-11/
END:VEVENT
BEGIN:VEVENT
DTSTART;VALUE=DATE:20241106
DTEND;VALUE=DATE:20241108
DTSTAMP:20260422T181211
CREATED:20240929T061543Z
LAST-MODIFIED:20240929T061610Z
UID:4629-1730919600-1731005999@www.ludlowtaylor.org
SUMMARY:PTO Meeting (6PM)
DESCRIPTION:
URL:https://www.ludlowtaylor.org/event/pto-meeting-6pm/
CATEGORIES:PTO
END:VEVENT
BEGIN:VEVENT
DTSTART;VALUE=DATE:20241110
DTEND;VALUE=DATE:20241112
DTSTAMP:20260422T181211
CREATED:20240927T051812Z
LAST-MODIFIED:20240927T051834Z
UID:4508-1731265200-1731351599@www.ludlowtaylor.org
SUMMARY:NO SCHOOL
DESCRIPTION:Veterans Day
URL:https://www.ludlowtaylor.org/event/no-school-12/
CATEGORIES:Holidays
END:VEVENT
BEGIN:VEVENT
DTSTART;VALUE=DATE:20241113
DTEND;VALUE=DATE:20241115
DTSTAMP:20260422T181211
CREATED:20240929T062945Z
LAST-MODIFIED:20240929T062945Z
UID:4653-1731524400-1731610799@www.ludlowtaylor.org
SUMMARY:Thanksgiving Potluck
DESCRIPTION:
URL:https://www.ludlowtaylor.org/event/thanksgiving-potluck/
END:VEVENT
BEGIN:VEVENT
DTSTART;VALUE=DATE:20241120
DTEND;VALUE=DATE:20241122
DTSTAMP:20260422T181211
CREATED:20240929T062059Z
LAST-MODIFIED:20241119T223813Z
UID:4637-1732129200-1732215599@www.ludlowtaylor.org
SUMMARY:LSAT Meeting - virtual (6:30PM)
DESCRIPTION:Join us on Zoom: https://us06web.zoom.us/j/89129698386.
URL:https://www.ludlowtaylor.org/event/lsat-meeting-virtual-630pm-2/
CATEGORIES:LSAT
END:VEVENT
BEGIN:VEVENT
DTSTART;VALUE=DATE:20241126
DTEND;VALUE=DATE:20241130
DTSTAMP:20260422T181211
CREATED:20240927T051959Z
LAST-MODIFIED:20240927T051959Z
UID:4510-1732647600-1732906799@www.ludlowtaylor.org
SUMMARY:NO SCHOOL
DESCRIPTION:Thanksgiving Break
URL:https://www.ludlowtaylor.org/event/no-school-13/
CATEGORIES:Holidays
END:VEVENT
BEGIN:VEVENT
DTSTART;VALUE=DATE:20241201
DTEND;VALUE=DATE:20241203
DTSTAMP:20260422T181211
CREATED:20240929T063252Z
LAST-MODIFIED:20240929T063252Z
UID:4655-1733079600-1733165999@www.ludlowtaylor.org
SUMMARY:Make-Up Picture Day
DESCRIPTION:
URL:https://www.ludlowtaylor.org/event/make-up-picture-day/
END:VEVENT
BEGIN:VEVENT
DTSTART;VALUE=DATE:20241202
DTEND;VALUE=DATE:20241204
DTSTAMP:20260422T181211
CREATED:20241204T203158Z
LAST-MODIFIED:20241204T203716Z
UID:4884-1733166000-1733252399@www.ludlowtaylor.org
SUMMARY:Giving Tuesday: Warrior Fund Kick-Off
DESCRIPTION:
URL:https://www.ludlowtaylor.org/event/giving-tuesday-warrior-fund-kick-off/
END:VEVENT
BEGIN:VEVENT
DTSTART;VALUE=DATE:20241204
DTEND;VALUE=DATE:20241221
DTSTAMP:20260422T181211
CREATED:20241204T203048Z
LAST-MODIFIED:20241204T203048Z
UID:4882-1733338800-1734721199@www.ludlowtaylor.org
SUMMARY:12 Days of Cheer
DESCRIPTION:Thursday 12/5 – Around the World \nFriday 12/6 – Home for the Holidays \nMonday 12/9 – Book Character Day \nTuesday 12/10 – Winter Vacay \nWednesday 12/11 – Holiday Socks \nThursday 12/12 – Winter Wonderland \nFriday 12/13 – Wacky Day \nMonday 12/16 – Ugly Sweater Day \nTuesday 12/17 – Twin Day \nWednesday 12/18 – Winter Slumber \nThursday 12/19 – Holiday Pizazz \nFriday 12/20 – Jingle Jangle Day \n 
URL:https://www.ludlowtaylor.org/event/12-days-of-cheer/
END:VEVENT
BEGIN:VEVENT
DTSTART;VALUE=DATE:20241209
DTEND;VALUE=DATE:20241211
DTSTAMP:20260422T181211
CREATED:20240929T064212Z
LAST-MODIFIED:20241118T233309Z
UID:4669-1733770800-1733857199@www.ludlowtaylor.org
SUMMARY:ECE & K Winter Concert (9:30AM)
DESCRIPTION:Join us from 9:30 – 10:30 AM at Ludlow-Taylor for the ECE & K Winter Concert! The event will include: \n\nConcert with Mr. Levy (all students)\nDance Showcase\nTheatreWorkz Jr. Showcase\n\nAll family members and caregivers are welcome!
URL:https://www.ludlowtaylor.org/event/ece-holiday-concert/
LOCATION:L-T All Purpose Room
END:VEVENT
BEGIN:VEVENT
DTSTART;VALUE=DATE:20241209
DTEND;VALUE=DATE:20241211
DTSTAMP:20260422T181211
CREATED:20241118T233626Z
LAST-MODIFIED:20241118T233626Z
UID:4776-1733770800-1733857199@www.ludlowtaylor.org
SUMMARY:Holiday Art Night (6PM)
DESCRIPTION:Join us from 6-7:30PM at Ludlow-Taylor for an ALL GRADES family Art Night. Events will include: \n\nLive Music by Mr. Levy and students\nDisplays and Showcases from:\n\nMr. JP’s art classes\nThe Rising Stars\nThe Future Stars\n\n\nPhoto Booth\nScholastic Book Fair\n\nAll families and caregivers are welcome!
URL:https://www.ludlowtaylor.org/event/holiday-art-night-6pm/
LOCATION:L-T Multipurpose Room
END:VEVENT
END:VCALENDAR