BEGIN:VCALENDAR
VERSION:2.0
PRODID:-//Ludlow-Taylor Elementary School - ECPv6.15.20//NONSGML v1.0//EN
CALSCALE:GREGORIAN
METHOD:PUBLISH
X-WR-CALNAME:Ludlow-Taylor Elementary School
X-ORIGINAL-URL:https://www.ludlowtaylor.org
X-WR-CALDESC:Events for Ludlow-Taylor Elementary School
REFRESH-INTERVAL;VALUE=DURATION:PT1H
X-Robots-Tag:noindex
X-PUBLISHED-TTL:PT1H
BEGIN:VTIMEZONE
TZID:America/New_York
BEGIN:DAYLIGHT
TZOFFSETFROM:-0500
TZOFFSETTO:-0400
TZNAME:EDT
DTSTART:20250309T070000
END:DAYLIGHT
BEGIN:STANDARD
TZOFFSETFROM:-0400
TZOFFSETTO:-0500
TZNAME:EST
DTSTART:20251102T060000
END:STANDARD
BEGIN:DAYLIGHT
TZOFFSETFROM:-0500
TZOFFSETTO:-0400
TZNAME:EDT
DTSTART:20260308T070000
END:DAYLIGHT
BEGIN:STANDARD
TZOFFSETFROM:-0400
TZOFFSETTO:-0500
TZNAME:EST
DTSTART:20261101T060000
END:STANDARD
BEGIN:DAYLIGHT
TZOFFSETFROM:-0500
TZOFFSETTO:-0400
TZNAME:EDT
DTSTART:20270314T070000
END:DAYLIGHT
BEGIN:STANDARD
TZOFFSETFROM:-0400
TZOFFSETTO:-0500
TZNAME:EST
DTSTART:20271107T060000
END:STANDARD
END:VTIMEZONE
BEGIN:VEVENT
DTSTART;VALUE=DATE:20260429
DTEND;VALUE=DATE:20260430
DTSTAMP:20260425T095340
CREATED:20260330T195538Z
LAST-MODIFIED:20260330T195538Z
UID:6956-1777420800-1777507199@www.ludlowtaylor.org
SUMMARY:No TFS Clubs or MWF/RWF (still before/after care) - Staff Meeting
DESCRIPTION:
URL:https://www.ludlowtaylor.org/event/no-tfs-clubs-or-mwf-rwf-still-before-after-care-staff-meeting/
END:VEVENT
BEGIN:VEVENT
DTSTART;VALUE=DATE:20260430
DTEND;VALUE=DATE:20260501
DTSTAMP:20260425T095340
CREATED:20260330T195615Z
LAST-MODIFIED:20260330T195615Z
UID:6958-1777507200-1777593599@www.ludlowtaylor.org
SUMMARY:4th Grade Shad Fish Release Field Trip
DESCRIPTION:
URL:https://www.ludlowtaylor.org/event/4th-grade-shad-fish-release-field-trip/
END:VEVENT
BEGIN:VEVENT
DTSTART;VALUE=DATE:20260501
DTEND;VALUE=DATE:20260502
DTSTAMP:20260425T095340
CREATED:20260330T195704Z
LAST-MODIFIED:20260330T195704Z
UID:6960-1777593600-1777679999@www.ludlowtaylor.org
SUMMARY:DCPS Enrollment Deadline!
DESCRIPTION:
URL:https://www.ludlowtaylor.org/event/dcps-enrollment-deadline/
END:VEVENT
BEGIN:VEVENT
DTSTART;VALUE=DATE:20260502
DTEND;VALUE=DATE:20260503
DTSTAMP:20260425T095340
CREATED:20260330T195822Z
LAST-MODIFIED:20260330T195822Z
UID:6962-1777680000-1777766399@www.ludlowtaylor.org
SUMMARY:Warriors’ Night Out (THE Auction\, 7 - 10 PM)
DESCRIPTION:Tickets are NOW AVAILABLE to purchase for this year’s Warriors’ Night Out! \nWhat: Warriors’ Night Out Annual Celebration and Auction \nWhen: Saturday\, May 2\, 2026\, 7pm – 10pm \nWho: LT families\, teachers\, staff\, and community members (adults only) \nWhy: To celebrate the 2025-26 school year and raise money for LTES \nWhere: Ivy City Smokehouse\, 1356 Okie St NE\, Washington\, DC 20002 \nHow: TICKETS ARE NOW ON SALE! \nPurchase tickets to attend yourself\, or support teachers and staff attending through donated tickets. All L-T teachers and staff are invited to attend the auction for free with a guest thanks to tickets generously purchased for them by the community.
URL:https://www.ludlowtaylor.org/event/warriors-night-out-the-auction-7-10-pm/
END:VEVENT
BEGIN:VEVENT
DTSTART;VALUE=DATE:20260505
DTEND;VALUE=DATE:20260506
DTSTAMP:20260425T095340
CREATED:20250720T052700Z
LAST-MODIFIED:20250827T202228Z
UID:5650-1777939200-1778025599@www.ludlowtaylor.org
SUMMARY:Cinco de Mayo
DESCRIPTION:
URL:https://www.ludlowtaylor.org/event/cinco-de-mayo/
CATEGORIES:Holidays
END:VEVENT
BEGIN:VEVENT
DTSTART;VALUE=DATE:20260508
DTEND;VALUE=DATE:20260509
DTSTAMP:20260425T095340
CREATED:20251007T161131Z
LAST-MODIFIED:20251007T161131Z
UID:6268-1778198400-1778284799@www.ludlowtaylor.org
SUMMARY:School wide Birthday Celebration
DESCRIPTION:Reach out to your room parent(s) for more information.
URL:https://www.ludlowtaylor.org/event/school-wide-birthday-celebration-8/
END:VEVENT
BEGIN:VEVENT
DTSTART;VALUE=DATE:20260510
DTEND;VALUE=DATE:20260511
DTSTAMP:20260425T095340
CREATED:20250720T052542Z
LAST-MODIFIED:20250827T202248Z
UID:5648-1778371200-1778457599@www.ludlowtaylor.org
SUMMARY:Mother's Day
DESCRIPTION:
URL:https://www.ludlowtaylor.org/event/mothers-day-2/
CATEGORIES:Holidays
END:VEVENT
BEGIN:VEVENT
DTSTART;VALUE=DATE:20260514
DTEND;VALUE=DATE:20260515
DTSTAMP:20260425T095340
CREATED:20250908T183031Z
LAST-MODIFIED:20250908T183031Z
UID:6117-1778716800-1778803199@www.ludlowtaylor.org
SUMMARY:PTO Meeting (6PM)
DESCRIPTION:
URL:https://www.ludlowtaylor.org/event/pto-meeting-6pm-8/
END:VEVENT
BEGIN:VEVENT
DTSTART;VALUE=DATE:20260518
DTEND;VALUE=DATE:20260519
DTSTAMP:20260425T095340
CREATED:20251020T162715Z
LAST-MODIFIED:20251020T162715Z
UID:6326-1779062400-1779148799@www.ludlowtaylor.org
SUMMARY:LSAT Meeting (6:30 PM\, Virtual)
DESCRIPTION:Check back closer to the date for call in and agenda details.
URL:https://www.ludlowtaylor.org/event/lsat-meeting-630-pm-virtual-8/
END:VEVENT
BEGIN:VEVENT
DTSTART;VALUE=DATE:20260521
DTEND;VALUE=DATE:20260522
DTSTAMP:20260425T095340
CREATED:20260211T154357Z
LAST-MODIFIED:20260211T154357Z
UID:6816-1779321600-1779407999@www.ludlowtaylor.org
SUMMARY:LT Science Fair!
DESCRIPTION:
URL:https://www.ludlowtaylor.org/event/lt-science-fair/
END:VEVENT
BEGIN:VEVENT
DTSTART;VALUE=DATE:20260525
DTEND;VALUE=DATE:20260526
DTSTAMP:20260425T095340
CREATED:20250720T011418Z
LAST-MODIFIED:20250827T202307Z
UID:5610-1779667200-1779753599@www.ludlowtaylor.org
SUMMARY:No School (Memorial Day)
DESCRIPTION:
URL:https://www.ludlowtaylor.org/event/no-school-memorial-day-2/
CATEGORIES:Holidays
END:VEVENT
BEGIN:VEVENT
DTSTART;VALUE=DATE:20260610
DTEND;VALUE=DATE:20260611
DTSTAMP:20260425T095340
CREATED:20251007T161211Z
LAST-MODIFIED:20251007T161211Z
UID:6270-1781049600-1781135999@www.ludlowtaylor.org
SUMMARY:School wide Birthday Celebration
DESCRIPTION:Please reach out to your room parent(s) for more information.
URL:https://www.ludlowtaylor.org/event/school-wide-birthday-celebration-9/
END:VEVENT
BEGIN:VEVENT
DTSTART;VALUE=DATE:20260616
DTEND;VALUE=DATE:20260617
DTSTAMP:20260425T095340
CREATED:20250720T011627Z
LAST-MODIFIED:20250827T202329Z
UID:5612-1781568000-1781654399@www.ludlowtaylor.org
SUMMARY:No School (Wellness Day)
DESCRIPTION:
URL:https://www.ludlowtaylor.org/event/no-school-wellness-day/
CATEGORIES:Students
END:VEVENT
BEGIN:VEVENT
DTSTART;VALUE=DATE:20260618
DTEND;VALUE=DATE:20260619
DTSTAMP:20260425T095340
CREATED:20250720T011722Z
LAST-MODIFIED:20260211T170105Z
UID:5614-1781740800-1781827199@www.ludlowtaylor.org
SUMMARY:Last Day of School
DESCRIPTION:
URL:https://www.ludlowtaylor.org/event/last-day-of-school-3/
CATEGORIES:Students
END:VEVENT
BEGIN:VEVENT
DTSTART;VALUE=DATE:20260618
DTEND;VALUE=DATE:20260619
DTSTAMP:20260425T095340
CREATED:20250720T011828Z
LAST-MODIFIED:20250827T202407Z
UID:5616-1781740800-1781827199@www.ludlowtaylor.org
SUMMARY:Juneteenth
DESCRIPTION:
URL:https://www.ludlowtaylor.org/event/juneteenth-2/
CATEGORIES:Holidays
END:VEVENT
END:VCALENDAR