BEGIN:VCALENDAR
VERSION:2.0
PRODID:-//Ludlow-Taylor Elementary School - ECPv6.15.20//NONSGML v1.0//EN
CALSCALE:GREGORIAN
METHOD:PUBLISH
X-ORIGINAL-URL:https://www.ludlowtaylor.org
X-WR-CALDESC:Events for Ludlow-Taylor Elementary School
REFRESH-INTERVAL;VALUE=DURATION:PT1H
X-Robots-Tag:noindex
X-PUBLISHED-TTL:PT1H
BEGIN:VTIMEZONE
TZID:America/New_York
BEGIN:DAYLIGHT
TZOFFSETFROM:-0500
TZOFFSETTO:-0400
TZNAME:EDT
DTSTART:20240310T070000
END:DAYLIGHT
BEGIN:STANDARD
TZOFFSETFROM:-0400
TZOFFSETTO:-0500
TZNAME:EST
DTSTART:20241103T060000
END:STANDARD
BEGIN:DAYLIGHT
TZOFFSETFROM:-0500
TZOFFSETTO:-0400
TZNAME:EDT
DTSTART:20250309T070000
END:DAYLIGHT
BEGIN:STANDARD
TZOFFSETFROM:-0400
TZOFFSETTO:-0500
TZNAME:EST
DTSTART:20251102T060000
END:STANDARD
BEGIN:DAYLIGHT
TZOFFSETFROM:-0500
TZOFFSETTO:-0400
TZNAME:EDT
DTSTART:20260308T070000
END:DAYLIGHT
BEGIN:STANDARD
TZOFFSETFROM:-0400
TZOFFSETTO:-0500
TZNAME:EST
DTSTART:20261101T060000
END:STANDARD
END:VTIMEZONE
BEGIN:VEVENT
DTSTART;VALUE=DATE:20251021
DTEND;VALUE=DATE:20251022
DTSTAMP:20260421T215446
CREATED:20250926T162352Z
LAST-MODIFIED:20250926T162352Z
UID:6243-1761004800-1761091199@www.ludlowtaylor.org
SUMMARY:Auction Committee Meeting @ Fresca (7PM)
DESCRIPTION:
URL:https://www.ludlowtaylor.org/event/auction-committee-meeting-fresca-7pm/
END:VEVENT
BEGIN:VEVENT
DTSTART;VALUE=DATE:20251022
DTEND;VALUE=DATE:20251023
DTSTAMP:20260421T215446
CREATED:20250922T170114Z
LAST-MODIFIED:20250922T170114Z
UID:6209-1761091200-1761177599@www.ludlowtaylor.org
SUMMARY:Picture Day!
DESCRIPTION:
URL:https://www.ludlowtaylor.org/event/picture-day/
END:VEVENT
BEGIN:VEVENT
DTSTART;VALUE=DATE:20251022
DTEND;VALUE=DATE:20251023
DTSTAMP:20260421T215446
CREATED:20250922T170228Z
LAST-MODIFIED:20250922T170228Z
UID:6211-1761091200-1761177599@www.ludlowtaylor.org
SUMMARY:Cross Country Championship Meet!
DESCRIPTION:
URL:https://www.ludlowtaylor.org/event/cross-country-championship-meet/
END:VEVENT
BEGIN:VEVENT
DTSTART;VALUE=DATE:20251023
DTEND;VALUE=DATE:20251024
DTSTAMP:20260421T215446
CREATED:20250912T180034Z
LAST-MODIFIED:20250912T180034Z
UID:6161-1761177600-1761263999@www.ludlowtaylor.org
SUMMARY:PK4 Trivia Night (6-7:30PM)
DESCRIPTION:Here’s your opportunity to engage with PK4 teachers and families. Join in on the fun at Queen Vic (1206 H ST. NE).
URL:https://www.ludlowtaylor.org/event/pk4-trivia-night-6-730pm/
END:VEVENT
BEGIN:VEVENT
DTSTART;VALUE=DATE:20251024
DTEND;VALUE=DATE:20251025
DTSTAMP:20260421T215446
CREATED:20250918T151009Z
LAST-MODIFIED:20250918T151009Z
UID:6190-1761264000-1761350399@www.ludlowtaylor.org
SUMMARY:2nd & 5th Grade Cox Farms Field Trip (9 AM departure)
DESCRIPTION:Please reach out to your room parent(s) for more information.
URL:https://www.ludlowtaylor.org/event/2nd-5th-grade-cox-farms-field-trip-9-am-departure/
END:VEVENT
BEGIN:VEVENT
DTSTART;VALUE=DATE:20251024
DTEND;VALUE=DATE:20251025
DTSTAMP:20260421T215446
CREATED:20250918T183453Z
LAST-MODIFIED:20250918T183453Z
UID:6194-1761264000-1761350399@www.ludlowtaylor.org
SUMMARY:3rd Grade Field Trip to the Capitol
DESCRIPTION:Please contact your room parent(s) for detail.
URL:https://www.ludlowtaylor.org/event/3rd-grade-field-trip-to-the-capitol/
END:VEVENT
BEGIN:VEVENT
DTSTART;VALUE=DATE:20251027
DTEND;VALUE=DATE:20251028
DTSTAMP:20260421T215446
CREATED:20250910T175537Z
LAST-MODIFIED:20250910T175537Z
UID:6142-1761523200-1761609599@www.ludlowtaylor.org
SUMMARY:Spirit Week: Wear Pink for Breast Cancer Awareness
DESCRIPTION:
URL:https://www.ludlowtaylor.org/event/spirit-week-wear-pink-for-breast-cancer-awareness-2/
END:VEVENT
BEGIN:VEVENT
DTSTART;VALUE=DATE:20251028
DTEND;VALUE=DATE:20251029
DTSTAMP:20260421T215446
CREATED:20250910T175735Z
LAST-MODIFIED:20250910T175735Z
UID:6144-1761609600-1761695999@www.ludlowtaylor.org
SUMMARY:Spirit Week: Frankenstein (Mismatch) Day
DESCRIPTION:
URL:https://www.ludlowtaylor.org/event/spirit-week-frankenstein-mismatch-day-2/
END:VEVENT
BEGIN:VEVENT
DTSTART;VALUE=DATE:20251028
DTEND;VALUE=DATE:20251029
DTSTAMP:20260421T215446
CREATED:20251014T173702Z
LAST-MODIFIED:20251021T191139Z
UID:6287-1761609600-1761695999@www.ludlowtaylor.org
SUMMARY:ECE Committee Meeting (6:30 PM\, Virtual)
DESCRIPTION:Call in details to be sent out.
URL:https://www.ludlowtaylor.org/event/ece-committee-meeting-630-pm-virtual/
END:VEVENT
BEGIN:VEVENT
DTSTART;VALUE=DATE:20251029
DTEND;VALUE=DATE:20251030
DTSTAMP:20260421T215446
CREATED:20250910T185313Z
LAST-MODIFIED:20250910T185313Z
UID:6146-1761696000-1761782399@www.ludlowtaylor.org
SUMMARY:Spirit Week: Anti Bullying Awareness Day (Wear Purple & Orange)
DESCRIPTION:
URL:https://www.ludlowtaylor.org/event/spirit-week-anti-bullying-awareness-day-wear-purple-orange/
END:VEVENT
BEGIN:VEVENT
DTSTART;VALUE=DATE:20251030
DTEND;VALUE=DATE:20251031
DTSTAMP:20260421T215446
CREATED:20250918T151121Z
LAST-MODIFIED:20250918T151917Z
UID:6192-1761782400-1761868799@www.ludlowtaylor.org
SUMMARY:3rd\, 4th\, & Joseph Cox Farms Field Trip (9 AM departure)
DESCRIPTION:Please reach out to your room parent(s) for more details.
URL:https://www.ludlowtaylor.org/event/3rd-4th-joseph-cox-farms-field-trip-9-am-departure/
END:VEVENT
BEGIN:VEVENT
DTSTART;VALUE=DATE:20251030
DTEND;VALUE=DATE:20251031
DTSTAMP:20260421T215446
CREATED:20250910T185359Z
LAST-MODIFIED:20250910T185359Z
UID:6148-1761782400-1761868799@www.ludlowtaylor.org
SUMMARY:Spirit Week: Fall Flannel & Colors
DESCRIPTION:
URL:https://www.ludlowtaylor.org/event/spirit-week-fall-flannel-colors-2/
END:VEVENT
BEGIN:VEVENT
DTSTART;VALUE=DATE:20251031
DTEND;VALUE=DATE:20251101
DTSTAMP:20260421T215446
CREATED:20250720T011945Z
LAST-MODIFIED:20250827T201339Z
UID:5618-1761868800-1761955199@www.ludlowtaylor.org
SUMMARY:Halloween
DESCRIPTION:
URL:https://www.ludlowtaylor.org/event/halloween-2/
CATEGORIES:Holidays
END:VEVENT
BEGIN:VEVENT
DTSTART;VALUE=DATE:20251031
DTEND;VALUE=DATE:20251101
DTSTAMP:20260421T215446
CREATED:20250910T185437Z
LAST-MODIFIED:20250910T185437Z
UID:6150-1761868800-1761955199@www.ludlowtaylor.org
SUMMARY:Spirit Week: Halloween (Wear your costume)
DESCRIPTION:
URL:https://www.ludlowtaylor.org/event/spirit-week-halloween-wear-your-costume/
END:VEVENT
BEGIN:VEVENT
DTSTART;VALUE=DATE:20251031
DTEND;VALUE=DATE:20251101
DTSTAMP:20260421T215446
CREATED:20250922T170509Z
LAST-MODIFIED:20250922T170509Z
UID:6213-1761868800-1761955199@www.ludlowtaylor.org
SUMMARY:Halloween Parade
DESCRIPTION:
URL:https://www.ludlowtaylor.org/event/halloween-parade-2/
END:VEVENT
BEGIN:VEVENT
DTSTART;VALUE=DATE:20251101
DTEND;VALUE=DATE:20251102
DTSTAMP:20260421T215446
CREATED:20251020T181445Z
LAST-MODIFIED:20251020T181445Z
UID:6328-1761955200-1762041599@www.ludlowtaylor.org
SUMMARY:Grounds Cleanup Day (3:00 - 5:00PM)
DESCRIPTION:Free Icees are available from 3:00 – 3:30 PM for those that come to help out!
URL:https://www.ludlowtaylor.org/event/grounds-cleanup-day-300-500pm/
END:VEVENT
BEGIN:VEVENT
DTSTART;VALUE=DATE:20251103
DTEND;VALUE=DATE:20251104
DTSTAMP:20260421T215446
CREATED:20250720T005610Z
LAST-MODIFIED:20250827T201401Z
UID:5586-1762128000-1762214399@www.ludlowtaylor.org
SUMMARY:No School (Teacher Records/Wellness Day)
DESCRIPTION:
URL:https://www.ludlowtaylor.org/event/no-school-teacher-records-wellness-day/
CATEGORIES:Students
END:VEVENT
BEGIN:VEVENT
DTSTART;VALUE=DATE:20251106
DTEND;VALUE=DATE:20251107
DTSTAMP:20260421T215446
CREATED:20250908T182823Z
LAST-MODIFIED:20250908T182823Z
UID:6111-1762387200-1762473599@www.ludlowtaylor.org
SUMMARY:PTO Meeting (6PM)
DESCRIPTION:
URL:https://www.ludlowtaylor.org/event/pto-meeting-6pm-5/
END:VEVENT
BEGIN:VEVENT
DTSTART;VALUE=DATE:20251109
DTEND;VALUE=DATE:20251110
DTSTAMP:20260421T215446
CREATED:20251106T174910Z
LAST-MODIFIED:20251106T174910Z
UID:6409-1762646400-1762732799@www.ludlowtaylor.org
SUMMARY:3rd Grade Playdate (3PM\, LT Playground)
DESCRIPTION:
URL:https://www.ludlowtaylor.org/event/3rd-grade-playdate-3pm-lt-playground/
END:VEVENT
BEGIN:VEVENT
DTSTART;VALUE=DATE:20251110
DTEND;VALUE=DATE:20251111
DTSTAMP:20260421T215446
CREATED:20251007T160653Z
LAST-MODIFIED:20251007T160653Z
UID:6256-1762732800-1762819199@www.ludlowtaylor.org
SUMMARY:School wide Birthday Celebration
DESCRIPTION:Reach out to your room parent(s) for details.
URL:https://www.ludlowtaylor.org/event/school-wide-birthday-celebration-2/
END:VEVENT
BEGIN:VEVENT
DTSTART;VALUE=DATE:20251110
DTEND;VALUE=DATE:20251111
DTSTAMP:20260421T215446
CREATED:20251020T182334Z
LAST-MODIFIED:20251028T132723Z
UID:6330-1762732800-1762819199@www.ludlowtaylor.org
SUMMARY:Parent's Night Out (6:00 - 9:00PM\, Tiffany's Bar & Bistro)
DESCRIPTION:Check back soon for more details.
URL:https://www.ludlowtaylor.org/event/parents-night-out-630-830pm-tiffanys-bar-bistro/
END:VEVENT
BEGIN:VEVENT
DTSTART;VALUE=DATE:20251111
DTEND;VALUE=DATE:20251112
DTSTAMP:20260421T215446
CREATED:20250720T005726Z
LAST-MODIFIED:20250827T201421Z
UID:5588-1762819200-1762905599@www.ludlowtaylor.org
SUMMARY:No School (Veterans Day)
DESCRIPTION:
URL:https://www.ludlowtaylor.org/event/no-school-veterans-day/
CATEGORIES:Holidays
END:VEVENT
BEGIN:VEVENT
DTSTART;VALUE=DATE:20251112
DTEND;VALUE=DATE:20251113
DTSTAMP:20260421T215446
CREATED:20251023T164958Z
LAST-MODIFIED:20251023T164958Z
UID:6356-1762905600-1762991999@www.ludlowtaylor.org
SUMMARY:Auction Committee Meeting (7PM\, Fresca)
DESCRIPTION:
URL:https://www.ludlowtaylor.org/event/auction-committee-meeting-7pm-fresca-3/
END:VEVENT
BEGIN:VEVENT
DTSTART;VALUE=DATE:20251113
DTEND;VALUE=DATE:20251114
DTSTAMP:20260421T215446
CREATED:20250912T180422Z
LAST-MODIFIED:20251014T174529Z
UID:6163-1762992000-1763078399@www.ludlowtaylor.org
SUMMARY:1st Grade Trivia Night (6-7:30PM)
DESCRIPTION:Here’s your opportunity to engage with 1st Grade teachers and families. Join in on the fun at Queen Vic (1206 H ST. NE).
URL:https://www.ludlowtaylor.org/event/1st-grade-trivia-night-6-730pm/
END:VEVENT
BEGIN:VEVENT
DTSTART;VALUE=DATE:20251114
DTEND;VALUE=DATE:20251115
DTSTAMP:20260421T215446
CREATED:20251028T130904Z
LAST-MODIFIED:20251028T130904Z
UID:6375-1763078400-1763164799@www.ludlowtaylor.org
SUMMARY:Last Day for Thanksgiving Basket Food Donations
DESCRIPTION:https://docs.google.com/spreadsheets/d/1MN-bGJRdjvf8AQdD1jTB_r6Xco04BAqVR24qkQgMFC8/edit?usp=sharing
URL:https://www.ludlowtaylor.org/event/last-day-for-thanksgiving-basket-food-donations/
END:VEVENT
BEGIN:VEVENT
DTSTART;VALUE=DATE:20251114
DTEND;VALUE=DATE:20251115
DTSTAMP:20260421T215446
CREATED:20251106T174515Z
LAST-MODIFIED:20251106T174515Z
UID:6407-1763078400-1763164799@www.ludlowtaylor.org
SUMMARY:2nd Grade Bowling Field Trip
DESCRIPTION:Reach out to teachers and/or room parents for details.
URL:https://www.ludlowtaylor.org/event/2nd-grade-bowling-field-trip/
END:VEVENT
BEGIN:VEVENT
DTSTART;VALUE=DATE:20251117
DTEND;VALUE=DATE:20251118
DTSTAMP:20260421T215446
CREATED:20251027T125620Z
LAST-MODIFIED:20251027T130350Z
UID:6363-1763337600-1763423999@www.ludlowtaylor.org
SUMMARY:Girl's Basketball Game (4:30 PM at Boone ES)
DESCRIPTION:vs. Boone ES
URL:https://www.ludlowtaylor.org/event/girls-basketball-game-430-pm-at-boone-es/
CATEGORIES:Sports
END:VEVENT
BEGIN:VEVENT
DTSTART;VALUE=DATE:20251117
DTEND;VALUE=DATE:20251118
DTSTAMP:20260421T215446
CREATED:20251028T131028Z
LAST-MODIFIED:20251028T131028Z
UID:6377-1763337600-1763423999@www.ludlowtaylor.org
SUMMARY:Last Day for Thanksgiving Basket Monetary Donations
DESCRIPTION:https://www.paypal.com/ncp/payment/GTQZH2DNEQ4H4
URL:https://www.ludlowtaylor.org/event/last-day-for-thanksgiving-basket-monetary-donations/
END:VEVENT
BEGIN:VEVENT
DTSTART;VALUE=DATE:20251118
DTEND;VALUE=DATE:20251119
DTSTAMP:20260421T215446
CREATED:20251020T161732Z
LAST-MODIFIED:20251020T161732Z
UID:6314-1763424000-1763510399@www.ludlowtaylor.org
SUMMARY:LSAT Meeting (6:30 PM\, Virtual)
DESCRIPTION:Check back closer to the date for call-in details.
URL:https://www.ludlowtaylor.org/event/lsat-meeting-630-pm-virtual-2/
END:VEVENT
BEGIN:VEVENT
DTSTART;VALUE=DATE:20251118
DTEND;VALUE=DATE:20251119
DTSTAMP:20260421T215446
CREATED:20251106T211946Z
LAST-MODIFIED:20251106T211946Z
UID:6414-1763424000-1763510399@www.ludlowtaylor.org
SUMMARY:LT Learning Lab (8:45 - 9:30 AM)
DESCRIPTION:Come and join members of the administration to discuss a specific topic. Check back soon for the selected topic.
URL:https://www.ludlowtaylor.org/event/lt-learning-lab-845-930-am/
END:VEVENT
END:VCALENDAR