BEGIN:VCALENDAR
VERSION:2.0
PRODID:-//Ludlow-Taylor Elementary School - ECPv6.15.20//NONSGML v1.0//EN
CALSCALE:GREGORIAN
METHOD:PUBLISH
X-ORIGINAL-URL:https://www.ludlowtaylor.org
X-WR-CALDESC:Events for Ludlow-Taylor Elementary School
REFRESH-INTERVAL;VALUE=DURATION:PT1H
X-Robots-Tag:noindex
X-PUBLISHED-TTL:PT1H
BEGIN:VTIMEZONE
TZID:America/New_York
BEGIN:DAYLIGHT
TZOFFSETFROM:-0500
TZOFFSETTO:-0400
TZNAME:EDT
DTSTART:20240310T070000
END:DAYLIGHT
BEGIN:STANDARD
TZOFFSETFROM:-0400
TZOFFSETTO:-0500
TZNAME:EST
DTSTART:20241103T060000
END:STANDARD
BEGIN:DAYLIGHT
TZOFFSETFROM:-0500
TZOFFSETTO:-0400
TZNAME:EDT
DTSTART:20250309T070000
END:DAYLIGHT
BEGIN:STANDARD
TZOFFSETFROM:-0400
TZOFFSETTO:-0500
TZNAME:EST
DTSTART:20251102T060000
END:STANDARD
BEGIN:DAYLIGHT
TZOFFSETFROM:-0500
TZOFFSETTO:-0400
TZNAME:EDT
DTSTART:20260308T070000
END:DAYLIGHT
BEGIN:STANDARD
TZOFFSETFROM:-0400
TZOFFSETTO:-0500
TZNAME:EST
DTSTART:20261101T060000
END:STANDARD
END:VTIMEZONE
BEGIN:VEVENT
DTSTART;VALUE=DATE:20250406
DTEND;VALUE=DATE:20250412
DTSTAMP:20260420T070436
CREATED:20240927T055938Z
LAST-MODIFIED:20240927T055938Z
UID:4561-1743969600-1744401599@www.ludlowtaylor.org
SUMMARY:Week of the Young Child (WOYC)
DESCRIPTION:
URL:https://www.ludlowtaylor.org/event/week-of-the-young-child-woyc/
END:VEVENT
BEGIN:VEVENT
DTSTART;VALUE=DATE:20250409
DTEND;VALUE=DATE:20250411
DTSTAMP:20260420T070436
CREATED:20240929T062601Z
LAST-MODIFIED:20240929T062601Z
UID:4647-1744228800-1744315199@www.ludlowtaylor.org
SUMMARY:LSAT Meeting - virtual (6:30PM)
DESCRIPTION:
URL:https://www.ludlowtaylor.org/event/lsat-meeting-virtual-630pm-7/
CATEGORIES:LSAT
END:VEVENT
BEGIN:VEVENT
DTSTART;VALUE=DATE:20250411
DTEND;VALUE=DATE:20250413
DTSTAMP:20260420T070436
CREATED:20240927T055115Z
LAST-MODIFIED:20240927T055115Z
UID:4551-1744401600-1744487999@www.ludlowtaylor.org
SUMMARY:First Night of Passover
DESCRIPTION:
URL:https://www.ludlowtaylor.org/event/first-night-of-passover/
CATEGORIES:Holidays
END:VEVENT
BEGIN:VEVENT
DTSTART;VALUE=DATE:20250413
DTEND;VALUE=DATE:20250419
DTSTAMP:20260420T070436
CREATED:20240927T055256Z
LAST-MODIFIED:20240927T055256Z
UID:4553-1744574400-1745006399@www.ludlowtaylor.org
SUMMARY:NO SCHOOL
DESCRIPTION:Spring Break
URL:https://www.ludlowtaylor.org/event/no-school-19/
END:VEVENT
BEGIN:VEVENT
DTSTART;VALUE=DATE:20250419
DTEND;VALUE=DATE:20250421
DTSTAMP:20260420T070436
CREATED:20240927T055341Z
LAST-MODIFIED:20240927T055341Z
UID:4555-1745092800-1745179199@www.ludlowtaylor.org
SUMMARY:Easter
DESCRIPTION:
URL:https://www.ludlowtaylor.org/event/easter/
CATEGORIES:Holidays
END:VEVENT
BEGIN:VEVENT
DTSTART;VALUE=DATE:20250420
DTEND;VALUE=DATE:20250422
DTSTAMP:20260420T070436
CREATED:20240927T055437Z
LAST-MODIFIED:20240927T055437Z
UID:4557-1745179200-1745265599@www.ludlowtaylor.org
SUMMARY:Administrative Professionals Week
DESCRIPTION:
URL:https://www.ludlowtaylor.org/event/administrative-professionals-week/
END:VEVENT
BEGIN:VEVENT
DTSTART;VALUE=DATE:20250423
DTEND;VALUE=DATE:20250425
DTSTAMP:20260420T070436
CREATED:20240927T055656Z
LAST-MODIFIED:20240927T055656Z
UID:4559-1745438400-1745524799@www.ludlowtaylor.org
SUMMARY:Take Our Sons and Daughters to Work Day
DESCRIPTION:
URL:https://www.ludlowtaylor.org/event/take-our-sons-and-daughters-to-work-day/
END:VEVENT
BEGIN:VEVENT
DTSTART;VALUE=DATE:20250430
DTEND;VALUE=DATE:20250502
DTSTAMP:20260420T070436
CREATED:20240927T060144Z
LAST-MODIFIED:20240927T060144Z
UID:4563-1746043200-1746129599@www.ludlowtaylor.org
SUMMARY:School Principal's Day
DESCRIPTION:
URL:https://www.ludlowtaylor.org/event/school-principals-day/
END:VEVENT
BEGIN:VEVENT
DTSTART;VALUE=DATE:20250502
DTEND;VALUE=DATE:20250504
DTSTAMP:20260420T070436
CREATED:20240929T063835Z
LAST-MODIFIED:20240929T063835Z
UID:4663-1746216000-1746302399@www.ludlowtaylor.org
SUMMARY:Warriors' Night Out: School Auction
DESCRIPTION:
URL:https://www.ludlowtaylor.org/event/warriors-night-out-school-auction/
END:VEVENT
BEGIN:VEVENT
DTSTART;VALUE=DATE:20250504
DTEND;VALUE=DATE:20250510
DTSTAMP:20260420T070436
CREATED:20240927T060301Z
LAST-MODIFIED:20240927T060301Z
UID:4565-1746388800-1746820799@www.ludlowtaylor.org
SUMMARY:Teacher Appreciation Week
DESCRIPTION:
URL:https://www.ludlowtaylor.org/event/teacher-appreciation-week/
END:VEVENT
BEGIN:VEVENT
DTSTART;VALUE=DATE:20250506
DTEND;VALUE=DATE:20250508
DTSTAMP:20260420T070436
CREATED:20240927T060434Z
LAST-MODIFIED:20240927T060434Z
UID:4567-1746561600-1746647999@www.ludlowtaylor.org
SUMMARY:Bike & Roll to School Day
DESCRIPTION:
URL:https://www.ludlowtaylor.org/event/bike-roll-to-school-day/
END:VEVENT
BEGIN:VEVENT
DTSTART;VALUE=DATE:20250510
DTEND;VALUE=DATE:20250512
DTSTAMP:20260420T070436
CREATED:20240927T060519Z
LAST-MODIFIED:20240927T060519Z
UID:4569-1746907200-1746993599@www.ludlowtaylor.org
SUMMARY:Mother's Day
DESCRIPTION:
URL:https://www.ludlowtaylor.org/event/mothers-day/
CATEGORIES:Holidays
END:VEVENT
BEGIN:VEVENT
DTSTART;VALUE=DATE:20250512
DTEND;VALUE=DATE:20250514
DTSTAMP:20260420T070436
CREATED:20240929T061907Z
LAST-MODIFIED:20240929T061907Z
UID:4635-1747080000-1747166399@www.ludlowtaylor.org
SUMMARY:PTO Meeting (6PM)
DESCRIPTION:
URL:https://www.ludlowtaylor.org/event/pto-meeting-6pm-4/
CATEGORIES:PTO
END:VEVENT
BEGIN:VEVENT
DTSTART;VALUE=DATE:20250513
DTEND;VALUE=DATE:20250515
DTSTAMP:20260420T070436
CREATED:20240929T062654Z
LAST-MODIFIED:20250516T222036Z
UID:4649-1747166400-1747252799@www.ludlowtaylor.org
SUMMARY:LSAT Meeting - virtual (6:30PM)
DESCRIPTION:
URL:https://www.ludlowtaylor.org/event/lsat-meeting-virtual-630pm-8/
CATEGORIES:LSAT
END:VEVENT
BEGIN:VEVENT
DTSTART;VALUE=DATE:20250517
DTEND;VALUE=DATE:20250519
DTSTAMP:20260420T070436
CREATED:20250516T221807Z
LAST-MODIFIED:20250516T221942Z
UID:5443-1747512000-1747598399@www.ludlowtaylor.org
SUMMARY:Capitol Hill Classic (LT Photo @ 10:20AM)
DESCRIPTION: It’s not too late to SIGN UP for the 10K\, 3K or kids fun run! If you do\, join the LT team when you sign up\, wear your LT gear and meet at the statue in the middle of Stanton Park at 10:20am for a group photo – gotta do it for the ‘gram!
URL:https://www.ludlowtaylor.org/event/capital-hill-classic-lt-photo-1020am/
END:VEVENT
BEGIN:VEVENT
DTSTART;VALUE=DATE:20250521
DTEND;VALUE=DATE:20250523
DTSTAMP:20260420T070436
CREATED:20250516T221619Z
LAST-MODIFIED:20250516T221619Z
UID:5441-1747857600-1747943999@www.ludlowtaylor.org
SUMMARY:Talking with Children about Challenging Subjects (6-7PM)
DESCRIPTION:What:  A presentation “Talking with Children about Challenging Subjects” followed by Q&A session.\nWhen: Thursday\, May 22nd from 6:00pm-7:00pm\nWhere: LT Multipurpose Room\nWhat else? Child care and Pizza will be provided with the support of the PTO. Please RSVP HERE by Tuesday\, May 20 so that we have a headcount for pizza and childcare.\n\nMore Details: Dr. Gan will be joined by special guest Dr. Keri Linas. She is a clinical psychologist with over 20 years of experience providing evidence-based treatment for youth. Together\, Dr. Gan and Dr. Linas will review simple ways to match the massage with the age/developmental stage of the child. Parents are invited to submit questions (anonymously) in advance of the event HERE.
URL:https://www.ludlowtaylor.org/event/talking-with-children-about-challenging-subjects-6-7pm/
END:VEVENT
BEGIN:VEVENT
DTSTART;VALUE=DATE:20250525
DTEND;VALUE=DATE:20250527
DTSTAMP:20260420T070436
CREATED:20240927T060626Z
LAST-MODIFIED:20240927T060727Z
UID:4571-1748203200-1748289599@www.ludlowtaylor.org
SUMMARY:NO SCHOOL
DESCRIPTION:Memorial Day
URL:https://www.ludlowtaylor.org/event/no-school-20/
CATEGORIES:Holidays
END:VEVENT
BEGIN:VEVENT
DTSTART;VALUE=DATE:20250529
DTEND;VALUE=DATE:20250601
DTSTAMP:20260420T070436
CREATED:20240927T060831Z
LAST-MODIFIED:20240927T060831Z
UID:4573-1748548800-1748721599@www.ludlowtaylor.org
SUMMARY:Beauty & The Beast
DESCRIPTION:
URL:https://www.ludlowtaylor.org/event/beauty-the-beast/
END:VEVENT
BEGIN:VEVENT
DTSTART;VALUE=DATE:20250602
DTEND;VALUE=DATE:20250604
DTSTAMP:20260420T070436
CREATED:20250528T180020Z
LAST-MODIFIED:20250528T180020Z
UID:5483-1748894400-1748980799@www.ludlowtaylor.org
SUMMARY:Ms. Cyrus's PK4 Class Promotion Ceremony (9:30 AM)
DESCRIPTION:
URL:https://www.ludlowtaylor.org/event/ms-cyruss-pk4-class-promotion-ceremony-930-am/
CATEGORIES:Students
END:VEVENT
BEGIN:VEVENT
DTSTART;VALUE=DATE:20250602
DTEND;VALUE=DATE:20250604
DTSTAMP:20260420T070436
CREATED:20250606T175845Z
LAST-MODIFIED:20250605T230157Z
UID:5481-1748894400-1748980799@www.ludlowtaylor.org
SUMMARY:Nominations Close for SY 25-26 PTO and LSAT
DESCRIPTION:
URL:https://www.ludlowtaylor.org/event/nominations-close-for-sy-25-26-pto-and-lsat/
CATEGORIES:LSAT,PTO
END:VEVENT
BEGIN:VEVENT
DTSTART;VALUE=DATE:20250603
DTEND;VALUE=DATE:20250605
DTSTAMP:20260420T070436
CREATED:20250528T190358Z
LAST-MODIFIED:20250528T190358Z
UID:5511-1748980800-1749067199@www.ludlowtaylor.org
SUMMARY:School Musical Performance (6-8 PM)
DESCRIPTION:
URL:https://www.ludlowtaylor.org/event/school-musical-performance-6-8-pm/
END:VEVENT
BEGIN:VEVENT
DTSTART;VALUE=DATE:20250604
DTEND;VALUE=DATE:20250606
DTSTAMP:20260420T070436
CREATED:20250528T184818Z
LAST-MODIFIED:20250528T185829Z
UID:5485-1749067200-1749153599@www.ludlowtaylor.org
SUMMARY:ECE Parents' Night Out (5:30-7:30 PM)
DESCRIPTION:Join us at Cynthia’s for an night out for ECE parents! Childcare by the Future Stars and pizza for kiddos provided – no excuses – see you there!
URL:https://www.ludlowtaylor.org/event/ece-parents-night-out-530-730-pm/
END:VEVENT
BEGIN:VEVENT
DTSTART;VALUE=DATE:20250605
DTEND;VALUE=DATE:20250607
DTSTAMP:20260420T070436
CREATED:20250516T222141Z
LAST-MODIFIED:20250516T222141Z
UID:5447-1749153600-1749239999@www.ludlowtaylor.org
SUMMARY:Field Day
DESCRIPTION:
URL:https://www.ludlowtaylor.org/event/field-day-2/
END:VEVENT
BEGIN:VEVENT
DTSTART;VALUE=DATE:20250605
DTEND;VALUE=DATE:20250607
DTSTAMP:20260420T070436
CREATED:20250528T184923Z
LAST-MODIFIED:20250528T184923Z
UID:5487-1749153600-1749239999@www.ludlowtaylor.org
SUMMARY:Ms. Morrison's PK 4 Promotion Ceremony (9:30 AM)
DESCRIPTION:
URL:https://www.ludlowtaylor.org/event/ms-morrisons-pk-4-promotion-ceremony-930-am/
END:VEVENT
BEGIN:VEVENT
DTSTART;VALUE=DATE:20250605
DTEND;VALUE=DATE:20250607
DTSTAMP:20260420T070436
CREATED:20250528T190023Z
LAST-MODIFIED:20250528T190023Z
UID:5507-1749153600-1749239999@www.ludlowtaylor.org
SUMMARY:PTO and LSAT Election Voting Opens
DESCRIPTION:
URL:https://www.ludlowtaylor.org/event/pto-and-lsat-election-voting-opens/
END:VEVENT
BEGIN:VEVENT
DTSTART;VALUE=DATE:20250607
DTEND;VALUE=DATE:20250609
DTSTAMP:20260420T070436
CREATED:20250528T185941Z
LAST-MODIFIED:20250528T185941Z
UID:5505-1749326400-1749412799@www.ludlowtaylor.org
SUMMARY:Grounds Work Day (10 AM-12 PM)
DESCRIPTION:
URL:https://www.ludlowtaylor.org/event/grounds-work-day-10-am-12-pm/
END:VEVENT
BEGIN:VEVENT
DTSTART;VALUE=DATE:20250608
DTEND;VALUE=DATE:20250610
DTSTAMP:20260420T070436
CREATED:20250528T185050Z
LAST-MODIFIED:20250528T185050Z
UID:5489-1749412800-1749499199@www.ludlowtaylor.org
SUMMARY:Ms. Blackstone's PK 3/Ms. A. Henderson's Class Promotion Ceremonies (9:15am)
DESCRIPTION:
URL:https://www.ludlowtaylor.org/event/ms-blackstones-pk-3-ms-a-hendersons-class-promotion-ceremonies-915am/
END:VEVENT
BEGIN:VEVENT
DTSTART;VALUE=DATE:20250608
DTEND;VALUE=DATE:20250610
DTSTAMP:20260420T070436
CREATED:20250528T185743Z
LAST-MODIFIED:20250528T185743Z
UID:5503-1749412800-1749499199@www.ludlowtaylor.org
SUMMARY:5th Grade vs. Staff Kickball Game (1 PM)
DESCRIPTION:
URL:https://www.ludlowtaylor.org/event/5th-grade-vs-staff-kickball-game-1-pm/
END:VEVENT
BEGIN:VEVENT
DTSTART;VALUE=DATE:20250608
DTEND;VALUE=DATE:20250610
DTSTAMP:20260420T070436
CREATED:20250528T190120Z
LAST-MODIFIED:20250528T190120Z
UID:5509-1749412800-1749499199@www.ludlowtaylor.org
SUMMARY:PTO and LSAT Election Voting Closes
DESCRIPTION:
URL:https://www.ludlowtaylor.org/event/pto-and-lsat-election-voting-closes/
END:VEVENT
BEGIN:VEVENT
DTSTART;VALUE=DATE:20250609
DTEND;VALUE=DATE:20250611
DTSTAMP:20260420T070436
CREATED:20250528T185223Z
LAST-MODIFIED:20250528T185223Z
UID:5491-1749499200-1749585599@www.ludlowtaylor.org
SUMMARY:Ms. Brown's PK3 Class (9:30am) and Ms. Sackeyfio's PK3 Class (10:30am) Promotion Ceremonies
DESCRIPTION:
URL:https://www.ludlowtaylor.org/event/ms-browns-pk3-class-930am-and-ms-sackeyfios-pk3-class-1030am-promotion-ceremonies/
END:VEVENT
END:VCALENDAR