BEGIN:VCALENDAR
VERSION:2.0
PRODID:-//Ludlow-Taylor Elementary School - ECPv6.15.20//NONSGML v1.0//EN
CALSCALE:GREGORIAN
METHOD:PUBLISH
X-ORIGINAL-URL:https://www.ludlowtaylor.org
X-WR-CALDESC:Events for Ludlow-Taylor Elementary School
REFRESH-INTERVAL;VALUE=DURATION:PT1H
X-Robots-Tag:noindex
X-PUBLISHED-TTL:PT1H
BEGIN:VTIMEZONE
TZID:America/New_York
BEGIN:DAYLIGHT
TZOFFSETFROM:-0500
TZOFFSETTO:-0400
TZNAME:EDT
DTSTART:20230312T070000
END:DAYLIGHT
BEGIN:STANDARD
TZOFFSETFROM:-0400
TZOFFSETTO:-0500
TZNAME:EST
DTSTART:20231105T060000
END:STANDARD
BEGIN:DAYLIGHT
TZOFFSETFROM:-0500
TZOFFSETTO:-0400
TZNAME:EDT
DTSTART:20240310T070000
END:DAYLIGHT
BEGIN:STANDARD
TZOFFSETFROM:-0400
TZOFFSETTO:-0500
TZNAME:EST
DTSTART:20241103T060000
END:STANDARD
BEGIN:DAYLIGHT
TZOFFSETFROM:-0500
TZOFFSETTO:-0400
TZNAME:EDT
DTSTART:20250309T070000
END:DAYLIGHT
BEGIN:STANDARD
TZOFFSETFROM:-0400
TZOFFSETTO:-0500
TZNAME:EST
DTSTART:20251102T060000
END:STANDARD
END:VTIMEZONE
BEGIN:VEVENT
DTSTART;VALUE=DATE:20240815
DTEND;VALUE=DATE:20240817
DTSTAMP:20260422T180611
CREATED:20230810T193412Z
LAST-MODIFIED:20240725T202244Z
UID:998-1723752000-1723838399@www.ludlowtaylor.org
SUMMARY:Future Stars Session 1 Registration Opens
DESCRIPTION:Brochure & Registration link will be added once available.
URL:https://www.ludlowtaylor.org/event/future-stars-session-1-registration-opens/
CATEGORIES:Students
END:VEVENT
BEGIN:VEVENT
DTSTART;VALUE=DATE:20240822
DTEND;VALUE=DATE:20240824
DTSTAMP:20260422T180611
CREATED:20240809T192715Z
LAST-MODIFIED:20240809T193026Z
UID:3980-1724356800-1724443199@www.ludlowtaylor.org
SUMMARY:Back to School Open House (2-3PM)
DESCRIPTION:This is a great opportunity to find your child’s classroom\, briefly meet your child’s teacher\, and drop off any school supplies you have for the classroom. Please keep in mind that Friday is a workday for our teachers\, and many of them will be continuing to setup classrooms during this open house.
URL:https://www.ludlowtaylor.org/event/back-to-school-open-house-2-3pm/
END:VEVENT
BEGIN:VEVENT
DTSTART;VALUE=DATE:20240824
DTEND;VALUE=DATE:20240826
DTSTAMP:20260422T180611
CREATED:20240809T192953Z
LAST-MODIFIED:20240809T192953Z
UID:3982-1724529600-1724615999@www.ludlowtaylor.org
SUMMARY:Back to School Grounds Beautification Workday (10AM-12PM)
DESCRIPTION:Join our PTO Grounds Committee on the playground on Sunday to help spruce up our outdoor spaces before the first day of school.
URL:https://www.ludlowtaylor.org/event/back-to-school-grounds-beautification-workday-10am-12pm/
LOCATION:L-T Playground
END:VEVENT
BEGIN:VEVENT
DTSTART;VALUE=DATE:20240825
DTEND;VALUE=DATE:20240827
DTSTAMP:20260422T180611
CREATED:20230823T050257Z
LAST-MODIFIED:20240725T201658Z
UID:1646-1724616000-1724702399@www.ludlowtaylor.org
SUMMARY:First Day of School (K-5)
DESCRIPTION:
URL:https://www.ludlowtaylor.org/event/first-day-of-school-k-5/
CATEGORIES:Staff,Students
END:VEVENT
BEGIN:VEVENT
DTSTART;VALUE=DATE:20240825
DTEND;VALUE=DATE:20240827
DTSTAMP:20260422T180611
CREATED:20240826T181132Z
LAST-MODIFIED:20240826T181132Z
UID:4182-1724616000-1724702399@www.ludlowtaylor.org
SUMMARY:Rising Stars Aftercare Starts
DESCRIPTION:First day of Rising Stars aftercare. If your student is not enrolled in Rising Stars\, drop-in care is available! Email: info@carebyrisingstars.org.
URL:https://www.ludlowtaylor.org/event/rising-stars-aftercare-starts/
END:VEVENT
BEGIN:VEVENT
DTSTART;VALUE=DATE:20240825
DTEND;VALUE=DATE:20240827
DTSTAMP:20260422T180611
CREATED:20240826T181337Z
LAST-MODIFIED:20240826T181337Z
UID:4184-1724616000-1724702399@www.ludlowtaylor.org
SUMMARY:ECE Playdates (PK3 @ 9:30am and PK4 @ 10:30am)
DESCRIPTION:PK3 and PK4 students and families are invited to Sherwood Rec to meet teachers and classmates.
URL:https://www.ludlowtaylor.org/event/ece-playdates-pk3-930am-and-pk4-1030am/
LOCATION:Sherwood Rec Center
END:VEVENT
BEGIN:VEVENT
DTSTART;VALUE=DATE:20240826
DTEND;VALUE=DATE:20240828
DTSTAMP:20260422T180611
CREATED:20240826T181905Z
LAST-MODIFIED:20240826T181905Z
UID:4187-1724702400-1724788799@www.ludlowtaylor.org
SUMMARY:Last Call to Order LT Apparel!
DESCRIPTION:Last call to order LT Apparel this fall! Orders must be place at https://customink.com/s/ludlow by Tuesday for delivery in September.
URL:https://www.ludlowtaylor.org/event/last-call-to-order-lt-apparel/
END:VEVENT
BEGIN:VEVENT
DTSTART;VALUE=DATE:20240828
DTEND;VALUE=DATE:20240830
DTSTAMP:20260422T180611
CREATED:20230823T050417Z
LAST-MODIFIED:20240725T201741Z
UID:1648-1724875200-1724961599@www.ludlowtaylor.org
SUMMARY:First Day of School (ECE)
DESCRIPTION:
URL:https://www.ludlowtaylor.org/event/first-day-of-school-ece/
CATEGORIES:Staff,Students
END:VEVENT
BEGIN:VEVENT
DTSTART;VALUE=DATE:20240830
DTEND;VALUE=DATE:20240901
DTSTAMP:20260422T180611
CREATED:20240815T173523Z
LAST-MODIFIED:20240815T173523Z
UID:4022-1725048000-1725134399@www.ludlowtaylor.org
SUMMARY:Hill Family Biking Back to School Ride and Block Party (10:30 AM)
DESCRIPTION:Come celebrate the new school year with Hill Family Biking on August 31st at 10:30 for the annual Back to School Ride and Block Party  – a 4.5 mile bike ride touring Capitol Hill schools on the northern part of the Hill including Ludlow-Taylor! Join the ride at the Ludlow-Taylor parking lot on 7th St NE or start at the beginning of the ride at Maury Elementary. \nWe’ll end back at Maury for a block party to celebrate the new school year including: \n\nBouncy house\,\nGiant chalk art mural\nFace painting\nDC Public Library Book Bike\nDJ Paul Spires\nMaracas Ice Pops tricycle\nA food truck.\n\nBathrooms will be made available on-site.
URL:https://www.ludlowtaylor.org/event/hill-family-biking-back-to-school-ride-and-block-party-1030-am/
LOCATION:L-T Parking Lot
END:VEVENT
BEGIN:VEVENT
DTSTART;VALUE=DATE:20240830
DTEND;VALUE=DATE:20240901
DTSTAMP:20260422T180611
CREATED:20240826T182323Z
LAST-MODIFIED:20240826T182323Z
UID:4190-1725048000-1725134399@www.ludlowtaylor.org
SUMMARY:Math & Reading w/ Friends Sign-Ups Close @ Midnight
DESCRIPTION:Rising Stars and Future Stars\, with assistance from the PTO\, will again be offering both Math With Friends (“MWF”) and Reading With Friends (“RWF”) this fall!  For new members of the community\, MWF & RWF is LT’s after school tutoring program. Sign-up HERE before today’s deadline.
URL:https://www.ludlowtaylor.org/event/math-reading-w-friends-sign-ups-close-midnight/
END:VEVENT
BEGIN:VEVENT
DTSTART;VALUE=DATE:20240901
DTEND;VALUE=DATE:20240903
DTSTAMP:20260422T180611
CREATED:20240826T182429Z
LAST-MODIFIED:20240826T182429Z
UID:4192-1725220800-1725307199@www.ludlowtaylor.org
SUMMARY:***NO SCHOOL***
DESCRIPTION:No school on Monday\, September 2nd in observance of Labor Day.
URL:https://www.ludlowtaylor.org/event/no-school-6/
END:VEVENT
BEGIN:VEVENT
DTSTART;VALUE=DATE:20240904
DTEND;VALUE=DATE:20240906
DTSTAMP:20260422T180611
CREATED:20240809T193416Z
LAST-MODIFIED:20240809T193416Z
UID:3985-1725480000-1725566399@www.ludlowtaylor.org
SUMMARY:First PTO Meeting of the Year & Uniform Swap (6PM)
DESCRIPTION:New and returning families are encouraged to join the first PTO meeting of the year\, which will include our first LT uniform swap\, a welcome from Principal Miller and more! Like last year\, the PTO will provide pizza and childcare by Rising Stars during PTO meetings.
URL:https://www.ludlowtaylor.org/event/first-pto-meeting-of-the-year-uniform-swap-6pm/
LOCATION:L-T Multipurpose Room
END:VEVENT
BEGIN:VEVENT
DTSTART;VALUE=DATE:20240907
DTEND;VALUE=DATE:20240909
DTSTAMP:20260422T180611
CREATED:20240826T193728Z
LAST-MODIFIED:20240826T194139Z
UID:4194-1725739200-1725825599@www.ludlowtaylor.org
SUMMARY:Family Auction Experience: Drag Brunch w/ Tara Hoot (10AM)
DESCRIPTION:Don’t miss an amazing opportunity to celebrate the new school year (and raise funds for LT) at our inaugural Family Drag Brunch @ neighborhood favorite\, Fresca. On Sunday\, September 8 from 10AM-12PM\, there will be good food and fun for the whole family! Tickets are limited and are available here! \n(This is a Family Experience from last year’s auction that was rescheduled for the Fall!)
URL:https://www.ludlowtaylor.org/event/family-auction-experience-drag-brunch-w-tara-hoot-10am/
LOCATION:Fresca
END:VEVENT
BEGIN:VEVENT
DTSTART;VALUE=DATE:20240908
DTEND;VALUE=DATE:20240910
DTSTAMP:20260422T180611
CREATED:20240826T193950Z
LAST-MODIFIED:20240826T193950Z
UID:4196-1725825600-1725911999@www.ludlowtaylor.org
SUMMARY:Session 1 of Future Stars Enrichments (Clubs) Starts
DESCRIPTION:
URL:https://www.ludlowtaylor.org/event/session-1-of-future-stars-enrichments-clubs-starts/
END:VEVENT
BEGIN:VEVENT
DTSTART;VALUE=DATE:20240909
DTEND;VALUE=DATE:20240911
DTSTAMP:20260422T180611
CREATED:20240809T193842Z
LAST-MODIFIED:20240907T223215Z
UID:3987-1725912000-1725998399@www.ludlowtaylor.org
SUMMARY:Back to School Night (6-7:30PM)
DESCRIPTION:Back to School Night is an opportunity for caregivers to come into the school to get an overview of the academic year\, chat with teachers\, and see our classrooms. As in prior years\, Back to School Night is intended to be for caregivers\, not students. (Though\, in the past\, Principal Miller has given guidance that if you need to bring your kids in order to attend\, it is fine to do so.) Principal Miller will provide additional information about this event.
URL:https://www.ludlowtaylor.org/event/back-to-school-night-6-730pm/
LOCATION:L-T Multipurpose Room
END:VEVENT
BEGIN:VEVENT
DTSTART;VALUE=DATE:20240910
DTEND;VALUE=DATE:20240912
DTSTAMP:20260422T180611
CREATED:20240826T194541Z
LAST-MODIFIED:20240912T023052Z
UID:4199-1725998400-1726084799@www.ludlowtaylor.org
SUMMARY:Events Committee Kick-off Meeting (7PM)
DESCRIPTION:The Events Planning Committee is gearing up for another great year of fun-filled activities!\n\nMovies\, pancakes\, desserts\, trivia – all on the horizon BUT we need your help to make it happen. So if you’ve been considering a (fairly) low commitment opportunity to get involved and have some fun – come join our kick off Wednesday\, September 11th 7:00 – 8:00 at 612 8th St NE (the Laman’s house) to learn more. Snacks and drinks (including the adult variety) will be provided.  We’ll talk about the events we have on deck this year and opportunities to get involved.  And we promise we won’t guilt you into signing up for anything! Of course\, if you’re so inspired…  🙂\n\nCan’t make it to the kick-off but still want to get involved?  No problem! Add your name on this sign-up sheet and we’ll include you our email distro so you can stay plugged in:  2024 Events Committee Volunteers – Google Sheet\n\nHope to see you there!\nLea Laman and Laurie Burkitt – Events Planning Co-Chairs\n \nOther questions:\nQ: Can I bring my child to the kick-off / will there be babysitting?\nA: Sorry not this time! But promise we’ll keep the meeting within 60 minutes so you’re home quickly. \n\nQ: Am I obligated to sign-up / volunteer if I attend the kick-off?\nA:  Nope! You’re welcome to join just to learn about the committee and the events.\n\nQ: What if I decide later in the year that I want to join?\nA:  Fantastic! You can email Lea and Laurie anytime and we’ll gladly take the help.
URL:https://www.ludlowtaylor.org/event/events-committee-kick-off-meeting-7pm/
CATEGORIES:PTO
END:VEVENT
BEGIN:VEVENT
DTSTART;VALUE=DATE:20240911
DTEND;VALUE=DATE:20240913
DTSTAMP:20260422T180611
CREATED:20240826T212528Z
LAST-MODIFIED:20240909T223627Z
UID:4204-1726084800-1726171199@www.ludlowtaylor.org
SUMMARY:First LSAT Meeting of the Year (6 PM)
DESCRIPTION:All LT families are encouraged to join the first LSAT meeting of the year which will be held in person (with following meetings likely to occur via Zoom). \nPizza will be provided by the PTO along with childcare from the Rising Stars. Please RSVP to help us plan for enough pizza (and staff for childcare) \nProposed Meeting Agenda:\n1. Welcome from Principal Miller and LSAT overview\n2. LSAT member introductions\n3. Nominations and elections of LSAT Chair & Secretary\n4. Scheduling of future meetings\n5. Funds reprogramming discussion (additional 1st grade teacher)\, especially implementation & messaging considerations\n6. Comprehensive School Plan (CSP) review – last year’s goals & this year’s goals (with insight and suggestions from LSAT on how the school can share goals and keep them at the center of the school’s messaging to caregivers and in what ways the community could support their students to achieve our goals)\n7. Diversity Committee & how to recruit members\n8. Open question period (for non-members of the LSAT)
URL:https://www.ludlowtaylor.org/event/first-lsat-meeting-of-the-year-6-pm/
CATEGORIES:LSAT
END:VEVENT
BEGIN:VEVENT
DTSTART;VALUE=DATE:20240914
DTEND;VALUE=DATE:20240916
DTSTAMP:20260422T180611
CREATED:20240826T215607Z
LAST-MODIFIED:20240826T215607Z
UID:4214-1726344000-1726430399@www.ludlowtaylor.org
SUMMARY:Hispanic Heritage Month Begins
DESCRIPTION:
URL:https://www.ludlowtaylor.org/event/hispanic-heritage-month-begins/
CATEGORIES:Holidays
END:VEVENT
BEGIN:VEVENT
DTSTART;VALUE=DATE:20240919
DTEND;VALUE=DATE:20240921
DTSTAMP:20260422T180611
CREATED:20240826T212635Z
LAST-MODIFIED:20240912T022852Z
UID:4206-1726776000-1726862399@www.ludlowtaylor.org
SUMMARY:Movie Night: Moana (Field Opens at 6PM)
DESCRIPTION:What is Movie Night? The whole school community gets together to watch a free movie on a big screen on L-T’s field. This year’s movie is Moana! \nWhen is Movie Night? The field will open at 6 pm (bring your picnic blanket to snag your spot! Volunteers get to claim spots first!) and the movie will start just after 7 pm (when it’s dark enough to see the screen). \nWill there be food? If you want delicious Stellina pizza during the event\, you must pre-order it here by Thursday 9/19 at 12 pm. There will also be an ice cream truck and a concession stand with fresh popcorn\, drinks\, and snacks. \nHow Do I Help? Hei Hei! We need volunteers! Sign up here and get early access to claim a seat on the field. \nWill There be Photo Ops with Maui? I know it’s a lot–the hair\, the bod. But you’ll get your chance with the demi-god!
URL:https://www.ludlowtaylor.org/event/movie-night/
END:VEVENT
BEGIN:VEVENT
DTSTART;VALUE=DATE:20240919
DTEND;VALUE=DATE:20240921
DTSTAMP:20260422T180611
CREATED:20240917T175630Z
LAST-MODIFIED:20240917T175630Z
UID:4368-1726776000-1726862399@www.ludlowtaylor.org
SUMMARY:The Future Stars Day Off Camps: Registration Opens
DESCRIPTION:The Future Stars Day Off Camps are back! Check out the schedule and sign your kiddos up for exciting clubs\, including Lego\, MoveIT! Sports\, Martial Arts\, Gymnastics\, and more. Each day is designed to inspire creativity\, promote learning\, and ensure tons of fun. Below you’ll find the schedule of which clubs will be leading activities on specific days at each of the two locations. \nSchedule:\n\n\nOctober 10th (Thursday) @ Ludlow:\n\nLego Club\n\n\nOctober 11th (Friday) @ Van Ness:\n\n Lego Club\n\n\nNovember 4th (Monday) @ Van Ness:\n\nLego Club\n\n\nNovember 5th (Tuesday) @ Ludlow:\n\nMove IT! Sports\n\n\nJanuary 17th (Friday) @ Van Ness:\n\nFull Steam Ahead / Dojofly Martial Arts\n\n\nJanuary 27th (Monday) @ Ludlow: \n\nFilm Club / Cyber Pulse\n\n\nMarch 13th (Thursday) @ Ludlow: \n\nLittle Star Gymnastics / The Dancing Stars\n\n\nMarch 14th (Friday) @ Van Ness:\n\nFull Steam Ahead / Dojofly Martial Arts\n\n\nApril 7th (Monday) @ Ludlow: \n\nLittle Star Gymnastics / The Dancing Stars\n\n\nApril 14th-18th (Spring Break) @ Ludlow:\n\nGirl Power & Boys Bunch Camp\nTheatreworkz Drama Club Camp\nThe Future Stars Adventures Camp
URL:https://www.ludlowtaylor.org/event/the-future-stars-day-off-camps-registration-opens/
END:VEVENT
BEGIN:VEVENT
DTSTART;VALUE=DATE:20240920
DTEND;VALUE=DATE:20240922
DTSTAMP:20260422T180611
CREATED:20240826T212857Z
LAST-MODIFIED:20240916T232900Z
UID:4208-1726862400-1726948799@www.ludlowtaylor.org
SUMMARY:Dancing Stars Performance @ H Street Festival (12:30PM)
DESCRIPTION:Come see the Dancing Stars perform their snazziest moves on the stage at the corner of 7th and H Streets NE!
URL:https://www.ludlowtaylor.org/event/dancing-stars-performance-h-street-festival-time-tba/
END:VEVENT
BEGIN:VEVENT
DTSTART;VALUE=DATE:20240923
DTEND;VALUE=DATE:20240925
DTSTAMP:20260422T180611
CREATED:20240916T232239Z
LAST-MODIFIED:20240920T192615Z
UID:4358-1727121600-1727207999@www.ludlowtaylor.org
SUMMARY:Caregiver Orientation and Caregiver Workshops on the Healthy Relationships Project (6PM)
DESCRIPTION:This virtual meeting will provide caregivers with an introduction to the Healthy Relationships Project (HRP). HRP is a health-based\, developmentally appropriate\, trauma-informed child sexual abuse prevention curriculum for children in grades Pre-K to 5th grade. This curriculum was developed by Prevent Child Abuse Vermont and has been implemented in 29 states and the District of Columbia for over 30 years. HRP is not a curriculum about sexual education; instead\, it is a curriculum that helps children build skills to identify feelings that make them safe or unsafe\, identify boundaries\, use anatomically correct terms\, and identify safe adults. \nAs a Parent/Guardian/Caregiver: \n\nYou will be invited to attend workshops on topics relating to the prevention of child sexual abuse during the semester.\nYou will be asked to participate in periodic online surveys about your knowledge\, attitudes\, and behaviors regarding child sexual abuse prevention.\nA small number of caregivers from each school will be invited to participate in a one-on-one virtual interview with a researcher from the evaluation team to share your thoughts and experiences.\n\nLearn more in this letter from Mr. Stafford. Please feel free to contact him directly at Kevin.Stafford@k12.dc.gov with any questions.
URL:https://www.ludlowtaylor.org/event/caregiver-orientation-and-caregiver-workshops-on-the-healthy-relationships-project-6pm/
END:VEVENT
BEGIN:VEVENT
DTSTART;VALUE=DATE:20240926
DTEND;VALUE=DATE:20240928
DTSTAMP:20260422T180611
CREATED:20240826T213612Z
LAST-MODIFIED:20240826T213612Z
UID:4210-1727380800-1727467199@www.ludlowtaylor.org
SUMMARY:ECE Field Trip: We're going to the zoo! (9am - 2pm)
DESCRIPTION:All PK3 and PK4 students are heading to the Smithsonian National Zoo for our first ECE field trip of the school year! Buses will depart from the school promptly at 9am and students will return in time for afternoon dismissal. Students will be asked to wear an LT t-shirt for field trips so make sure to get one at the upcoming PTO apparel sale! Room parents will be in touch with details on lunches\, fees and chaperones.
URL:https://www.ludlowtaylor.org/event/ece-field-trip-were-going-to-the-zoo-9am-2pm/
END:VEVENT
BEGIN:VEVENT
DTSTART;VALUE=DATE:20240926
DTEND;VALUE=DATE:20240928
DTSTAMP:20260422T180611
CREATED:20240826T215008Z
LAST-MODIFIED:20240826T215335Z
UID:4212-1727380800-1727467199@www.ludlowtaylor.org
SUMMARY:No Future Stars Enrichments (Clubs)
DESCRIPTION:Rising Stars aftercare is still open.
URL:https://www.ludlowtaylor.org/event/no-future-stars-enrichments-clubs/
END:VEVENT
BEGIN:VEVENT
DTSTART;VALUE=DATE:20240930
DTEND;VALUE=DATE:20241002
DTSTAMP:20260422T180611
CREATED:20240927T061517Z
LAST-MODIFIED:20240927T061517Z
UID:4582-1727726400-1727812799@www.ludlowtaylor.org
SUMMARY:Auction Committee Kick-Off Meeting
DESCRIPTION:
URL:https://www.ludlowtaylor.org/event/auction-committee-kick-off-meeting/
END:VEVENT
BEGIN:VEVENT
DTSTART;VALUE=DATE:20241001
DTEND;VALUE=DATE:20241003
DTSTAMP:20260422T180611
CREATED:20240917T180005Z
LAST-MODIFIED:20240917T180005Z
UID:4370-1727812800-1727899199@www.ludlowtaylor.org
SUMMARY:Nandos Night Out: 40% back to LTE! (4-9PM)
DESCRIPTION:We are kicking the year off with a fantastic give back partnership from Nando’s on H Street NE! They are giving a very generous 40% of proceeds back to Ludlow on Wednesday\, October 2nd from 4-9PM when you use code Nandos2024. Join your fellow Academic Warriors dining in or ordering carry out via phone or in the app.  (Delivery orders will not be included in the giveback.) 
URL:https://www.ludlowtaylor.org/event/nandos-night-out-40-back-to-lte-4-9pm/
LOCATION:Nando’s H Street NE\, 411 H St NE\, Washington\, DC\, 20002\, United States
END:VEVENT
BEGIN:VEVENT
DTSTART;VALUE=DATE:20241001
DTEND;VALUE=DATE:20241003
DTSTAMP:20260422T180611
CREATED:20240927T063947Z
LAST-MODIFIED:20240927T063947Z
UID:4604-1727812800-1727899199@www.ludlowtaylor.org
SUMMARY:School Custodial Worker's Recognition Day
DESCRIPTION:
URL:https://www.ludlowtaylor.org/event/school-custodial-workers-recognition-day/
END:VEVENT
BEGIN:VEVENT
DTSTART;VALUE=DATE:20241001
DTEND;VALUE=DATE:20241003
DTSTAMP:20260422T180611
CREATED:20240927T064015Z
LAST-MODIFIED:20240927T064015Z
UID:4606-1727812800-1727899199@www.ludlowtaylor.org
SUMMARY:XC Meet
DESCRIPTION:
URL:https://www.ludlowtaylor.org/event/xc-meet/
END:VEVENT
BEGIN:VEVENT
DTSTART;VALUE=DATE:20241001
DTEND;VALUE=DATE:20241003
DTSTAMP:20260422T180611
CREATED:20241003T175204Z
LAST-MODIFIED:20241003T175204Z
UID:4682-1727812800-1727899199@www.ludlowtaylor.org
SUMMARY:Rosh Hashanah Begins
DESCRIPTION:
URL:https://www.ludlowtaylor.org/event/rosh-hashanah-begins/
END:VEVENT
BEGIN:VEVENT
DTSTART;VALUE=DATE:20241003
DTEND;VALUE=DATE:20241005
DTSTAMP:20260422T180611
CREATED:20240926T234612Z
LAST-MODIFIED:20240926T234612Z
UID:4492-1727985600-1728071999@www.ludlowtaylor.org
SUMMARY:Cox Farms Field Trip (K and 3rd grades)
DESCRIPTION:K and 3rd graders will head to Cox Farms for the annual Fall Festival. Students will enjoy music\, slides\, hayrides and more. Buses will depart from the school promptly at 9am and students will return in time for afternoon dismissal/transition to aftercare or clubs. Students are asked to wear an LT t-shirt and bring bagged lunches.
URL:https://www.ludlowtaylor.org/event/cox-farms-field-trip-k-and-3rd-grades/
CATEGORIES:Students
END:VEVENT
END:VCALENDAR