BEGIN:VCALENDAR
VERSION:2.0
PRODID:-//Ludlow-Taylor Elementary School - ECPv6.15.20//NONSGML v1.0//EN
CALSCALE:GREGORIAN
METHOD:PUBLISH
X-WR-CALNAME:Ludlow-Taylor Elementary School
X-ORIGINAL-URL:https://www.ludlowtaylor.org
X-WR-CALDESC:Events for Ludlow-Taylor Elementary School
REFRESH-INTERVAL;VALUE=DURATION:PT1H
X-Robots-Tag:noindex
X-PUBLISHED-TTL:PT1H
BEGIN:VTIMEZONE
TZID:America/New_York
BEGIN:DAYLIGHT
TZOFFSETFROM:-0500
TZOFFSETTO:-0400
TZNAME:EDT
DTSTART:20220313T070000
END:DAYLIGHT
BEGIN:STANDARD
TZOFFSETFROM:-0400
TZOFFSETTO:-0500
TZNAME:EST
DTSTART:20221106T060000
END:STANDARD
BEGIN:DAYLIGHT
TZOFFSETFROM:-0500
TZOFFSETTO:-0400
TZNAME:EDT
DTSTART:20230312T070000
END:DAYLIGHT
BEGIN:STANDARD
TZOFFSETFROM:-0400
TZOFFSETTO:-0500
TZNAME:EST
DTSTART:20231105T060000
END:STANDARD
BEGIN:DAYLIGHT
TZOFFSETFROM:-0500
TZOFFSETTO:-0400
TZNAME:EDT
DTSTART:20240310T070000
END:DAYLIGHT
BEGIN:STANDARD
TZOFFSETFROM:-0400
TZOFFSETTO:-0500
TZNAME:EST
DTSTART:20241103T060000
END:STANDARD
END:VTIMEZONE
BEGIN:VEVENT
DTSTART;VALUE=DATE:20231023
DTEND;VALUE=DATE:20231025
DTSTAMP:20260423T072734
CREATED:20230929T090549Z
LAST-MODIFIED:20230929T090549Z
UID:2443-1698091200-1698177599@www.ludlowtaylor.org
SUMMARY:Spirit Week: Wear Pink for Breast Cancer Awareness
DESCRIPTION:
URL:https://www.ludlowtaylor.org/event/spirit-week-wear-pink-for-breast-cancer-awareness/
CATEGORIES:Students
END:VEVENT
BEGIN:VEVENT
DTSTART;VALUE=DATE:20231018
DTEND;VALUE=DATE:20231020
DTSTAMP:20260423T072734
CREATED:20230929T090343Z
LAST-MODIFIED:20230929T090343Z
UID:2437-1697659200-1697745599@www.ludlowtaylor.org
SUMMARY:NO SCHOOL
DESCRIPTION:
URL:https://www.ludlowtaylor.org/event/no-school/
CATEGORIES:Students
END:VEVENT
BEGIN:VEVENT
DTSTART;VALUE=DATE:20230921
DTEND;VALUE=DATE:20230923
DTSTAMP:20260423T072734
CREATED:20230823T051934Z
LAST-MODIFIED:20230915T181931Z
UID:1664-1695326400-1695412799@www.ludlowtaylor.org
SUMMARY:Movie Night @ 6:00pm - 9:30pm
DESCRIPTION:Movie night is BACK! Join us on Friday\, September 22 for a screening of The Little Mermaid! The field will open to claim seats @ 6PM & the movie will start at dusk (estimating 7:15PM). Pre-order pizza here! Other concessions will be available on-site. \nInterested in volunteering to help make the night a success? Contact events@ludlowtaylor.org to learn more!
URL:https://www.ludlowtaylor.org/event/movie-night-9-22-2023/
LOCATION:L-T Field
CATEGORIES:Students
END:VEVENT
BEGIN:VEVENT
DTSTART;VALUE=DATE:20230917
DTEND;VALUE=DATE:20230919
DTSTAMP:20260423T072734
CREATED:20230823T051804Z
LAST-MODIFIED:20230912T184951Z
UID:1662-1694980800-1695067199@www.ludlowtaylor.org
SUMMARY:Back to School Night
DESCRIPTION:Back to School Night will be hosted on Monday\, September 18th.  The event will start with an assembly in the cafeteria\, then caregivers will have the opportunity to rotate to several presentations. There will also be presentations from classroom teachers\, our specials team\, wellness team\, and special education staff.  All caregivers are welcome to attend.  We look forward to welcoming you to our school!
URL:https://www.ludlowtaylor.org/event/back-to-school-night/
CATEGORIES:Staff,Students
END:VEVENT
BEGIN:VEVENT
DTSTART;VALUE=DATE:20230910
DTEND;VALUE=DATE:20230912
DTSTAMP:20260423T072734
CREATED:20230823T051600Z
LAST-MODIFIED:20230823T052406Z
UID:1658-1694376000-1694462399@www.ludlowtaylor.org
SUMMARY:Future Stars Enrichments Session 1 Begins
DESCRIPTION:
URL:https://www.ludlowtaylor.org/event/future-stars-enrichments-session-1-begins/
CATEGORIES:Students
END:VEVENT
BEGIN:VEVENT
DTSTART;VALUE=DATE:20230825
DTEND;VALUE=DATE:20230827
DTSTAMP:20260423T072734
CREATED:20230823T042739Z
LAST-MODIFIED:20230823T045503Z
UID:1637-1692993600-1693079999@www.ludlowtaylor.org
SUMMARY:Back to School Event @ 2:00pm - 5:00pm
DESCRIPTION:School tours\, apparel pick-up\, grounds beautification\, free ice pops\, and more!
URL:https://www.ludlowtaylor.org/event/back-to-school-event/
CATEGORIES:Students
END:VEVENT
END:VCALENDAR