BEGIN:VCALENDAR
VERSION:2.0
PRODID:-//Ludlow-Taylor Elementary School - ECPv6.15.20//NONSGML v1.0//EN
CALSCALE:GREGORIAN
METHOD:PUBLISH
X-WR-CALNAME:Ludlow-Taylor Elementary School
X-ORIGINAL-URL:https://www.ludlowtaylor.org
X-WR-CALDESC:Events for Ludlow-Taylor Elementary School
REFRESH-INTERVAL;VALUE=DURATION:PT1H
X-Robots-Tag:noindex
X-PUBLISHED-TTL:PT1H
BEGIN:VTIMEZONE
TZID:America/New_York
BEGIN:DAYLIGHT
TZOFFSETFROM:-0500
TZOFFSETTO:-0400
TZNAME:EDT
DTSTART:20220313T070000
END:DAYLIGHT
BEGIN:STANDARD
TZOFFSETFROM:-0400
TZOFFSETTO:-0500
TZNAME:EST
DTSTART:20221106T060000
END:STANDARD
BEGIN:DAYLIGHT
TZOFFSETFROM:-0500
TZOFFSETTO:-0400
TZNAME:EDT
DTSTART:20230312T070000
END:DAYLIGHT
BEGIN:STANDARD
TZOFFSETFROM:-0400
TZOFFSETTO:-0500
TZNAME:EST
DTSTART:20231105T060000
END:STANDARD
BEGIN:DAYLIGHT
TZOFFSETFROM:-0500
TZOFFSETTO:-0400
TZNAME:EDT
DTSTART:20240310T070000
END:DAYLIGHT
BEGIN:STANDARD
TZOFFSETFROM:-0400
TZOFFSETTO:-0500
TZNAME:EST
DTSTART:20241103T060000
END:STANDARD
BEGIN:DAYLIGHT
TZOFFSETFROM:-0500
TZOFFSETTO:-0400
TZNAME:EDT
DTSTART:20250309T070000
END:DAYLIGHT
BEGIN:STANDARD
TZOFFSETFROM:-0400
TZOFFSETTO:-0500
TZNAME:EST
DTSTART:20251102T060000
END:STANDARD
END:VTIMEZONE
BEGIN:VEVENT
DTSTART;VALUE=DATE:20241013
DTEND;VALUE=DATE:20241015
DTSTAMP:20260425T093828
CREATED:20240927T051445Z
LAST-MODIFIED:20240927T052054Z
UID:4502-1728849600-1728935999@www.ludlowtaylor.org
SUMMARY:NO SCHOOL
DESCRIPTION:Indigenous Peoples’ Day
URL:https://www.ludlowtaylor.org/event/no-school-9/
CATEGORIES:Holidays
END:VEVENT
BEGIN:VEVENT
DTSTART;VALUE=DATE:20240914
DTEND;VALUE=DATE:20240916
DTSTAMP:20260425T093828
CREATED:20240826T215607Z
LAST-MODIFIED:20240826T215607Z
UID:4214-1726344000-1726430399@www.ludlowtaylor.org
SUMMARY:Hispanic Heritage Month Begins
DESCRIPTION:
URL:https://www.ludlowtaylor.org/event/hispanic-heritage-month-begins/
CATEGORIES:Holidays
END:VEVENT
BEGIN:VEVENT
DTSTART;VALUE=DATE:20240414
DTEND;VALUE=DATE:20240420
DTSTAMP:20260425T093828
CREATED:20230929T091246Z
LAST-MODIFIED:20240403T191403Z
UID:2454-1713124800-1713556799@www.ludlowtaylor.org
SUMMARY:NO SCHOOL (Spring Break)
DESCRIPTION:
URL:https://www.ludlowtaylor.org/event/no-school-2/
CATEGORIES:Holidays
END:VEVENT
BEGIN:VEVENT
DTSTART;VALUE=DATE:20231102
DTEND;VALUE=DATE:20231104
DTSTAMP:20260425T093828
CREATED:20231103T103825Z
LAST-MODIFIED:20231103T103825Z
UID:2573-1698955200-1699041599@www.ludlowtaylor.org
SUMMARY:NO SCHOOL
DESCRIPTION:
URL:https://www.ludlowtaylor.org/event/no-school-3/
CATEGORIES:Holidays
END:VEVENT
BEGIN:VEVENT
DTSTART;VALUE=DATE:20231030
DTEND;VALUE=DATE:20231101
DTSTAMP:20260425T093828
CREATED:20230926T005249Z
LAST-MODIFIED:20231030T182022Z
UID:2376-1698696000-1698782399@www.ludlowtaylor.org
SUMMARY:Halloween Parade + Fall Fest
DESCRIPTION:Halloween Parade around the school block begins at 9AM! Parents are encouraged to come out and watch! \nStudents will enjoy Fall Fest activities throughout the school day! Parent volunteers are needed to make this event a success. Sign up here if you are able to help out.
URL:https://www.ludlowtaylor.org/event/halloween/
CATEGORIES:Holidays,Students
END:VEVENT
BEGIN:VEVENT
DTSTART;VALUE=DATE:20231008
DTEND;VALUE=DATE:20231010
DTSTAMP:20260425T093828
CREATED:20230929T085927Z
LAST-MODIFIED:20230929T085927Z
UID:2427-1696795200-1696881599@www.ludlowtaylor.org
SUMMARY:NO SCHOOL (Indigenous Peoples’ Day)
DESCRIPTION:
URL:https://www.ludlowtaylor.org/event/no-school-indigenous-peoples-day/
CATEGORIES:Holidays
END:VEVENT
BEGIN:VEVENT
DTSTART;VALUE=DATE:20230903
DTEND;VALUE=DATE:20230905
DTSTAMP:20260425T093828
CREATED:20230823T053015Z
LAST-MODIFIED:20230823T053015Z
UID:1672-1693771200-1693857599@www.ludlowtaylor.org
SUMMARY:NO SCHOOL: Labor Day
DESCRIPTION:
URL:https://www.ludlowtaylor.org/event/no-school-labor-day/
CATEGORIES:Holidays
END:VEVENT
END:VCALENDAR