BEGIN:VCALENDAR
VERSION:2.0
PRODID:-//Ludlow-Taylor Elementary School - ECPv6.15.20//NONSGML v1.0//EN
CALSCALE:GREGORIAN
METHOD:PUBLISH
X-WR-CALNAME:Ludlow-Taylor Elementary School
X-ORIGINAL-URL:https://www.ludlowtaylor.org
X-WR-CALDESC:Events for Ludlow-Taylor Elementary School
REFRESH-INTERVAL;VALUE=DURATION:PT1H
X-Robots-Tag:noindex
X-PUBLISHED-TTL:PT1H
BEGIN:VTIMEZONE
TZID:America/New_York
BEGIN:DAYLIGHT
TZOFFSETFROM:-0500
TZOFFSETTO:-0400
TZNAME:EDT
DTSTART:20250309T070000
END:DAYLIGHT
BEGIN:STANDARD
TZOFFSETFROM:-0400
TZOFFSETTO:-0500
TZNAME:EST
DTSTART:20251102T060000
END:STANDARD
BEGIN:DAYLIGHT
TZOFFSETFROM:-0500
TZOFFSETTO:-0400
TZNAME:EDT
DTSTART:20260308T070000
END:DAYLIGHT
BEGIN:STANDARD
TZOFFSETFROM:-0400
TZOFFSETTO:-0500
TZNAME:EST
DTSTART:20261101T060000
END:STANDARD
BEGIN:DAYLIGHT
TZOFFSETFROM:-0500
TZOFFSETTO:-0400
TZNAME:EDT
DTSTART:20270314T070000
END:DAYLIGHT
BEGIN:STANDARD
TZOFFSETFROM:-0400
TZOFFSETTO:-0500
TZNAME:EST
DTSTART:20271107T060000
END:STANDARD
END:VTIMEZONE
BEGIN:VEVENT
DTSTART;VALUE=DATE:20260425
DTEND;VALUE=DATE:20260426
DTSTAMP:20260425T061857
CREATED:20260330T195231Z
LAST-MODIFIED:20260330T195231Z
UID:6950-1777075200-1777161599@www.ludlowtaylor.org
SUMMARY:Warriors Stay & Play Enrollment Day (11 AM -2 PM\, LT)
DESCRIPTION:On Saturday\, April 25th Ludlow Taylor’s Administration and PTO will be hosting an “Enrollment Day”. At this time\, in addition to having a crazy amount of fun (Schoolwide LT Playdate / Grounds Clean up /Uniform Swap/ Warrior Table/ Apparel Sales Table / Frozen Treat Truck – More detail to come!)\, you can schedule a time to meet with the admin team to get your questions answered and get help to get enrolled/re-enrolled. \nPK3-PK4 enrollment appointment link \nK-2 enrollment appointment link \n3-5 enrollment appointments link \n 
URL:https://www.ludlowtaylor.org/event/warriors-stay-play-enrollment-day-11-am-2-pm-lt/
END:VEVENT
END:VCALENDAR