BEGIN:VCALENDAR
VERSION:2.0
PRODID:-//Ludlow-Taylor Elementary School - ECPv6.15.20//NONSGML v1.0//EN
CALSCALE:GREGORIAN
METHOD:PUBLISH
X-WR-CALNAME:Ludlow-Taylor Elementary School
X-ORIGINAL-URL:https://www.ludlowtaylor.org
X-WR-CALDESC:Events for Ludlow-Taylor Elementary School
REFRESH-INTERVAL;VALUE=DURATION:PT1H
X-Robots-Tag:noindex
X-PUBLISHED-TTL:PT1H
BEGIN:VTIMEZONE
TZID:America/New_York
BEGIN:DAYLIGHT
TZOFFSETFROM:-0500
TZOFFSETTO:-0400
TZNAME:EDT
DTSTART:20250309T070000
END:DAYLIGHT
BEGIN:STANDARD
TZOFFSETFROM:-0400
TZOFFSETTO:-0500
TZNAME:EST
DTSTART:20251102T060000
END:STANDARD
BEGIN:DAYLIGHT
TZOFFSETFROM:-0500
TZOFFSETTO:-0400
TZNAME:EDT
DTSTART:20260308T070000
END:DAYLIGHT
BEGIN:STANDARD
TZOFFSETFROM:-0400
TZOFFSETTO:-0500
TZNAME:EST
DTSTART:20261101T060000
END:STANDARD
BEGIN:DAYLIGHT
TZOFFSETFROM:-0500
TZOFFSETTO:-0400
TZNAME:EDT
DTSTART:20270314T070000
END:DAYLIGHT
BEGIN:STANDARD
TZOFFSETFROM:-0400
TZOFFSETTO:-0500
TZNAME:EST
DTSTART:20271107T060000
END:STANDARD
END:VTIMEZONE
BEGIN:VEVENT
DTSTART;VALUE=DATE:20260411
DTEND;VALUE=DATE:20260413
DTSTAMP:20260425T063047
CREATED:20260330T194356Z
LAST-MODIFIED:20260330T194356Z
UID:6938-1775865600-1776038399@www.ludlowtaylor.org
SUMMARY:Playground Closed (Garden Refresh)
DESCRIPTION:With construction now complete\, we’re excited to share that a garden is getting an exciting makeover! \nThe community can help bring it to life in two wonderful ways: \n  \n\nShop the May auction for plants\, trees\, and personalized garden plaques that will help beautify the space.\nJoin us during Spring Break to help clear out the current garden and prepare for its transformation. We’d love your helping hands! To volunteer\, please RSVP to Aubryn Walters at aubryn@ffm.org.\n\n  \nTo support this work\, the playground will be closed the weekend of April 11–12 to ensure FoodPrints has full access to the site for construction. \nA huge thank you to our partners at FoodPrints for generously providing the labor\, and to our PTO and LTES community whose support and donations have and will make this full refresh possible.
URL:https://www.ludlowtaylor.org/event/playground-closed-garden-refresh/
END:VEVENT
END:VCALENDAR