BEGIN:VCALENDAR
VERSION:2.0
PRODID:-//Ludlow-Taylor Elementary School - ECPv6.15.20//NONSGML v1.0//EN
CALSCALE:GREGORIAN
METHOD:PUBLISH
X-ORIGINAL-URL:https://www.ludlowtaylor.org
X-WR-CALDESC:Events for Ludlow-Taylor Elementary School
REFRESH-INTERVAL;VALUE=DURATION:PT1H
X-Robots-Tag:noindex
X-PUBLISHED-TTL:PT1H
BEGIN:VTIMEZONE
TZID:America/New_York
BEGIN:DAYLIGHT
TZOFFSETFROM:-0500
TZOFFSETTO:-0400
TZNAME:EDT
DTSTART:20250309T070000
END:DAYLIGHT
BEGIN:STANDARD
TZOFFSETFROM:-0400
TZOFFSETTO:-0500
TZNAME:EST
DTSTART:20251102T060000
END:STANDARD
BEGIN:DAYLIGHT
TZOFFSETFROM:-0500
TZOFFSETTO:-0400
TZNAME:EDT
DTSTART:20260308T070000
END:DAYLIGHT
BEGIN:STANDARD
TZOFFSETFROM:-0400
TZOFFSETTO:-0500
TZNAME:EST
DTSTART:20261101T060000
END:STANDARD
BEGIN:DAYLIGHT
TZOFFSETFROM:-0500
TZOFFSETTO:-0400
TZNAME:EDT
DTSTART:20270314T070000
END:DAYLIGHT
BEGIN:STANDARD
TZOFFSETFROM:-0400
TZOFFSETTO:-0500
TZNAME:EST
DTSTART:20271107T060000
END:STANDARD
END:VTIMEZONE
BEGIN:VEVENT
DTSTART;VALUE=DATE:20260410
DTEND;VALUE=DATE:20260411
DTSTAMP:20260425T071401
CREATED:20251007T161038Z
LAST-MODIFIED:20251007T161038Z
UID:6266-1775779200-1775865599@www.ludlowtaylor.org
SUMMARY:School wide Birthday Celebration
DESCRIPTION:Reach out to your room parent(s) for more information.
URL:https://www.ludlowtaylor.org/event/school-wide-birthday-celebration-7/
END:VEVENT
BEGIN:VEVENT
DTSTART;VALUE=DATE:20260410
DTEND;VALUE=DATE:20260411
DTSTAMP:20260425T071401
CREATED:20260330T193805Z
LAST-MODIFIED:20260330T193805Z
UID:6926-1775779200-1775865599@www.ludlowtaylor.org
SUMMARY:Week of the Young Child - Family Friday
DESCRIPTION:ECE cookout – Whole ECE family event at LT \nRSVP and Volunteer to the Family ECE Cookout on 4/10.
URL:https://www.ludlowtaylor.org/event/week-of-the-young-child-family-friday/
END:VEVENT
BEGIN:VEVENT
DTSTART;VALUE=DATE:20260410
DTEND;VALUE=DATE:20260411
DTSTAMP:20260425T071401
CREATED:20260330T194201Z
LAST-MODIFIED:20260330T194201Z
UID:6934-1775779200-1775865599@www.ludlowtaylor.org
SUMMARY:3rd Grade Field Trip to the Capitol
DESCRIPTION:
URL:https://www.ludlowtaylor.org/event/3rd-grade-field-trip-to-the-capitol-2/
END:VEVENT
BEGIN:VEVENT
DTSTART;VALUE=DATE:20260410
DTEND;VALUE=DATE:20260411
DTSTAMP:20260425T071401
CREATED:20260330T194229Z
LAST-MODIFIED:20260330T194229Z
UID:6936-1775779200-1775865599@www.ludlowtaylor.org
SUMMARY:Spring Performance (School Only)
DESCRIPTION:
URL:https://www.ludlowtaylor.org/event/spring-performance-school-only/
END:VEVENT
END:VCALENDAR