BEGIN:VCALENDAR
VERSION:2.0
PRODID:-//Ludlow-Taylor Elementary School - ECPv6.15.20//NONSGML v1.0//EN
CALSCALE:GREGORIAN
METHOD:PUBLISH
X-WR-CALNAME:Ludlow-Taylor Elementary School
X-ORIGINAL-URL:https://www.ludlowtaylor.org
X-WR-CALDESC:Events for Ludlow-Taylor Elementary School
REFRESH-INTERVAL;VALUE=DURATION:PT1H
X-Robots-Tag:noindex
X-PUBLISHED-TTL:PT1H
BEGIN:VTIMEZONE
TZID:America/New_York
BEGIN:DAYLIGHT
TZOFFSETFROM:-0500
TZOFFSETTO:-0400
TZNAME:EDT
DTSTART:20250309T070000
END:DAYLIGHT
BEGIN:STANDARD
TZOFFSETFROM:-0400
TZOFFSETTO:-0500
TZNAME:EST
DTSTART:20251102T060000
END:STANDARD
BEGIN:DAYLIGHT
TZOFFSETFROM:-0500
TZOFFSETTO:-0400
TZNAME:EDT
DTSTART:20260308T070000
END:DAYLIGHT
BEGIN:STANDARD
TZOFFSETFROM:-0400
TZOFFSETTO:-0500
TZNAME:EST
DTSTART:20261101T060000
END:STANDARD
BEGIN:DAYLIGHT
TZOFFSETFROM:-0500
TZOFFSETTO:-0400
TZNAME:EDT
DTSTART:20270314T070000
END:DAYLIGHT
BEGIN:STANDARD
TZOFFSETFROM:-0400
TZOFFSETTO:-0500
TZNAME:EST
DTSTART:20271107T060000
END:STANDARD
END:VTIMEZONE
BEGIN:VEVENT
DTSTART;VALUE=DATE:20260313
DTEND;VALUE=DATE:20260314
DTSTAMP:20260425T080254
CREATED:20250720T010955Z
LAST-MODIFIED:20250827T202019Z
UID:5604-1773360000-1773446399@www.ludlowtaylor.org
SUMMARY:No School (Teacher Wellness Day)
DESCRIPTION:
URL:https://www.ludlowtaylor.org/event/no-school-teacher-wellness-day/
CATEGORIES:Students
END:VEVENT
BEGIN:VEVENT
DTSTART;VALUE=DATE:20260313
DTEND;VALUE=DATE:20260314
DTSTAMP:20260425T080254
CREATED:20260224T183044Z
LAST-MODIFIED:20260224T183044Z
UID:6848-1773360000-1773446399@www.ludlowtaylor.org
SUMMARY:LAST DAY for Early Bird Warrior's Night Out Ticket Sales
DESCRIPTION:What:  Warriors’ Night Out Annual Celebration and Auction \nWhen: Saturday\, May 2\, 2026\, 7pm – 10pm \nWho: LT families\, teachers\, staff\, and community members (adults only) \nWhy: To celebrate the 2025-26 school year and raise money for LTES \nWhere: Ivy City Smokehouse\, 1356 Okie St NE\, Washington\, DC 20002 \nHow: TICKETS ARE NOW ON SALE! \nEARLY BIRD BENEFIT:  Buy before March 13 (the next long weekend) and you’ll be entered into a drawing for $250 in credit for the auction. Every ticket purchase includes a drawing entry (family sponsorships include 5 entries)\, but only before March 13! \nPurchase tickets to attend yourself\, or support teachers and staff attending through donated tickets. All L-T teachers and staff are invited to attend the auction for free with a guest thanks to tickets generously purchased for them by the community.  \nStay tuned for more info on the event and ways to get involved\, including family-hosted experiences\, donations\, and sponsorships.  \nQuestions about buying tickets\, the various ticket options\, or Warriors Night Out in general? Please reach out to auction@ludlowtaylor.org and we’d be happy to chat!
URL:https://www.ludlowtaylor.org/event/last-day-for-early-bird-warriors-night-out-ticket-sales/
END:VEVENT
END:VCALENDAR