BEGIN:VCALENDAR
VERSION:2.0
PRODID:-//Ludlow-Taylor Elementary School - ECPv6.15.20//NONSGML v1.0//EN
CALSCALE:GREGORIAN
METHOD:PUBLISH
X-ORIGINAL-URL:https://www.ludlowtaylor.org
X-WR-CALDESC:Events for Ludlow-Taylor Elementary School
REFRESH-INTERVAL;VALUE=DURATION:PT1H
X-Robots-Tag:noindex
X-PUBLISHED-TTL:PT1H
BEGIN:VTIMEZONE
TZID:America/New_York
BEGIN:DAYLIGHT
TZOFFSETFROM:-0500
TZOFFSETTO:-0400
TZNAME:EDT
DTSTART:20240310T070000
END:DAYLIGHT
BEGIN:STANDARD
TZOFFSETFROM:-0400
TZOFFSETTO:-0500
TZNAME:EST
DTSTART:20241103T060000
END:STANDARD
BEGIN:DAYLIGHT
TZOFFSETFROM:-0500
TZOFFSETTO:-0400
TZNAME:EDT
DTSTART:20250309T070000
END:DAYLIGHT
BEGIN:STANDARD
TZOFFSETFROM:-0400
TZOFFSETTO:-0500
TZNAME:EST
DTSTART:20251102T060000
END:STANDARD
BEGIN:DAYLIGHT
TZOFFSETFROM:-0500
TZOFFSETTO:-0400
TZNAME:EDT
DTSTART:20260308T070000
END:DAYLIGHT
BEGIN:STANDARD
TZOFFSETFROM:-0400
TZOFFSETTO:-0500
TZNAME:EST
DTSTART:20261101T060000
END:STANDARD
END:VTIMEZONE
BEGIN:VEVENT
DTSTART;VALUE=DATE:20250910
DTEND;VALUE=DATE:20250911
DTSTAMP:20260422T104039
CREATED:20250801T000131Z
LAST-MODIFIED:20250902T175232Z
UID:5770-1757462400-1757548799@www.ludlowtaylor.org
SUMMARY:Events Committee Kick-off Meeting (6:30pm)
DESCRIPTION:Co-chaired by Rashonda Riddle and Laura Miller\, the Events Committee spearheads LT many community events.  \n\nJoin us at Senate Square (201 I St NE) to learn more. Refreshments will be served.\nCan’t make it? No problem\, sign up here to stay up-to-date\n\n👉Email events@ludlowtaylor.org with questions
URL:https://www.ludlowtaylor.org/event/events-committee-kick-off-meeting-2/
END:VEVENT
BEGIN:VEVENT
DTSTART;VALUE=DATE:20250910
DTEND;VALUE=DATE:20250911
DTSTAMP:20260422T104039
CREATED:20250908T181406Z
LAST-MODIFIED:20250908T181406Z
UID:6106-1757462400-1757548799@www.ludlowtaylor.org
SUMMARY:School Wide Birthday Celebration (K-5)
DESCRIPTION:Once a month there is a date set by the admin as the all-school birthday celebration date for the month. This is the only date when a food treat can be brought into the school. The students eat treats in the cafeteria (where they also have lunch) which keep crumbs (and therefore critters) out of the classrooms. By doing all birthday celebrations on the same date\, it helps ensure all kids who share a lunch period are getting a special treat on the same day and no one is feeling left out.
URL:https://www.ludlowtaylor.org/event/school-wide-birthday-celebration-k-5/
END:VEVENT
END:VCALENDAR