BEGIN:VCALENDAR
VERSION:2.0
PRODID:-//Ludlow-Taylor Elementary School - ECPv6.15.20//NONSGML v1.0//EN
CALSCALE:GREGORIAN
METHOD:PUBLISH
X-WR-CALNAME:Ludlow-Taylor Elementary School
X-ORIGINAL-URL:https://www.ludlowtaylor.org
X-WR-CALDESC:Events for Ludlow-Taylor Elementary School
REFRESH-INTERVAL;VALUE=DURATION:PT1H
X-Robots-Tag:noindex
X-PUBLISHED-TTL:PT1H
BEGIN:VTIMEZONE
TZID:America/New_York
BEGIN:DAYLIGHT
TZOFFSETFROM:-0500
TZOFFSETTO:-0400
TZNAME:EDT
DTSTART:20240310T070000
END:DAYLIGHT
BEGIN:STANDARD
TZOFFSETFROM:-0400
TZOFFSETTO:-0500
TZNAME:EST
DTSTART:20241103T060000
END:STANDARD
BEGIN:DAYLIGHT
TZOFFSETFROM:-0500
TZOFFSETTO:-0400
TZNAME:EDT
DTSTART:20250309T070000
END:DAYLIGHT
BEGIN:STANDARD
TZOFFSETFROM:-0400
TZOFFSETTO:-0500
TZNAME:EST
DTSTART:20251102T060000
END:STANDARD
BEGIN:DAYLIGHT
TZOFFSETFROM:-0500
TZOFFSETTO:-0400
TZNAME:EDT
DTSTART:20260308T070000
END:DAYLIGHT
BEGIN:STANDARD
TZOFFSETFROM:-0400
TZOFFSETTO:-0500
TZNAME:EST
DTSTART:20261101T060000
END:STANDARD
END:VTIMEZONE
BEGIN:VEVENT
DTSTART;VALUE=DATE:20250908
DTEND;VALUE=DATE:20250909
DTSTAMP:20260422T103925
CREATED:20250819T195440Z
LAST-MODIFIED:20250825T021556Z
UID:5880-1757289600-1757375999@www.ludlowtaylor.org
SUMMARY:Session 1 of TFS Enrichments/Clubs & MWF/RWF friends
DESCRIPTION:This is a reminder of several upcoming deadlines for our programs: \n  \n\nClub Zone Registration for August 25th attendance \n\nFamilies must register their students by today\, August 15th at 9:00 PM.\nIf your student is currently enrolled in Club Zone but was initially enrolled in Aftercare\, you must notify us after completing Club Zone registration so we can cancel all upcoming Aftercare payments. We are human\, if you did email about aftercare cancellations\, please check your account to make sure that it reflects the request. \n\n \nTutoring Enrollment \n\nTutoring registration will close on August 17th. This allows our team time to review student data and group students according to their academic needs.\nFamilies can expect to receive a registration link no later than August 31st. You will only receive communication from Ms. M if your student received a spot. \n\n \nExtended Care Financial Assistance \n\nIf you need financial assistance for Extended Care starting August 25th\, please reach out to Ms. Isaacs at aisaacs@thefuturestars.net no later than August 21st.\n\n\n\nWe rely heavily on PTO communication – you’ll receive a lot of emails from them but it’s the best way to stay in the loop about everything. To join their listserv please Click HERE. (Highly Recommended to stay in the loop) 
URL:https://www.ludlowtaylor.org/event/session-1-of-tfs-enrichments-clubs-mwf-rwf-friends/
END:VEVENT
END:VCALENDAR