BEGIN:VCALENDAR
VERSION:2.0
PRODID:-//Ludlow-Taylor Elementary School - ECPv6.15.20//NONSGML v1.0//EN
CALSCALE:GREGORIAN
METHOD:PUBLISH
X-ORIGINAL-URL:https://www.ludlowtaylor.org
X-WR-CALDESC:Events for Ludlow-Taylor Elementary School
REFRESH-INTERVAL;VALUE=DURATION:PT1H
X-Robots-Tag:noindex
X-PUBLISHED-TTL:PT1H
BEGIN:VTIMEZONE
TZID:America/New_York
BEGIN:DAYLIGHT
TZOFFSETFROM:-0500
TZOFFSETTO:-0400
TZNAME:EDT
DTSTART:20240310T070000
END:DAYLIGHT
BEGIN:STANDARD
TZOFFSETFROM:-0400
TZOFFSETTO:-0500
TZNAME:EST
DTSTART:20241103T060000
END:STANDARD
BEGIN:DAYLIGHT
TZOFFSETFROM:-0500
TZOFFSETTO:-0400
TZNAME:EDT
DTSTART:20250309T070000
END:DAYLIGHT
BEGIN:STANDARD
TZOFFSETFROM:-0400
TZOFFSETTO:-0500
TZNAME:EST
DTSTART:20251102T060000
END:STANDARD
BEGIN:DAYLIGHT
TZOFFSETFROM:-0500
TZOFFSETTO:-0400
TZNAME:EDT
DTSTART:20260308T070000
END:DAYLIGHT
BEGIN:STANDARD
TZOFFSETFROM:-0400
TZOFFSETTO:-0500
TZNAME:EST
DTSTART:20261101T060000
END:STANDARD
END:VTIMEZONE
BEGIN:VEVENT
DTSTART;VALUE=DATE:20250608
DTEND;VALUE=DATE:20250610
DTSTAMP:20260422T060029
CREATED:20250528T185050Z
LAST-MODIFIED:20250528T185050Z
UID:5489-1749412800-1749499199@www.ludlowtaylor.org
SUMMARY:Ms. Blackstone's PK 3/Ms. A. Henderson's Class Promotion Ceremonies (9:15am)
DESCRIPTION:
URL:https://www.ludlowtaylor.org/event/ms-blackstones-pk-3-ms-a-hendersons-class-promotion-ceremonies-915am/
END:VEVENT
BEGIN:VEVENT
DTSTART;VALUE=DATE:20250608
DTEND;VALUE=DATE:20250610
DTSTAMP:20260422T060029
CREATED:20250528T185743Z
LAST-MODIFIED:20250528T185743Z
UID:5503-1749412800-1749499199@www.ludlowtaylor.org
SUMMARY:5th Grade vs. Staff Kickball Game (1 PM)
DESCRIPTION:
URL:https://www.ludlowtaylor.org/event/5th-grade-vs-staff-kickball-game-1-pm/
END:VEVENT
BEGIN:VEVENT
DTSTART;VALUE=DATE:20250608
DTEND;VALUE=DATE:20250610
DTSTAMP:20260422T060029
CREATED:20250528T190120Z
LAST-MODIFIED:20250528T190120Z
UID:5509-1749412800-1749499199@www.ludlowtaylor.org
SUMMARY:PTO and LSAT Election Voting Closes
DESCRIPTION:
URL:https://www.ludlowtaylor.org/event/pto-and-lsat-election-voting-closes/
END:VEVENT
BEGIN:VEVENT
DTSTART;VALUE=DATE:20250609
DTEND;VALUE=DATE:20250611
DTSTAMP:20260422T060029
CREATED:20250528T185223Z
LAST-MODIFIED:20250528T185223Z
UID:5491-1749499200-1749585599@www.ludlowtaylor.org
SUMMARY:Ms. Brown's PK3 Class (9:30am) and Ms. Sackeyfio's PK3 Class (10:30am) Promotion Ceremonies
DESCRIPTION:
URL:https://www.ludlowtaylor.org/event/ms-browns-pk3-class-930am-and-ms-sackeyfios-pk3-class-1030am-promotion-ceremonies/
END:VEVENT
BEGIN:VEVENT
DTSTART;VALUE=DATE:20250609
DTEND;VALUE=DATE:20250611
DTSTAMP:20260422T060029
CREATED:20250528T185651Z
LAST-MODIFIED:20250528T185651Z
UID:5501-1749499200-1749585599@www.ludlowtaylor.org
SUMMARY:5th Grade Boat Trip
DESCRIPTION:
URL:https://www.ludlowtaylor.org/event/5th-grade-boat-trip/
END:VEVENT
END:VCALENDAR