BEGIN:VCALENDAR
VERSION:2.0
PRODID:-//Ludlow-Taylor Elementary School - ECPv6.15.20//NONSGML v1.0//EN
CALSCALE:GREGORIAN
METHOD:PUBLISH
X-WR-CALNAME:Ludlow-Taylor Elementary School
X-ORIGINAL-URL:https://www.ludlowtaylor.org
X-WR-CALDESC:Events for Ludlow-Taylor Elementary School
REFRESH-INTERVAL;VALUE=DURATION:PT1H
X-Robots-Tag:noindex
X-PUBLISHED-TTL:PT1H
BEGIN:VTIMEZONE
TZID:America/New_York
BEGIN:DAYLIGHT
TZOFFSETFROM:-0500
TZOFFSETTO:-0400
TZNAME:EDT
DTSTART:20230312T070000
END:DAYLIGHT
BEGIN:STANDARD
TZOFFSETFROM:-0400
TZOFFSETTO:-0500
TZNAME:EST
DTSTART:20231105T060000
END:STANDARD
BEGIN:DAYLIGHT
TZOFFSETFROM:-0500
TZOFFSETTO:-0400
TZNAME:EDT
DTSTART:20240310T070000
END:DAYLIGHT
BEGIN:STANDARD
TZOFFSETFROM:-0400
TZOFFSETTO:-0500
TZNAME:EST
DTSTART:20241103T060000
END:STANDARD
BEGIN:DAYLIGHT
TZOFFSETFROM:-0500
TZOFFSETTO:-0400
TZNAME:EDT
DTSTART:20250309T070000
END:DAYLIGHT
BEGIN:STANDARD
TZOFFSETFROM:-0400
TZOFFSETTO:-0500
TZNAME:EST
DTSTART:20251102T060000
END:STANDARD
BEGIN:DAYLIGHT
TZOFFSETFROM:-0500
TZOFFSETTO:-0400
TZNAME:EDT
DTSTART:20260308T070000
END:DAYLIGHT
BEGIN:STANDARD
TZOFFSETFROM:-0400
TZOFFSETTO:-0500
TZNAME:EST
DTSTART:20261101T060000
END:STANDARD
END:VTIMEZONE
BEGIN:VEVENT
DTSTART;VALUE=DATE:20241222
DTEND;VALUE=DATE:20250102
DTSTAMP:20260422T103929
CREATED:20240927T052306Z
LAST-MODIFIED:20240927T052306Z
UID:4512-1734894000-1735757999@www.ludlowtaylor.org
SUMMARY:NO SCHOOL
DESCRIPTION:Winter Break
URL:https://www.ludlowtaylor.org/event/no-school-14/
END:VEVENT
BEGIN:VEVENT
DTSTART;VALUE=DATE:20241224
DTEND;VALUE=DATE:20241226
DTSTAMP:20260422T103929
CREATED:20240927T052618Z
LAST-MODIFIED:20240927T052630Z
UID:4516-1735066800-1735153199@www.ludlowtaylor.org
SUMMARY:Christmas Day | First Night of Hanukkah
DESCRIPTION:
URL:https://www.ludlowtaylor.org/event/christmas-day-first-night-o-hanukkah/
CATEGORIES:Holidays
END:VEVENT
BEGIN:VEVENT
DTSTART;VALUE=DATE:20241224
DTEND;VALUE=DATE:20241226
DTSTAMP:20260422T103929
CREATED:20241022T231701Z
LAST-MODIFIED:20241022T231701Z
UID:4733-1735066800-1735153199@www.ludlowtaylor.org
SUMMARY:First Night of Hanukkah
DESCRIPTION:
URL:https://www.ludlowtaylor.org/event/first-night-of-hanukkah/
CATEGORIES:Holidays
END:VEVENT
BEGIN:VEVENT
DTSTART;VALUE=DATE:20241225
DTEND;VALUE=DATE:20241227
DTSTAMP:20260422T103929
CREATED:20240927T052743Z
LAST-MODIFIED:20240927T052743Z
UID:4519-1735153200-1735239599@www.ludlowtaylor.org
SUMMARY:First Day of Kwanzaa
DESCRIPTION:
URL:https://www.ludlowtaylor.org/event/first-day-of-kwanzaa/
CATEGORIES:Holidays
END:VEVENT
END:VCALENDAR