BEGIN:VCALENDAR
VERSION:2.0
PRODID:-//Ludlow-Taylor Elementary School - ECPv6.15.20//NONSGML v1.0//EN
CALSCALE:GREGORIAN
METHOD:PUBLISH
X-WR-CALNAME:Ludlow-Taylor Elementary School
X-ORIGINAL-URL:https://www.ludlowtaylor.org
X-WR-CALDESC:Events for Ludlow-Taylor Elementary School
REFRESH-INTERVAL;VALUE=DURATION:PT1H
X-Robots-Tag:noindex
X-PUBLISHED-TTL:PT1H
BEGIN:VTIMEZONE
TZID:America/New_York
BEGIN:DAYLIGHT
TZOFFSETFROM:-0500
TZOFFSETTO:-0400
TZNAME:EDT
DTSTART:20230312T070000
END:DAYLIGHT
BEGIN:STANDARD
TZOFFSETFROM:-0400
TZOFFSETTO:-0500
TZNAME:EST
DTSTART:20231105T060000
END:STANDARD
BEGIN:DAYLIGHT
TZOFFSETFROM:-0500
TZOFFSETTO:-0400
TZNAME:EDT
DTSTART:20240310T070000
END:DAYLIGHT
BEGIN:STANDARD
TZOFFSETFROM:-0400
TZOFFSETTO:-0500
TZNAME:EST
DTSTART:20241103T060000
END:STANDARD
BEGIN:DAYLIGHT
TZOFFSETFROM:-0500
TZOFFSETTO:-0400
TZNAME:EDT
DTSTART:20250309T070000
END:DAYLIGHT
BEGIN:STANDARD
TZOFFSETFROM:-0400
TZOFFSETTO:-0500
TZNAME:EST
DTSTART:20251102T060000
END:STANDARD
END:VTIMEZONE
BEGIN:VEVENT
DTSTART;VALUE=DATE:20240919
DTEND;VALUE=DATE:20240921
DTSTAMP:20260422T162100
CREATED:20240826T212635Z
LAST-MODIFIED:20240912T022852Z
UID:4206-1726776000-1726862399@www.ludlowtaylor.org
SUMMARY:Movie Night: Moana (Field Opens at 6PM)
DESCRIPTION:What is Movie Night? The whole school community gets together to watch a free movie on a big screen on L-T’s field. This year’s movie is Moana! \nWhen is Movie Night? The field will open at 6 pm (bring your picnic blanket to snag your spot! Volunteers get to claim spots first!) and the movie will start just after 7 pm (when it’s dark enough to see the screen). \nWill there be food? If you want delicious Stellina pizza during the event\, you must pre-order it here by Thursday 9/19 at 12 pm. There will also be an ice cream truck and a concession stand with fresh popcorn\, drinks\, and snacks. \nHow Do I Help? Hei Hei! We need volunteers! Sign up here and get early access to claim a seat on the field. \nWill There be Photo Ops with Maui? I know it’s a lot–the hair\, the bod. But you’ll get your chance with the demi-god!
URL:https://www.ludlowtaylor.org/event/movie-night/
END:VEVENT
BEGIN:VEVENT
DTSTART;VALUE=DATE:20240919
DTEND;VALUE=DATE:20240921
DTSTAMP:20260422T162100
CREATED:20240917T175630Z
LAST-MODIFIED:20240917T175630Z
UID:4368-1726776000-1726862399@www.ludlowtaylor.org
SUMMARY:The Future Stars Day Off Camps: Registration Opens
DESCRIPTION:The Future Stars Day Off Camps are back! Check out the schedule and sign your kiddos up for exciting clubs\, including Lego\, MoveIT! Sports\, Martial Arts\, Gymnastics\, and more. Each day is designed to inspire creativity\, promote learning\, and ensure tons of fun. Below you’ll find the schedule of which clubs will be leading activities on specific days at each of the two locations. \nSchedule:\n\n\nOctober 10th (Thursday) @ Ludlow:\n\nLego Club\n\n\nOctober 11th (Friday) @ Van Ness:\n\n Lego Club\n\n\nNovember 4th (Monday) @ Van Ness:\n\nLego Club\n\n\nNovember 5th (Tuesday) @ Ludlow:\n\nMove IT! Sports\n\n\nJanuary 17th (Friday) @ Van Ness:\n\nFull Steam Ahead / Dojofly Martial Arts\n\n\nJanuary 27th (Monday) @ Ludlow: \n\nFilm Club / Cyber Pulse\n\n\nMarch 13th (Thursday) @ Ludlow: \n\nLittle Star Gymnastics / The Dancing Stars\n\n\nMarch 14th (Friday) @ Van Ness:\n\nFull Steam Ahead / Dojofly Martial Arts\n\n\nApril 7th (Monday) @ Ludlow: \n\nLittle Star Gymnastics / The Dancing Stars\n\n\nApril 14th-18th (Spring Break) @ Ludlow:\n\nGirl Power & Boys Bunch Camp\nTheatreworkz Drama Club Camp\nThe Future Stars Adventures Camp
URL:https://www.ludlowtaylor.org/event/the-future-stars-day-off-camps-registration-opens/
END:VEVENT
BEGIN:VEVENT
DTSTART;VALUE=DATE:20240920
DTEND;VALUE=DATE:20240922
DTSTAMP:20260422T162100
CREATED:20240826T212857Z
LAST-MODIFIED:20240916T232900Z
UID:4208-1726862400-1726948799@www.ludlowtaylor.org
SUMMARY:Dancing Stars Performance @ H Street Festival (12:30PM)
DESCRIPTION:Come see the Dancing Stars perform their snazziest moves on the stage at the corner of 7th and H Streets NE!
URL:https://www.ludlowtaylor.org/event/dancing-stars-performance-h-street-festival-time-tba/
END:VEVENT
END:VCALENDAR