BEGIN:VCALENDAR
VERSION:2.0
PRODID:-//Ludlow-Taylor Elementary School - ECPv6.15.20//NONSGML v1.0//EN
CALSCALE:GREGORIAN
METHOD:PUBLISH
X-WR-CALNAME:Ludlow-Taylor Elementary School
X-ORIGINAL-URL:https://www.ludlowtaylor.org
X-WR-CALDESC:Events for Ludlow-Taylor Elementary School
REFRESH-INTERVAL;VALUE=DURATION:PT1H
X-Robots-Tag:noindex
X-PUBLISHED-TTL:PT1H
BEGIN:VTIMEZONE
TZID:America/New_York
BEGIN:DAYLIGHT
TZOFFSETFROM:-0500
TZOFFSETTO:-0400
TZNAME:EDT
DTSTART:20230312T070000
END:DAYLIGHT
BEGIN:STANDARD
TZOFFSETFROM:-0400
TZOFFSETTO:-0500
TZNAME:EST
DTSTART:20231105T060000
END:STANDARD
BEGIN:DAYLIGHT
TZOFFSETFROM:-0500
TZOFFSETTO:-0400
TZNAME:EDT
DTSTART:20240310T070000
END:DAYLIGHT
BEGIN:STANDARD
TZOFFSETFROM:-0400
TZOFFSETTO:-0500
TZNAME:EST
DTSTART:20241103T060000
END:STANDARD
BEGIN:DAYLIGHT
TZOFFSETFROM:-0500
TZOFFSETTO:-0400
TZNAME:EDT
DTSTART:20250309T070000
END:DAYLIGHT
BEGIN:STANDARD
TZOFFSETFROM:-0400
TZOFFSETTO:-0500
TZNAME:EST
DTSTART:20251102T060000
END:STANDARD
END:VTIMEZONE
BEGIN:VEVENT
DTSTART;VALUE=DATE:20240830
DTEND;VALUE=DATE:20240901
DTSTAMP:20260422T161334
CREATED:20240815T173523Z
LAST-MODIFIED:20240815T173523Z
UID:4022-1725048000-1725134399@www.ludlowtaylor.org
SUMMARY:Hill Family Biking Back to School Ride and Block Party (10:30 AM)
DESCRIPTION:Come celebrate the new school year with Hill Family Biking on August 31st at 10:30 for the annual Back to School Ride and Block Party  – a 4.5 mile bike ride touring Capitol Hill schools on the northern part of the Hill including Ludlow-Taylor! Join the ride at the Ludlow-Taylor parking lot on 7th St NE or start at the beginning of the ride at Maury Elementary. \nWe’ll end back at Maury for a block party to celebrate the new school year including: \n\nBouncy house\,\nGiant chalk art mural\nFace painting\nDC Public Library Book Bike\nDJ Paul Spires\nMaracas Ice Pops tricycle\nA food truck.\n\nBathrooms will be made available on-site.
URL:https://www.ludlowtaylor.org/event/hill-family-biking-back-to-school-ride-and-block-party-1030-am/
LOCATION:L-T Parking Lot
END:VEVENT
BEGIN:VEVENT
DTSTART;VALUE=DATE:20240830
DTEND;VALUE=DATE:20240901
DTSTAMP:20260422T161334
CREATED:20240826T182323Z
LAST-MODIFIED:20240826T182323Z
UID:4190-1725048000-1725134399@www.ludlowtaylor.org
SUMMARY:Math & Reading w/ Friends Sign-Ups Close @ Midnight
DESCRIPTION:Rising Stars and Future Stars\, with assistance from the PTO\, will again be offering both Math With Friends (“MWF”) and Reading With Friends (“RWF”) this fall!  For new members of the community\, MWF & RWF is LT’s after school tutoring program. Sign-up HERE before today’s deadline.
URL:https://www.ludlowtaylor.org/event/math-reading-w-friends-sign-ups-close-midnight/
END:VEVENT
END:VCALENDAR