BEGIN:VCALENDAR
VERSION:2.0
PRODID:-//Ludlow-Taylor Elementary School - ECPv6.15.20//NONSGML v1.0//EN
CALSCALE:GREGORIAN
METHOD:PUBLISH
X-ORIGINAL-URL:https://www.ludlowtaylor.org
X-WR-CALDESC:Events for Ludlow-Taylor Elementary School
REFRESH-INTERVAL;VALUE=DURATION:PT1H
X-Robots-Tag:noindex
X-PUBLISHED-TTL:PT1H
BEGIN:VTIMEZONE
TZID:America/New_York
BEGIN:DAYLIGHT
TZOFFSETFROM:-0500
TZOFFSETTO:-0400
TZNAME:EDT
DTSTART:20230312T070000
END:DAYLIGHT
BEGIN:STANDARD
TZOFFSETFROM:-0400
TZOFFSETTO:-0500
TZNAME:EST
DTSTART:20231105T060000
END:STANDARD
BEGIN:DAYLIGHT
TZOFFSETFROM:-0500
TZOFFSETTO:-0400
TZNAME:EDT
DTSTART:20240310T070000
END:DAYLIGHT
BEGIN:STANDARD
TZOFFSETFROM:-0400
TZOFFSETTO:-0500
TZNAME:EST
DTSTART:20241103T060000
END:STANDARD
BEGIN:DAYLIGHT
TZOFFSETFROM:-0500
TZOFFSETTO:-0400
TZNAME:EDT
DTSTART:20250309T070000
END:DAYLIGHT
BEGIN:STANDARD
TZOFFSETFROM:-0400
TZOFFSETTO:-0500
TZNAME:EST
DTSTART:20251102T060000
END:STANDARD
END:VTIMEZONE
BEGIN:VEVENT
DTSTART;VALUE=DATE:20240825
DTEND;VALUE=DATE:20240827
DTSTAMP:20260422T175423
CREATED:20230823T050257Z
LAST-MODIFIED:20240725T201658Z
UID:1646-1724616000-1724702399@www.ludlowtaylor.org
SUMMARY:First Day of School (K-5)
DESCRIPTION:
URL:https://www.ludlowtaylor.org/event/first-day-of-school-k-5/
CATEGORIES:Staff,Students
END:VEVENT
BEGIN:VEVENT
DTSTART;VALUE=DATE:20240825
DTEND;VALUE=DATE:20240827
DTSTAMP:20260422T175423
CREATED:20240826T181132Z
LAST-MODIFIED:20240826T181132Z
UID:4182-1724616000-1724702399@www.ludlowtaylor.org
SUMMARY:Rising Stars Aftercare Starts
DESCRIPTION:First day of Rising Stars aftercare. If your student is not enrolled in Rising Stars\, drop-in care is available! Email: info@carebyrisingstars.org.
URL:https://www.ludlowtaylor.org/event/rising-stars-aftercare-starts/
END:VEVENT
BEGIN:VEVENT
DTSTART;VALUE=DATE:20240825
DTEND;VALUE=DATE:20240827
DTSTAMP:20260422T175423
CREATED:20240826T181337Z
LAST-MODIFIED:20240826T181337Z
UID:4184-1724616000-1724702399@www.ludlowtaylor.org
SUMMARY:ECE Playdates (PK3 @ 9:30am and PK4 @ 10:30am)
DESCRIPTION:PK3 and PK4 students and families are invited to Sherwood Rec to meet teachers and classmates.
URL:https://www.ludlowtaylor.org/event/ece-playdates-pk3-930am-and-pk4-1030am/
LOCATION:Sherwood Rec Center
END:VEVENT
BEGIN:VEVENT
DTSTART;VALUE=DATE:20240826
DTEND;VALUE=DATE:20240828
DTSTAMP:20260422T175423
CREATED:20240826T181905Z
LAST-MODIFIED:20240826T181905Z
UID:4187-1724702400-1724788799@www.ludlowtaylor.org
SUMMARY:Last Call to Order LT Apparel!
DESCRIPTION:Last call to order LT Apparel this fall! Orders must be place at https://customink.com/s/ludlow by Tuesday for delivery in September.
URL:https://www.ludlowtaylor.org/event/last-call-to-order-lt-apparel/
END:VEVENT
END:VCALENDAR