BEGIN:VCALENDAR
VERSION:2.0
PRODID:-//Ludlow-Taylor Elementary School - ECPv6.15.20//NONSGML v1.0//EN
CALSCALE:GREGORIAN
METHOD:PUBLISH
X-WR-CALNAME:Ludlow-Taylor Elementary School
X-ORIGINAL-URL:https://www.ludlowtaylor.org
X-WR-CALDESC:Events for Ludlow-Taylor Elementary School
REFRESH-INTERVAL;VALUE=DURATION:PT1H
X-Robots-Tag:noindex
X-PUBLISHED-TTL:PT1H
BEGIN:VTIMEZONE
TZID:America/New_York
BEGIN:DAYLIGHT
TZOFFSETFROM:-0500
TZOFFSETTO:-0400
TZNAME:EDT
DTSTART:20220313T070000
END:DAYLIGHT
BEGIN:STANDARD
TZOFFSETFROM:-0400
TZOFFSETTO:-0500
TZNAME:EST
DTSTART:20221106T060000
END:STANDARD
BEGIN:DAYLIGHT
TZOFFSETFROM:-0500
TZOFFSETTO:-0400
TZNAME:EDT
DTSTART:20230312T070000
END:DAYLIGHT
BEGIN:STANDARD
TZOFFSETFROM:-0400
TZOFFSETTO:-0500
TZNAME:EST
DTSTART:20231105T060000
END:STANDARD
BEGIN:DAYLIGHT
TZOFFSETFROM:-0500
TZOFFSETTO:-0400
TZNAME:EDT
DTSTART:20240310T070000
END:DAYLIGHT
BEGIN:STANDARD
TZOFFSETFROM:-0400
TZOFFSETTO:-0500
TZNAME:EST
DTSTART:20241103T060000
END:STANDARD
END:VTIMEZONE
BEGIN:VEVENT
DTSTART;VALUE=DATE:20231214
DTEND;VALUE=DATE:20231216
DTSTAMP:20260425T165910
CREATED:20231213T223649Z
LAST-MODIFIED:20231213T232038Z
UID:2767-1702580400-1702666799@www.ludlowtaylor.org
SUMMARY:Coffee & Doughnuts w/ Principal Miller (8:30AM)
DESCRIPTION:Join us for our monthly Q&A with Principal Miller! Immediately before this month’s event\, we will be selling Holiday Prize Boards & other holiday ornaments (we are sold out of gelt). You can also drop off the holiday gifts for L-T community members in need during this event.
URL:https://www.ludlowtaylor.org/event/coffee-doughnuts-w-principal-miller-830am/
END:VEVENT
BEGIN:VEVENT
DTSTART;VALUE=DATE:20231214
DTEND;VALUE=DATE:20231216
DTSTAMP:20260425T165910
CREATED:20231214T002624Z
LAST-MODIFIED:20231214T002624Z
UID:2803-1702580400-1702666799@www.ludlowtaylor.org
SUMMARY:Open House for Prospective Families (9:30AM)
DESCRIPTION:Join us for an Open House & School Tour from 9:30-10:30AM. \nIf possible\, please RSVP in advance so that we can place you on a tour that highlights your interests (ECE vs upper grades\, etc)
URL:https://www.ludlowtaylor.org/event/open-house-for-prospective-families-930am/
END:VEVENT
END:VCALENDAR