BEGIN:VCALENDAR
VERSION:2.0
PRODID:-//Ludlow-Taylor Elementary School - ECPv6.15.20//NONSGML v1.0//EN
CALSCALE:GREGORIAN
METHOD:PUBLISH
X-WR-CALNAME:Ludlow-Taylor Elementary School
X-ORIGINAL-URL:https://www.ludlowtaylor.org
X-WR-CALDESC:Events for Ludlow-Taylor Elementary School
REFRESH-INTERVAL;VALUE=DURATION:PT1H
X-Robots-Tag:noindex
X-PUBLISHED-TTL:PT1H
BEGIN:VTIMEZONE
TZID:America/New_York
BEGIN:DAYLIGHT
TZOFFSETFROM:-0500
TZOFFSETTO:-0400
TZNAME:EDT
DTSTART:20220313T070000
END:DAYLIGHT
BEGIN:STANDARD
TZOFFSETFROM:-0400
TZOFFSETTO:-0500
TZNAME:EST
DTSTART:20221106T060000
END:STANDARD
BEGIN:DAYLIGHT
TZOFFSETFROM:-0500
TZOFFSETTO:-0400
TZNAME:EDT
DTSTART:20230312T070000
END:DAYLIGHT
BEGIN:STANDARD
TZOFFSETFROM:-0400
TZOFFSETTO:-0500
TZNAME:EST
DTSTART:20231105T060000
END:STANDARD
BEGIN:DAYLIGHT
TZOFFSETFROM:-0500
TZOFFSETTO:-0400
TZNAME:EDT
DTSTART:20240310T070000
END:DAYLIGHT
BEGIN:STANDARD
TZOFFSETFROM:-0400
TZOFFSETTO:-0500
TZNAME:EST
DTSTART:20241103T060000
END:STANDARD
END:VTIMEZONE
BEGIN:VEVENT
DTSTART;VALUE=DATE:20231213
DTEND;VALUE=DATE:20231215
DTSTAMP:20260425T183159
CREATED:20231213T213740Z
LAST-MODIFIED:20231213T230657Z
UID:2764-1702494000-1702580399@www.ludlowtaylor.org
SUMMARY:December LSAT Meeting: 6PM (Virtual)
DESCRIPTION:Zoom Link\n(Meeting ID: 899 4079 0592; Passcode: 149581)\n\nAgenda:\n\n\nApproval of minutes from last meeting \nMath testing data (30 minutes)\nStaffing openings/updates and use of additional budget funds (5-10 min)\nUpdate on school enrollment goal for next year (3 min)\nBroken security camera (3 min)\nBrief nutrition committee update (3 min)\nL-T’s implementation of the DCPS Bullying Prevention Policy (10 min)
URL:https://www.ludlowtaylor.org/event/december-lsat-meeting-6pm-virtual/
CATEGORIES:LSAT
END:VEVENT
BEGIN:VEVENT
DTSTART;VALUE=DATE:20231213
DTEND;VALUE=DATE:20231215
DTSTAMP:20260425T183159
CREATED:20231213T230535Z
LAST-MODIFIED:20231213T230535Z
UID:2774-1702494000-1702580399@www.ludlowtaylor.org
SUMMARY:12 Days of Cheer: Wacky Day (8:00AM)
DESCRIPTION:12 Days of Cheer continues with Wacky Day! Wear your best mismatched outfit! This meeting is at 8:00AM
URL:https://www.ludlowtaylor.org/event/12-days-of-cheer-wacky-day-800am/
END:VEVENT
END:VCALENDAR