BEGIN:VCALENDAR
VERSION:2.0
PRODID:-//Ludlow-Taylor Elementary School - ECPv6.15.20//NONSGML v1.0//EN
CALSCALE:GREGORIAN
METHOD:PUBLISH
X-WR-CALNAME:Ludlow-Taylor Elementary School
X-ORIGINAL-URL:https://www.ludlowtaylor.org
X-WR-CALDESC:Events for Ludlow-Taylor Elementary School
REFRESH-INTERVAL;VALUE=DURATION:PT1H
X-Robots-Tag:noindex
X-PUBLISHED-TTL:PT1H
BEGIN:VTIMEZONE
TZID:America/New_York
BEGIN:DAYLIGHT
TZOFFSETFROM:-0500
TZOFFSETTO:-0400
TZNAME:EDT
DTSTART:20220313T070000
END:DAYLIGHT
BEGIN:STANDARD
TZOFFSETFROM:-0400
TZOFFSETTO:-0500
TZNAME:EST
DTSTART:20221106T060000
END:STANDARD
BEGIN:DAYLIGHT
TZOFFSETFROM:-0500
TZOFFSETTO:-0400
TZNAME:EDT
DTSTART:20230312T070000
END:DAYLIGHT
BEGIN:STANDARD
TZOFFSETFROM:-0400
TZOFFSETTO:-0500
TZNAME:EST
DTSTART:20231105T060000
END:STANDARD
BEGIN:DAYLIGHT
TZOFFSETFROM:-0500
TZOFFSETTO:-0400
TZNAME:EDT
DTSTART:20240310T070000
END:DAYLIGHT
BEGIN:STANDARD
TZOFFSETFROM:-0400
TZOFFSETTO:-0500
TZNAME:EST
DTSTART:20241103T060000
END:STANDARD
END:VTIMEZONE
BEGIN:VEVENT
DTSTART;VALUE=DATE:20231108
DTEND;VALUE=DATE:20231110
DTSTAMP:20260425T183158
CREATED:20231103T104611Z
LAST-MODIFIED:20231103T104611Z
UID:2580-1699470000-1699556399@www.ludlowtaylor.org
SUMMARY:Coffee & Doughnuts w/ the Principal @ 8:30AM
DESCRIPTION:
URL:https://www.ludlowtaylor.org/event/coffee-doughnuts-w-the-principal-830am-2/
END:VEVENT
BEGIN:VEVENT
DTSTART;VALUE=DATE:20231108
DTEND;VALUE=DATE:20231110
DTSTAMP:20260425T183158
CREATED:20231103T104722Z
LAST-MODIFIED:20231110T042631Z
UID:2583-1699470000-1699556399@www.ludlowtaylor.org
SUMMARY:LSAT Meeting @ 6PM (Virtual)
DESCRIPTION:Zoom Details  \nAgenda: \n\nStaffing update (teachers\, aides)\, and discussion of crossing guard coverage\nNutrition Committee – LSAT/community feedback on topics to cover \nReview of math testing data\nTechnology/iPads in classrooms (time permitting – otherwise will cover in December meeting)\n\n  \n 
URL:https://www.ludlowtaylor.org/event/lsat-meeting-6pm-virtual/
END:VEVENT
BEGIN:VEVENT
DTSTART;VALUE=DATE:20231109
DTEND;VALUE=DATE:20231111
DTSTAMP:20260425T183158
CREATED:20231103T104755Z
LAST-MODIFIED:20231103T104755Z
UID:2586-1699556400-1699642799@www.ludlowtaylor.org
SUMMARY:NO SCHOOL
DESCRIPTION:
URL:https://www.ludlowtaylor.org/event/no-school-4/
END:VEVENT
END:VCALENDAR