BEGIN:VCALENDAR
VERSION:2.0
PRODID:-//Ludlow-Taylor Elementary School - ECPv6.15.20//NONSGML v1.0//EN
CALSCALE:GREGORIAN
METHOD:PUBLISH
X-WR-CALNAME:Ludlow-Taylor Elementary School
X-ORIGINAL-URL:https://www.ludlowtaylor.org
X-WR-CALDESC:Events for Ludlow-Taylor Elementary School
REFRESH-INTERVAL;VALUE=DURATION:PT1H
X-Robots-Tag:noindex
X-PUBLISHED-TTL:PT1H
BEGIN:VTIMEZONE
TZID:America/New_York
BEGIN:DAYLIGHT
TZOFFSETFROM:-0500
TZOFFSETTO:-0400
TZNAME:EDT
DTSTART:20220313T070000
END:DAYLIGHT
BEGIN:STANDARD
TZOFFSETFROM:-0400
TZOFFSETTO:-0500
TZNAME:EST
DTSTART:20221106T060000
END:STANDARD
BEGIN:DAYLIGHT
TZOFFSETFROM:-0500
TZOFFSETTO:-0400
TZNAME:EDT
DTSTART:20230312T070000
END:DAYLIGHT
BEGIN:STANDARD
TZOFFSETFROM:-0400
TZOFFSETTO:-0500
TZNAME:EST
DTSTART:20231105T060000
END:STANDARD
BEGIN:DAYLIGHT
TZOFFSETFROM:-0500
TZOFFSETTO:-0400
TZNAME:EDT
DTSTART:20240310T070000
END:DAYLIGHT
BEGIN:STANDARD
TZOFFSETFROM:-0400
TZOFFSETTO:-0500
TZNAME:EST
DTSTART:20241103T060000
END:STANDARD
END:VTIMEZONE
BEGIN:VEVENT
DTSTART;VALUE=DATE:20230930
DTEND;VALUE=DATE:20231002
DTSTAMP:20260425T212516
CREATED:20230927T193628Z
LAST-MODIFIED:20230927T193628Z
UID:2400-1696104000-1696190399@www.ludlowtaylor.org
SUMMARY:Grounds Committee Work Day (10AM-12PM)
DESCRIPTION:Come out and help us keep our school grounds looking sharp! This month’s activities will focus on weeding\, picking up trash\, and fixing the stone steps in the garden. All are welcome–kids and adults!
URL:https://www.ludlowtaylor.org/event/grounds-committee-work-day-10am-12pm/
LOCATION:L-T Field
END:VEVENT
BEGIN:VEVENT
DTSTART;VALUE=DATE:20231001
DTEND;VALUE=DATE:20231003
DTSTAMP:20260425T212516
CREATED:20230929T085540Z
LAST-MODIFIED:20230929T085540Z
UID:2421-1696190400-1696276799@www.ludlowtaylor.org
SUMMARY:Custodial Workers Recognition Day
DESCRIPTION:
URL:https://www.ludlowtaylor.org/event/custodial-workers-recognition-day/
END:VEVENT
END:VCALENDAR